{"text_format":"1","workbook":"xlsx","n_sheets":2,"sheets":["Acido - Base forte","Calcoli"],"not_rendered":{"charts":1,"images":10,"macros":1,"external_links":0,"defined_names":0,"comments":0,"pivot_tables":0},"unopened":[],"bounds":{"document_bytes":16777216,"sheet_cells":100000,"rows_first":2000,"rows_last":500,"rows_between":2000,"halvings":0,"cell_chars":16384,"cell_head_chars":4096},"cells_cut":0,"cells_raw":0,"read":"whole","date_system":"1900"}

{"sheet":"Acido - Base forte","index":0,"n_rows":21,"n_cols":13,"rows_kept":21,"cut":false,"hidden":false,"merged":[]}
[false,"Ka1 =",7.4999999999999997E-3,null,"[acido] =",0.1," M",null,null,1]
[false,"Ka2 =",6.1999999999999999E-8,null,"[base] =",0.1," M"]
[false,"Ka3 =",null,null,"vol. acido =",25," mL"]
[false,null,null,null,null,null,null,null,null,null,null,"1) Blu Bromofenolo"]
[false,null,null,null,null,null,null,null,null,null,null,null,"pKa=4.1 (3.0-4.6)"]
[false,null,null,null,null,null,null,null,null,null,null,"2) Metilarancio"]
[false,null,null,null,null,null,null,null,null,null,null,null,"pKa=3.46 (3.1-4.4)"]
[false,null,null,null,null,null,null,null,null,null,null,"3) Verde Bromocresolo"]
[false,null,null,null,null,null,null,null,null,null,null,null,"pKa=4.9 (3.8-4.6)"]
[null,null,null,null,null,null,null,null,null,null,null,"4) Rosso Metile"]
[null,null,null,null,null,null,null,null,null,null,null,null,"pKa=5.0 (4.4-6.2)"]
[null,null,null,null,null,null,null,null,null,null,null,"5) Blu Bromotimolo"]
[null,null,null,null,null,null,null,null,null,null,null,null,"pKa=7.30 (6.0-7.6)"]
[null,null,null,null,null,null,null,null,null,null,null,"6) Rosso Fenolo"]
[null,null,null,null,null,null,null,null,null,null,null,null,"pKa=7.9 (6.5-8.2)"]
[null,null,null,null,null,null,null,null,null,null,null,"7) Blu Timolo"]
[null,null,null,null,null,null,null,null,null,null,null,null,"pKa=9.2 (8.0-9.6)"]
[null,null,null,null,null,null,null,null,null,null,null,"8) Fenolftaleina"]
[null,null,null,null,null,null,null,null,null,null,null,null,"pKa=9,5 (8,0-9,8)"]
[null,null,null,null,null,null,null,null,null,null,null,"9) Timolftaleina"]
[null,null,null,null,null,null,null,null,null,null,null,null,"pKa=9,7 (9,3-10,5)"]

{"sheet":"Calcoli","index":1,"n_rows":366,"n_cols":11,"rows_kept":366,"cut":false,"hidden":false,"merged":[]}
[]
[]
[]
[]
[]
[]
[]
["Kw",1E-14]
["K1",{"$f":"'Acido - Base forte'!C1","v":7.4999999999999997E-3},{"$f":"IF(B9>0,1,0)","v":1}]
["K2",{"$f":"IF('Acido - Base forte'!$C2>0,IF('Acido - Base forte'!$C2<'Acido - Base forte'!$C1,'Acido - Base forte'!$C2,\"\"), \"\")","v":6.1999999999999999E-8},{"$f":"IF(B10<> \"\",1,0)","v":1}]
["K3",{"$f":"IF('Acido - Base forte'!$C3>0,IF('Acido - Base forte'!$C3<'Acido - Base forte'!$C2,'Acido - Base forte'!$C3,\"\"), \"\")","v":""},{"$f":"IF(B11<> \"\",1,0)","v":0}]
[]
["n",{"$f":"SUM(C9:C11)","v":2}]
[]
[]
[]
[]
[]
[]
["Base Volume","[H+]","pH","Denom.","A1","A2","A3","A1+A2+A3","phi","num","denom"]
[{"$f":"IF((I21*'Acido - Base forte'!$F$3*'Acido - Base forte'!$F$1)/'Acido - Base forte'!$F$2>0,IF((I21*'Acido - Base forte'!$F$3*'Acido - Base forte'!$F$1)/'Acido - Base forte'!$F$2<1.8*Calcoli!$B$13*('Acido - Base forte'!$F$1*'Acido - Base forte'!$F$3/'Acido - Base forte'!$F$2),I21*'Acido - Base forte'!$F$3*'Acido - Base forte'!$F$1/'Acido - Base forte'!$F$2,NA()),NA())","v":{"$error":"#N/A"}},{"$f":"10^-C21","v":1},0,{"$f":"IF(Calcoli!$B$13=3,B21^Calcoli!$B$13+Calcoli!$B$9*B21^2+Calcoli!$B$9*Calcoli!$B$10*B21+Calcoli!$B$9*Calcoli!$B$10*Calcoli!$B$11,IF(Calcoli!$B$13=2,B21^Calcoli!$B$13+Calcoli!$B$9*B21+Calcoli!$B$9*Calcoli!$B$10,B21^Calcoli!$B$13+Calcoli!$B$9))","v":1.0075000004650001},{"$f":"(Calcoli!$B$9*B21^(Calcoli!$B$13-1))/D21","v":7.4441687310555444E-3},{"$f":"IF(Calcoli!$B$13>=2, (Calcoli!$B$9*Calcoli!$B$10*B21^(Calcoli!$B$13-2))/D21,NA())","v":4.6153846132544372E-10},{"$f":"IF(Calcoli!$B$13>=3,(Calcoli!$B$9*Calcoli!$B$10*Calcoli!$B$11*B21^(Calcoli!$B$13-3))/D21,NA())","v":{"$error":"#N/A"}},{"$f":"IF(Calcoli!$B$13=3,(E21+F21*2+G21*3),IF(Calcoli!$B$13=2,(E21+F21*2),E21))","v":7.4441696541324674E-3},{"$f":"(H21-J21)/(1+K21)","v":-0.9084141663950781},{"$f":"(B21-(Calcoli!$B$8/B21))/'Acido - Base forte'!$F$1","v":9.9999999999998987},{"$f":"(B21-(Calcoli!$B$8/B21))/'Acido - Base forte'!$F$2","v":9.9999999999998987}]
[{"$f":"IF((I22*'Acido - Base forte'!$F$3*'Acido - Base forte'!$F$1)/'Acido - Base forte'!$F$2>0,IF((I22*'Acido - Base forte'!$F$3*'Acido - Base forte'!$F$1)/'Acido - Base forte'!$F$2<1.8*Calcoli!$B$13*('Acido - Base forte'!$F$1*'Acido - Base forte'!$F$3/'Acido - Base forte'!$F$2),I22*'Acido - Base forte'!$F$3*'Acido - Base forte'!$F$1/'Acido - Base forte'!$F$2,NA()),NA())","v":{"$error":"#N/A"}},0.79432823472428149,{"$f":"C21+0.1","v":0.1},{"$f":"IF(Calcoli!$B$13=3,B22^Calcoli!$B$13+Calcoli!$B$9*B22^2+Calcoli!$B$9*Calcoli!$B$10*B22+Calcoli!$B$9*Calcoli!$B$10*Calcoli!$B$11,IF(Calcoli!$B$13=2,B22^Calcoli!$B$13+Calcoli!$B$9*B22+Calcoli!$B$9*Calcoli!$B$10,B22^Calcoli!$B$13+Calcoli!$B$9))","v":0.63691480670562539},{"$f":"(Calcoli!$B$9*B22^(Calcoli!$B$13-1))/D22","v":9.3536242174152833E-3},{"$f":"IF(Calcoli!$B$13>=2, (Calcoli!$B$9*Calcoli!$B$10*B22^(Calcoli!$B$13-2))/D22,NA())","v":7.3008194362000063E-10},{"$f":"IF(Calcoli!$B$13>=3,(Calcoli!$B$9*Calcoli!$B$10*Calcoli!$B$11*B22^(Calcoli!$B$13-3))/D22,NA())","v":{"$error":"#N/A"}},{"$f":"IF(Calcoli!$B$13=3,(E22+F22*2+G22*3),IF(Calcoli!$B$13=2,(E22+F22*2),E22))","v":9.3536256775791707E-3},-0.88713834736652653,{"$f":"(B22-(Calcoli!$B$8/B22))/'Acido - Base forte'!$F$1","v":7.9432823472426888},{"$f":"(B22-(Calcoli!$B$8/B22))/'Acido - Base forte'!$F$2","v":7.9432823472426888}]
[{"$f":"IF((I23*'Acido - Base forte'!$F$3*'Acido - Base forte'!$F$1)/'Acido - Base forte'!$F$2>0,IF((I23*'Acido - Base forte'!$F$3*'Acido - Base forte'!$F$1)/'Acido - Base forte'!$F$2<1.8*Calcoli!$B$13*('Acido - Base forte'!$F$1*'Acido - Base forte'!$F$3/'Acido - Base forte'!$F$2),I23*'Acido - Base forte'!$F$3*'Acido - Base forte'!$F$1/'Acido - Base forte'!$F$2,NA()),NA())","v":{"$error":"#N/A"}},0.63095734448019325,0.2,{"$f":"IF(Calcoli!$B$13=3,B23^Calcoli!$B$13+Calcoli!$B$9*B23^2+Calcoli!$B$9*Calcoli!$B$10*B23+Calcoli!$B$9*Calcoli!$B$10*Calcoli!$B$11,IF(Calcoli!$B$13=2,B23^Calcoli!$B$13+Calcoli!$B$9*B23+Calcoli!$B$9*Calcoli!$B$10,B23^Calcoli!$B$13+Calcoli!$B$9))","v":0.40283935110209868},{"$f":"(Calcoli!$B$9*B23^(Calcoli!$B$13-1))/D23","v":1.1747065103384326E-2},{"$f":"IF(Calcoli!$B$13>=2, (Calcoli!$B$9*Calcoli!$B$10*B23^(Calcoli!$B$13-2))/D23,NA())","v":1.154306297852582E-9},{"$f":"IF(Calcoli!$B$13>=3,(Calcoli!$B$9*Calcoli!$B$10*Calcoli!$B$11*B23^(Calcoli!$B$13-3))/D23,NA())","v":{"$error":"#N/A"}},{"$f":"IF(Calcoli!$B$13=3,(E23+F23*2+G23*3),IF(Calcoli!$B$13=2,(E23+F23*2),E23))","v":1.1747067411996923E-2},-0.86158603165393954,{"$f":"(B23-(Calcoli!$B$8/B23))/'Acido - Base forte'!$F$1","v":6.3095734448017735},{"$f":"(B23-(Calcoli!$B$8/B23))/'Acido - Base forte'!$F$2","v":6.3095734448017735}]
[{"$f":"IF((I24*'Acido - Base forte'!$F$3*'Acido - Base forte'!$F$1)/'Acido - Base forte'!$F$2>0,IF((I24*'Acido - Base forte'!$F$3*'Acido - Base forte'!$F$1)/'Acido - Base forte'!$F$2<1.8*Calcoli!$B$13*('Acido - Base forte'!$F$1*'Acido - Base forte'!$F$3/'Acido - Base forte'!$F$2),I24*'Acido - Base forte'!$F$3*'Acido - Base forte'!$F$1/'Acido - Base forte'!$F$2,NA()),NA())","v":{"$error":"#N/A"}},0.50118723362727224,0.30000000000000004,{"$f":"IF(Calcoli!$B$13=3,B24^Calcoli!$B$13+Calcoli!$B$9*B24^2+Calcoli!$B$9*Calcoli!$B$10*B24+Calcoli!$B$9*Calcoli!$B$10*Calcoli!$B$11,IF(Calcoli!$B$13=2,B24^Calcoli!$B$13+Calcoli!$B$9*B24+Calcoli!$B$9*Calcoli!$B$10,B24^Calcoli!$B$13+Calcoli!$B$9))","v":0.25494754786816248},{"$f":"(Calcoli!$B$9*B24^(Calcoli!$B$13-1))/D24","v":1.4743833716527181E-2},{"$f":"IF(Calcoli!$B$13>=2, (Calcoli!$B$9*Calcoli!$B$10*B24^(Calcoli!$B$13-2))/D24,NA())","v":1.8239045791507635E-9},{"$f":"IF(Calcoli!$B$13>=3,(Calcoli!$B$9*Calcoli!$B$10*Calcoli!$B$11*B24^(Calcoli!$B$13-3))/D24,NA())","v":{"$error":"#N/A"}},{"$f":"IF(Calcoli!$B$13=3,(E24+F24*2+G24*3),IF(Calcoli!$B$13=2,(E24+F24*2),E24))","v":1.474383736433634E-2},-0.83121001568148778,{"$f":"(B24-(Calcoli!$B$8/B24))/'Acido - Base forte'!$F$1","v":5.0118723362725222},{"$f":"(B24-(Calcoli!$B$8/B24))/'Acido - Base forte'!$F$2","v":5.0118723362725222}]
[{"$f":"IF((I25*'Acido - Base forte'!$F$3*'Acido - Base forte'!$F$1)/'Acido - Base forte'!$F$2>0,IF((I25*'Acido - Base forte'!$F$3*'Acido - Base forte'!$F$1)/'Acido - Base forte'!$F$2<1.8*Calcoli!$B$13*('Acido - Base forte'!$F$1*'Acido - Base forte'!$F$3/'Acido - Base forte'!$F$2),I25*'Acido - Base forte'!$F$3*'Acido - Base forte'!$F$1/'Acido - Base forte'!$F$2,NA()),NA())","v":{"$error":"#N/A"}},0.3981071705534972,0.4,{"$f":"IF(Calcoli!$B$13=3,B25^Calcoli!$B$13+Calcoli!$B$9*B25^2+Calcoli!$B$9*Calcoli!$B$10*B25+Calcoli!$B$9*Calcoli!$B$10*Calcoli!$B$11,IF(Calcoli!$B$13=2,B25^Calcoli!$B$13+Calcoli!$B$9*B25+Calcoli!$B$9*Calcoli!$B$10,B25^Calcoli!$B$13+Calcoli!$B$9))","v":0.16147512349026255},{"$f":"(Calcoli!$B$9*B25^(Calcoli!$B$13-1))/D25","v":1.849079731052989E-2},{"$f":"IF(Calcoli!$B$13>=2, (Calcoli!$B$9*Calcoli!$B$10*B25^(Calcoli!$B$13-2))/D25,NA())","v":2.8797005380710605E-9},{"$f":"IF(Calcoli!$B$13>=3,(Calcoli!$B$9*Calcoli!$B$10*Calcoli!$B$11*B25^(Calcoli!$B$13-3))/D25,NA())","v":{"$error":"#N/A"}},{"$f":"IF(Calcoli!$B$13=3,(E25+F25*2+G25*3),IF(Calcoli!$B$13=2,(E25+F25*2),E25))","v":1.8490803069930967E-2},-0.79552777729775814,{"$f":"(B25-(Calcoli!$B$8/B25))/'Acido - Base forte'!$F$1","v":3.9810717055347205},{"$f":"(B25-(Calcoli!$B$8/B25))/'Acido - Base forte'!$F$2","v":3.9810717055347205}]
[{"$f":"IF((I26*'Acido - Base forte'!$F$3*'Acido - Base forte'!$F$1)/'Acido - Base forte'!$F$2>0,IF((I26*'Acido - Base forte'!$F$3*'Acido - Base forte'!$F$1)/'Acido - Base forte'!$F$2<1.8*Calcoli!$B$13*('Acido - Base forte'!$F$1*'Acido - Base forte'!$F$3/'Acido - Base forte'!$F$2),I26*'Acido - Base forte'!$F$3*'Acido - Base forte'!$F$1/'Acido - Base forte'!$F$2,NA()),NA())","v":{"$error":"#N/A"}},0.31622776601683794,0.5,{"$f":"IF(Calcoli!$B$13=3,B26^Calcoli!$B$13+Calcoli!$B$9*B26^2+Calcoli!$B$9*Calcoli!$B$10*B26+Calcoli!$B$9*Calcoli!$B$10*Calcoli!$B$11,IF(Calcoli!$B$13=2,B26^Calcoli!$B$13+Calcoli!$B$9*B26+Calcoli!$B$9*Calcoli!$B$10,B26^Calcoli!$B$13+Calcoli!$B$9))","v":0.10237170871012628},{"$f":"(Calcoli!$B$9*B26^(Calcoli!$B$13-1))/D26","v":2.3167614129036049E-2},{"$f":"IF(Calcoli!$B$13>=2, (Calcoli!$B$9*Calcoli!$B$10*B26^(Calcoli!$B$13-2))/D26,NA())","v":4.5422705731784243E-9},{"$f":"IF(Calcoli!$B$13>=3,(Calcoli!$B$9*Calcoli!$B$10*Calcoli!$B$11*B26^(Calcoli!$B$13-3))/D26,NA())","v":{"$error":"#N/A"}},{"$f":"IF(Calcoli!$B$13=3,(E26+F26*2+G26*3),IF(Calcoli!$B$13=2,(E26+F26*2),E26))","v":2.3167623213577196E-2},-0.75418083396861513,{"$f":"(B26-(Calcoli!$B$8/B26))/'Acido - Base forte'!$F$1","v":3.1622776601680629},{"$f":"(B26-(Calcoli!$B$8/B26))/'Acido - Base forte'!$F$2","v":3.1622776601680629}]
[{"$f":"IF((I27*'Acido - Base forte'!$F$3*'Acido - Base forte'!$F$1)/'Acido - Base forte'!$F$2>0,IF((I27*'Acido - Base forte'!$F$3*'Acido - Base forte'!$F$1)/'Acido - Base forte'!$F$2<1.8*Calcoli!$B$13*('Acido - Base forte'!$F$1*'Acido - Base forte'!$F$3/'Acido - Base forte'!$F$2),I27*'Acido - Base forte'!$F$3*'Acido - Base forte'!$F$1/'Acido - Base forte'!$F$2,NA()),NA())","v":{"$error":"#N/A"}},0.25118864315095801,0.6,{"$f":"IF(Calcoli!$B$13=3,B27^Calcoli!$B$13+Calcoli!$B$9*B27^2+Calcoli!$B$9*Calcoli!$B$10*B27+Calcoli!$B$9*Calcoli!$B$10*Calcoli!$B$11,IF(Calcoli!$B$13=2,B27^Calcoli!$B$13+Calcoli!$B$9*B27+Calcoli!$B$9*Calcoli!$B$10,B27^Calcoli!$B$13+Calcoli!$B$9))","v":6.4979649736651518E-2},{"$f":"(Calcoli!$B$9*B27^(Calcoli!$B$13-1))/D27","v":2.8992381942150886E-2},{"$f":"IF(Calcoli!$B$13>=2, (Calcoli!$B$9*Calcoli!$B$10*B27^(Calcoli!$B$13-2))/D27,NA())","v":7.156086588409518E-9},{"$f":"IF(Calcoli!$B$13>=3,(Calcoli!$B$9*Calcoli!$B$10*Calcoli!$B$11*B27^(Calcoli!$B$13-3))/D27,NA())","v":{"$error":"#N/A"}},{"$f":"IF(Calcoli!$B$13=3,(E27+F27*2+G27*3),IF(Calcoli!$B$13=2,(E27+F27*2),E27))","v":2.8992396254324062E-2},-0.70699724597525504,{"$f":"(B27-(Calcoli!$B$8/B27))/'Acido - Base forte'!$F$1","v":2.5118864315091818},{"$f":"(B27-(Calcoli!$B$8/B27))/'Acido - Base forte'!$F$2","v":2.5118864315091818}]
[{"$f":"IF((I28*'Acido - Base forte'!$F$3*'Acido - Base forte'!$F$1)/'Acido - Base forte'!$F$2>0,IF((I28*'Acido - Base forte'!$F$3*'Acido - Base forte'!$F$1)/'Acido - Base forte'!$F$2<1.8*Calcoli!$B$13*('Acido - Base forte'!$F$1*'Acido - Base forte'!$F$3/'Acido - Base forte'!$F$2),I28*'Acido - Base forte'!$F$3*'Acido - Base forte'!$F$1/'Acido - Base forte'!$F$2,NA()),NA())","v":{"$error":"#N/A"}},0.19952623149688795,0.7,{"$f":"IF(Calcoli!$B$13=3,B28^Calcoli!$B$13+Calcoli!$B$9*B28^2+Calcoli!$B$9*Calcoli!$B$10*B28+Calcoli!$B$9*Calcoli!$B$10*Calcoli!$B$11,IF(Calcoli!$B$13=2,B28^Calcoli!$B$13+Calcoli!$B$9*B28+Calcoli!$B$9*Calcoli!$B$10,B28^Calcoli!$B$13+Calcoli!$B$9))","v":4.1307164256576379E-2},{"$f":"(Calcoli!$B$9*B28^(Calcoli!$B$13-1))/D28","v":3.6227292847593989E-2},{"$f":"IF(Calcoli!$B$13>=2, (Calcoli!$B$9*Calcoli!$B$10*B28^(Calcoli!$B$13-2))/D28,NA())","v":1.1257127144136235E-8},{"$f":"IF(Calcoli!$B$13>=3,(Calcoli!$B$9*Calcoli!$B$10*Calcoli!$B$11*B28^(Calcoli!$B$13-3))/D28,NA())","v":{"$error":"#N/A"}},{"$f":"IF(Calcoli!$B$13=3,(E28+F28*2+G28*3),IF(Calcoli!$B$13=2,(E28+F28*2),E28))","v":3.6227315361848277E-2},-0.6540445522305488,{"$f":"(B28-(Calcoli!$B$8/B28))/'Acido - Base forte'!$F$1","v":1.9952623149683781},{"$f":"(B28-(Calcoli!$B$8/B28))/'Acido - Base forte'!$F$2","v":1.9952623149683781}]
[{"$f":"IF((I29*'Acido - Base forte'!$F$3*'Acido - Base forte'!$F$1)/'Acido - Base forte'!$F$2>0,IF((I29*'Acido - Base forte'!$F$3*'Acido - Base forte'!$F$1)/'Acido - Base forte'!$F$2<1.8*Calcoli!$B$13*('Acido - Base forte'!$F$1*'Acido - Base forte'!$F$3/'Acido - Base forte'!$F$2),I29*'Acido - Base forte'!$F$3*'Acido - Base forte'!$F$1/'Acido - Base forte'!$F$2,NA()),NA())","v":{"$error":"#N/A"}},0.15848931924611132,0.79999999999999993,{"$f":"IF(Calcoli!$B$13=3,B29^Calcoli!$B$13+Calcoli!$B$9*B29^2+Calcoli!$B$9*Calcoli!$B$10*B29+Calcoli!$B$9*Calcoli!$B$10*Calcoli!$B$11,IF(Calcoli!$B$13=2,B29^Calcoli!$B$13+Calcoli!$B$9*B29+Calcoli!$B$9*Calcoli!$B$10,B29^Calcoli!$B$13+Calcoli!$B$9))","v":2.6307534674441625E-2},{"$f":"(Calcoli!$B$9*B29^(Calcoli!$B$13-1))/D29","v":4.5183629293118636E-2},{"$f":"IF(Calcoli!$B$13>=2, (Calcoli!$B$9*Calcoli!$B$10*B29^(Calcoli!$B$13-2))/D29,NA())","v":1.7675544506713439E-8},{"$f":"IF(Calcoli!$B$13>=3,(Calcoli!$B$9*Calcoli!$B$10*Calcoli!$B$11*B29^(Calcoli!$B$13-3))/D29,NA())","v":{"$error":"#N/A"}},{"$f":"IF(Calcoli!$B$13=3,(E29+F29*2+G29*3),IF(Calcoli!$B$13=2,(E29+F29*2),E29))","v":4.5183664644207651E-2},-0.59565692397165204,{"$f":"(B29-(Calcoli!$B$8/B29))/'Acido - Base forte'!$F$1","v":1.5848931924604821},{"$f":"(B29-(Calcoli!$B$8/B29))/'Acido - Base forte'!$F$2","v":1.5848931924604821}]
[{"$f":"IF((I30*'Acido - Base forte'!$F$3*'Acido - Base forte'!$F$1)/'Acido - Base forte'!$F$2>0,IF((I30*'Acido - Base forte'!$F$3*'Acido - Base forte'!$F$1)/'Acido - Base forte'!$F$2<1.8*Calcoli!$B$13*('Acido - Base forte'!$F$1*'Acido - Base forte'!$F$3/'Acido - Base forte'!$F$2),I30*'Acido - Base forte'!$F$3*'Acido - Base forte'!$F$1/'Acido - Base forte'!$F$2,NA()),NA())","v":{"$error":"#N/A"}},0.12589254117941673,0.89999999999999991,{"$f":"IF(Calcoli!$B$13=3,B30^Calcoli!$B$13+Calcoli!$B$9*B30^2+Calcoli!$B$9*Calcoli!$B$10*B30+Calcoli!$B$9*Calcoli!$B$10*Calcoli!$B$11,IF(Calcoli!$B$13=2,B30^Calcoli!$B$13+Calcoli!$B$9*B30+Calcoli!$B$9*Calcoli!$B$10,B30^Calcoli!$B$13+Calcoli!$B$9))","v":1.6793126448456763E-2},{"$f":"(Calcoli!$B$9*B30^(Calcoli!$B$13-1))/D30","v":5.6225031219984289E-2},{"$f":"IF(Calcoli!$B$13>=2, (Calcoli!$B$9*Calcoli!$B$10*B30^(Calcoli!$B$13-2))/D30,NA())","v":2.7689900473698398E-8},{"$f":"IF(Calcoli!$B$13>=3,(Calcoli!$B$9*Calcoli!$B$10*Calcoli!$B$11*B30^(Calcoli!$B$13-3))/D30,NA())","v":{"$error":"#N/A"}},{"$f":"IF(Calcoli!$B$13=3,(E30+F30*2+G30*3),IF(Calcoli!$B$13=2,(E30+F30*2),E30))","v":5.6225086599785236E-2},-0.53242144203369568,{"$f":"(B30-(Calcoli!$B$8/B30))/'Acido - Base forte'!$F$1","v":1.2589254117933728},{"$f":"(B30-(Calcoli!$B$8/B30))/'Acido - Base forte'!$F$2","v":1.2589254117933728}]
[{"$f":"IF((I31*'Acido - Base forte'!$F$3*'Acido - Base forte'!$F$1)/'Acido - Base forte'!$F$2>0,IF((I31*'Acido - Base forte'!$F$3*'Acido - Base forte'!$F$1)/'Acido - Base forte'!$F$2<1.8*Calcoli!$B$13*('Acido - Base forte'!$F$1*'Acido - Base forte'!$F$3/'Acido - Base forte'!$F$2),I31*'Acido - Base forte'!$F$3*'Acido - Base forte'!$F$1/'Acido - Base forte'!$F$2,NA()),NA())","v":{"$error":"#N/A"}},0.10000000000000002,0.99999999999999989,{"$f":"IF(Calcoli!$B$13=3,B31^Calcoli!$B$13+Calcoli!$B$9*B31^2+Calcoli!$B$9*Calcoli!$B$10*B31+Calcoli!$B$9*Calcoli!$B$10*Calcoli!$B$11,IF(Calcoli!$B$13=2,B31^Calcoli!$B$13+Calcoli!$B$9*B31+Calcoli!$B$9*Calcoli!$B$10,B31^Calcoli!$B$13+Calcoli!$B$9))","v":1.0750000465000005E-2},{"$f":"(Calcoli!$B$9*B31^(Calcoli!$B$13-1))/D31","v":6.9767438842617741E-2},{"$f":"IF(Calcoli!$B$13>=2, (Calcoli!$B$9*Calcoli!$B$10*B31^(Calcoli!$B$13-2))/D31,NA())","v":4.3255812082422996E-8},{"$f":"IF(Calcoli!$B$13>=3,(Calcoli!$B$9*Calcoli!$B$10*Calcoli!$B$11*B31^(Calcoli!$B$13-3))/D31,NA())","v":{"$error":"#N/A"}},{"$f":"IF(Calcoli!$B$13=3,(E31+F31*2+G31*3),IF(Calcoli!$B$13=2,(E31+F31*2),E31))","v":6.976752535424191E-2},-0.46511623732261165,{"$f":"(B31-(Calcoli!$B$8/B31))/'Acido - Base forte'!$F$1","v":0.99999999999900013},{"$f":"(B31-(Calcoli!$B$8/B31))/'Acido - Base forte'!$F$2","v":0.99999999999900013}]
[{"$f":"IF((I32*'Acido - Base forte'!$F$3*'Acido - Base forte'!$F$1)/'Acido - Base forte'!$F$2>0,IF((I32*'Acido - Base forte'!$F$3*'Acido - Base forte'!$F$1)/'Acido - Base forte'!$F$2<1.8*Calcoli!$B$13*('Acido - Base forte'!$F$1*'Acido - Base forte'!$F$3/'Acido - Base forte'!$F$2),I32*'Acido - Base forte'!$F$3*'Acido - Base forte'!$F$1/'Acido - Base forte'!$F$2,NA()),NA())","v":{"$error":"#N/A"}},9.549925860214363E-2,{"$f":"C31+0.02","v":1.0199999999999998},{"$f":"IF(Calcoli!$B$13=3,B32^Calcoli!$B$13+Calcoli!$B$9*B32^2+Calcoli!$B$9*Calcoli!$B$10*B32+Calcoli!$B$9*Calcoli!$B$10*Calcoli!$B$11,IF(Calcoli!$B$13=2,B32^Calcoli!$B$13+Calcoli!$B$9*B32+Calcoli!$B$9*Calcoli!$B$10,B32^Calcoli!$B$13+Calcoli!$B$9))","v":9.8363532980751817E-3},{"$f":"(Calcoli!$B$9*B32^(Calcoli!$B$13-1))/D32","v":7.2816054671016636E-2},{"$f":"IF(Calcoli!$B$13>=2, (Calcoli!$B$9*Calcoli!$B$10*B32^(Calcoli!$B$13-2))/D32,NA())","v":4.7273617153523058E-8},{"$f":"IF(Calcoli!$B$13>=3,(Calcoli!$B$9*Calcoli!$B$10*Calcoli!$B$11*B32^(Calcoli!$B$13-3))/D32,NA())","v":{"$error":"#N/A"}},{"$f":"IF(Calcoli!$B$13=3,(E32+F32*2+G32*3),IF(Calcoli!$B$13=2,(E32+F32*2),E32))","v":7.2816149218250942E-2},-0.45124285540023923,{"$f":"(B32-(Calcoli!$B$8/B32))/'Acido - Base forte'!$F$1","v":0.95499258602038917},{"$f":"(B32-(Calcoli!$B$8/B32))/'Acido - Base forte'!$F$2","v":0.95499258602038917}]
[{"$f":"IF((I33*'Acido - Base forte'!$F$3*'Acido - Base forte'!$F$1)/'Acido - Base forte'!$F$2>0,IF((I33*'Acido - Base forte'!$F$3*'Acido - Base forte'!$F$1)/'Acido - Base forte'!$F$2<1.8*Calcoli!$B$13*('Acido - Base forte'!$F$1*'Acido - Base forte'!$F$3/'Acido - Base forte'!$F$2),I33*'Acido - Base forte'!$F$3*'Acido - Base forte'!$F$1/'Acido - Base forte'!$F$2,NA()),NA())","v":{"$error":"#N/A"}},9.1201083935590996E-2,{"$f":"C32+0.02","v":1.0399999999999998},{"$f":"IF(Calcoli!$B$13=3,B33^Calcoli!$B$13+Calcoli!$B$9*B33^2+Calcoli!$B$9*Calcoli!$B$10*B33+Calcoli!$B$9*Calcoli!$B$10*Calcoli!$B$11,IF(Calcoli!$B$13=2,B33^Calcoli!$B$13+Calcoli!$B$9*B33+Calcoli!$B$9*Calcoli!$B$10,B33^Calcoli!$B$13+Calcoli!$B$9))","v":9.0016463055436462E-3},{"$f":"(Calcoli!$B$9*B33^(Calcoli!$B$13-1))/D33","v":7.598700352131002E-2},{"$f":"IF(Calcoli!$B$13>=2, (Calcoli!$B$9*Calcoli!$B$10*B33^(Calcoli!$B$13-2))/D33,NA())","v":5.1657217381850549E-8},{"$f":"IF(Calcoli!$B$13>=3,(Calcoli!$B$9*Calcoli!$B$10*Calcoli!$B$11*B33^(Calcoli!$B$13-3))/D33,NA())","v":{"$error":"#N/A"}},{"$f":"IF(Calcoli!$B$13=3,(E33+F33*2+G33*3),IF(Calcoli!$B$13=2,(E33+F33*2),E33))","v":7.5987106835744778E-2},-0.43724842731601643,{"$f":"(B33-(Calcoli!$B$8/B33))/'Acido - Base forte'!$F$1","v":0.91201083935481342},{"$f":"(B33-(Calcoli!$B$8/B33))/'Acido - Base forte'!$F$2","v":0.91201083935481342}]
[{"$f":"IF((I34*'Acido - Base forte'!$F$3*'Acido - Base forte'!$F$1)/'Acido - Base forte'!$F$2>0,IF((I34*'Acido - Base forte'!$F$3*'Acido - Base forte'!$F$1)/'Acido - Base forte'!$F$2<1.8*Calcoli!$B$13*('Acido - Base forte'!$F$1*'Acido - Base forte'!$F$3/'Acido - Base forte'!$F$2),I34*'Acido - Base forte'!$F$3*'Acido - Base forte'!$F$1/'Acido - Base forte'!$F$2,NA()),NA())","v":{"$error":"#N/A"}},8.7096358995608095E-2,1.0599999999999998,{"$f":"IF(Calcoli!$B$13=3,B34^Calcoli!$B$13+Calcoli!$B$9*B34^2+Calcoli!$B$9*Calcoli!$B$10*B34+Calcoli!$B$9*Calcoli!$B$10*Calcoli!$B$11,IF(Calcoli!$B$13=2,B34^Calcoli!$B$13+Calcoli!$B$9*B34+Calcoli!$B$9*Calcoli!$B$10,B34^Calcoli!$B$13+Calcoli!$B$9))","v":8.2389989077589036E-3},{"$f":"(Calcoli!$B$9*B34^(Calcoli!$B$13-1))/D34","v":7.9284230982468257E-2},{"$f":"IF(Calcoli!$B$13>=2, (Calcoli!$B$9*Calcoli!$B$10*B34^(Calcoli!$B$13-2))/D34,NA())","v":5.6438895696672088E-8},{"$f":"IF(Calcoli!$B$13>=3,(Calcoli!$B$9*Calcoli!$B$10*Calcoli!$B$11*B34^(Calcoli!$B$13-3))/D34,NA())","v":{"$error":"#N/A"}},{"$f":"IF(Calcoli!$B$13=3,(E34+F34*2+G34*3),IF(Calcoli!$B$13=2,(E34+F34*2),E34))","v":7.9284343860259648E-2},-0.42313984641130453,{"$f":"(B34-(Calcoli!$B$8/B34))/'Acido - Base forte'!$F$1","v":0.87096358995493284},{"$f":"(B34-(Calcoli!$B$8/B34))/'Acido - Base forte'!$F$2","v":0.87096358995493284}]
[{"$f":"IF((I35*'Acido - Base forte'!$F$3*'Acido - Base forte'!$F$1)/'Acido - Base forte'!$F$2>0,IF((I35*'Acido - Base forte'!$F$3*'Acido - Base forte'!$F$1)/'Acido - Base forte'!$F$2<1.8*Calcoli!$B$13*('Acido - Base forte'!$F$1*'Acido - Base forte'!$F$3/'Acido - Base forte'!$F$2),I35*'Acido - Base forte'!$F$3*'Acido - Base forte'!$F$1/'Acido - Base forte'!$F$2,NA()),NA())","v":{"$error":"#N/A"}},8.3176377110267111E-2,1.0799999999999998,{"$f":"IF(Calcoli!$B$13=3,B35^Calcoli!$B$13+Calcoli!$B$9*B35^2+Calcoli!$B$9*Calcoli!$B$10*B35+Calcoli!$B$9*Calcoli!$B$10*Calcoli!$B$11,IF(Calcoli!$B$13=2,B35^Calcoli!$B$13+Calcoli!$B$9*B35+Calcoli!$B$9*Calcoli!$B$10,B35^Calcoli!$B$13+Calcoli!$B$9))","v":7.5421330025163703E-3},{"$f":"(Calcoli!$B$9*B35^(Calcoli!$B$13-1))/D35","v":8.2711724669781078E-2},{"$f":"IF(Calcoli!$B$13>=2, (Calcoli!$B$9*Calcoli!$B$10*B35^(Calcoli!$B$13-2))/D35,NA())","v":6.1653646235734183E-8},{"$f":"IF(Calcoli!$B$13>=3,(Calcoli!$B$9*Calcoli!$B$10*Calcoli!$B$11*B35^(Calcoli!$B$13-3))/D35,NA())","v":{"$error":"#N/A"}},{"$f":"IF(Calcoli!$B$13=3,(E35+F35*2+G35*3),IF(Calcoli!$B$13=2,(E35+F35*2),E35))","v":8.2711847977073552E-2},-0.40892386613475729,{"$f":"(B35-(Calcoli!$B$8/B35))/'Acido - Base forte'!$F$1","v":0.83176377110146882},{"$f":"(B35-(Calcoli!$B$8/B35))/'Acido - Base forte'!$F$2","v":0.83176377110146882}]
[{"$f":"IF((I36*'Acido - Base forte'!$F$3*'Acido - Base forte'!$F$1)/'Acido - Base forte'!$F$2>0,IF((I36*'Acido - Base forte'!$F$3*'Acido - Base forte'!$F$1)/'Acido - Base forte'!$F$2<1.8*Calcoli!$B$13*('Acido - Base forte'!$F$1*'Acido - Base forte'!$F$3/'Acido - Base forte'!$F$2),I36*'Acido - Base forte'!$F$3*'Acido - Base forte'!$F$1/'Acido - Base forte'!$F$2,NA()),NA())","v":{"$error":"#N/A"}},7.9432823472428138E-2,1.0999999999999999,{"$f":"IF(Calcoli!$B$13=3,B36^Calcoli!$B$13+Calcoli!$B$9*B36^2+Calcoli!$B$9*Calcoli!$B$10*B36+Calcoli!$B$9*Calcoli!$B$10*Calcoli!$B$11,IF(Calcoli!$B$13=2,B36^Calcoli!$B$13+Calcoli!$B$9*B36+Calcoli!$B$9*Calcoli!$B$10,B36^Calcoli!$B$13+Calcoli!$B$9))","v":6.9053200858451413E-3},{"$f":"(Calcoli!$B$9*B36^(Calcoli!$B$13-1))/D36","v":8.6273506316441484E-2},{"$f":"IF(Calcoli!$B$13>=2, (Calcoli!$B$9*Calcoli!$B$10*B36^(Calcoli!$B$13-2))/D36,NA())","v":6.7339383869138738E-8},{"$f":"IF(Calcoli!$B$13>=3,(Calcoli!$B$9*Calcoli!$B$10*Calcoli!$B$11*B36^(Calcoli!$B$13-3))/D36,NA())","v":{"$error":"#N/A"}},{"$f":"IF(Calcoli!$B$13=3,(E36+F36*2+G36*3),IF(Calcoli!$B$13=2,(E36+F36*2),E36))","v":8.6273640995209219E-2},-0.39460706242362087,{"$f":"(B36-(Calcoli!$B$8/B36))/'Acido - Base forte'!$F$1","v":0.79432823472302239},{"$f":"(B36-(Calcoli!$B$8/B36))/'Acido - Base forte'!$F$2","v":0.79432823472302239}]
[{"$f":"IF((I37*'Acido - Base forte'!$F$3*'Acido - Base forte'!$F$1)/'Acido - Base forte'!$F$2>0,IF((I37*'Acido - Base forte'!$F$3*'Acido - Base forte'!$F$1)/'Acido - Base forte'!$F$2<1.8*Calcoli!$B$13*('Acido - Base forte'!$F$1*'Acido - Base forte'!$F$3/'Acido - Base forte'!$F$2),I37*'Acido - Base forte'!$F$3*'Acido - Base forte'!$F$1/'Acido - Base forte'!$F$2,NA()),NA())","v":{"$error":"#N/A"}},7.5857757502918385E-2,1.1199999999999999,{"$f":"IF(Calcoli!$B$13=3,B37^Calcoli!$B$13+Calcoli!$B$9*B37^2+Calcoli!$B$9*Calcoli!$B$10*B37+Calcoli!$B$9*Calcoli!$B$10*Calcoli!$B$11,IF(Calcoli!$B$13=2,B37^Calcoli!$B$13+Calcoli!$B$9*B37+Calcoli!$B$9*Calcoli!$B$10,B37^Calcoli!$B$13+Calcoli!$B$9))","v":6.3233330196434592E-3},{"$f":"(Calcoli!$B$9*B37^(Calcoli!$B$13-1))/D37","v":8.9973623009336173E-2},{"$f":"IF(Calcoli!$B$13>=2, (Calcoli!$B$9*Calcoli!$B$10*B37^(Calcoli!$B$13-2))/D37,NA())","v":7.3537167591122538E-8},{"$f":"IF(Calcoli!$B$13>=3,(Calcoli!$B$9*Calcoli!$B$10*Calcoli!$B$11*B37^(Calcoli!$B$13-3))/D37,NA())","v":{"$error":"#N/A"}},{"$f":"IF(Calcoli!$B$13=3,(E37+F37*2+G37*3),IF(Calcoli!$B$13=2,(E37+F37*2),E37))","v":8.9973770083671356E-2},-0.3801957982624678,{"$f":"(B37-(Calcoli!$B$8/B37))/'Acido - Base forte'!$F$1","v":0.7585775750278656},{"$f":"(B37-(Calcoli!$B$8/B37))/'Acido - Base forte'!$F$2","v":0.7585775750278656}]
[{"$f":"IF((I38*'Acido - Base forte'!$F$3*'Acido - Base forte'!$F$1)/'Acido - Base forte'!$F$2>0,IF((I38*'Acido - Base forte'!$F$3*'Acido - Base forte'!$F$1)/'Acido - Base forte'!$F$2<1.8*Calcoli!$B$13*('Acido - Base forte'!$F$1*'Acido - Base forte'!$F$3/'Acido - Base forte'!$F$2),I38*'Acido - Base forte'!$F$3*'Acido - Base forte'!$F$1/'Acido - Base forte'!$F$2,NA()),NA())","v":{"$error":"#N/A"}},7.2443596007498987E-2,1.1399999999999999,{"$f":"IF(Calcoli!$B$13=3,B38^Calcoli!$B$13+Calcoli!$B$9*B38^2+Calcoli!$B$9*Calcoli!$B$10*B38+Calcoli!$B$9*Calcoli!$B$10*Calcoli!$B$11,IF(Calcoli!$B$13=2,B38^Calcoli!$B$13+Calcoli!$B$9*B38+Calcoli!$B$9*Calcoli!$B$10,B38^Calcoli!$B$13+Calcoli!$B$9))","v":5.7914020375539653E-3},{"$f":"(Calcoli!$B$9*B38^(Calcoli!$B$13-1))/D38","v":9.3816137531650259E-2},{"$f":"IF(Calcoli!$B$13>=2, (Calcoli!$B$9*Calcoli!$B$10*B38^(Calcoli!$B$13-2))/D38,NA())","v":8.0291438408996319E-8},{"$f":"IF(Calcoli!$B$13>=3,(Calcoli!$B$9*Calcoli!$B$10*Calcoli!$B$11*B38^(Calcoli!$B$13-3))/D38,NA())","v":{"$error":"#N/A"}},{"$f":"IF(Calcoli!$B$13=3,(E38+F38*2+G38*3),IF(Calcoli!$B$13=2,(E38+F38*2),E38))","v":9.3816298114527075E-2},-0.36569619084733285,{"$f":"(B38-(Calcoli!$B$8/B38))/'Acido - Base forte'!$F$1","v":0.72443596007360944},{"$f":"(B38-(Calcoli!$B$8/B38))/'Acido - Base forte'!$F$2","v":0.72443596007360944}]
[{"$f":"IF((I39*'Acido - Base forte'!$F$3*'Acido - Base forte'!$F$1)/'Acido - Base forte'!$F$2>0,IF((I39*'Acido - Base forte'!$F$3*'Acido - Base forte'!$F$1)/'Acido - Base forte'!$F$2<1.8*Calcoli!$B$13*('Acido - Base forte'!$F$1*'Acido - Base forte'!$F$3/'Acido - Base forte'!$F$2),I39*'Acido - Base forte'!$F$3*'Acido - Base forte'!$F$1/'Acido - Base forte'!$F$2,NA()),NA())","v":{"$error":"#N/A"}},6.9183097091893644E-2,1.1599999999999999,{"$f":"IF(Calcoli!$B$13=3,B39^Calcoli!$B$13+Calcoli!$B$9*B39^2+Calcoli!$B$9*Calcoli!$B$10*B39+Calcoli!$B$9*Calcoli!$B$10*Calcoli!$B$11,IF(Calcoli!$B$13=2,B39^Calcoli!$B$13+Calcoli!$B$9*B39+Calcoli!$B$9*Calcoli!$B$10,B39^Calcoli!$B$13+Calcoli!$B$9))","v":5.3051746164155854E-3},{"$f":"(Calcoli!$B$9*B39^(Calcoli!$B$13-1))/D39","v":9.7805117777589087E-2},{"$f":"IF(Calcoli!$B$13>=2, (Calcoli!$B$9*Calcoli!$B$10*B39^(Calcoli!$B$13-2))/D39,NA())","v":8.7650272351294423E-8},{"$f":"IF(Calcoli!$B$13>=3,(Calcoli!$B$9*Calcoli!$B$10*Calcoli!$B$11*B39^(Calcoli!$B$13-3))/D39,NA())","v":{"$error":"#N/A"}},{"$f":"IF(Calcoli!$B$13=3,(E39+F39*2+G39*3),IF(Calcoli!$B$13=2,(E39+F39*2),E39))","v":9.7805293078133793E-2},-0.3511140817555865,{"$f":"(B39-(Calcoli!$B$8/B39))/'Acido - Base forte'!$F$1","v":0.69183097091749102},{"$f":"(B39-(Calcoli!$B$8/B39))/'Acido - Base forte'!$F$2","v":0.69183097091749102}]
[{"$f":"IF((I40*'Acido - Base forte'!$F$3*'Acido - Base forte'!$F$1)/'Acido - Base forte'!$F$2>0,IF((I40*'Acido - Base forte'!$F$3*'Acido - Base forte'!$F$1)/'Acido - Base forte'!$F$2<1.8*Calcoli!$B$13*('Acido - Base forte'!$F$1*'Acido - Base forte'!$F$3/'Acido - Base forte'!$F$2),I40*'Acido - Base forte'!$F$3*'Acido - Base forte'!$F$1/'Acido - Base forte'!$F$2,NA()),NA())","v":{"$error":"#N/A"}},6.6069344800759586E-2,1.18,{"$f":"IF(Calcoli!$B$13=3,B40^Calcoli!$B$13+Calcoli!$B$9*B40^2+Calcoli!$B$9*Calcoli!$B$10*B40+Calcoli!$B$9*Calcoli!$B$10*Calcoli!$B$11,IF(Calcoli!$B$13=2,B40^Calcoli!$B$13+Calcoli!$B$9*B40+Calcoli!$B$9*Calcoli!$B$10,B40^Calcoli!$B$13+Calcoli!$B$9))","v":4.8606788734073545E-3},{"$f":"(Calcoli!$B$9*B40^(Calcoli!$B$13-1))/D40","v":0.1019446252079466},{"$f":"IF(Calcoli!$B$13>=2, (Calcoli!$B$9*Calcoli!$B$10*B40^(Calcoli!$B$13-2))/D40,NA())","v":9.5665649204682641E-8},{"$f":"IF(Calcoli!$B$13>=3,(Calcoli!$B$9*Calcoli!$B$10*Calcoli!$B$11*B40^(Calcoli!$B$13-3))/D40,NA())","v":{"$error":"#N/A"}},{"$f":"IF(Calcoli!$B$13=3,(E40+F40*2+G40*3),IF(Calcoli!$B$13=2,(E40+F40*2),E40))","v":0.10194481653924502},-0.33645501048836007,{"$f":"(B40-(Calcoli!$B$8/B40))/'Acido - Base forte'!$F$1","v":0.66069344800608232},{"$f":"(B40-(Calcoli!$B$8/B40))/'Acido - Base forte'!$F$2","v":0.66069344800608232}]
[{"$f":"IF((I41*'Acido - Base forte'!$F$3*'Acido - Base forte'!$F$1)/'Acido - Base forte'!$F$2>0,IF((I41*'Acido - Base forte'!$F$3*'Acido - Base forte'!$F$1)/'Acido - Base forte'!$F$2<1.8*Calcoli!$B$13*('Acido - Base forte'!$F$1*'Acido - Base forte'!$F$3/'Acido - Base forte'!$F$2),I41*'Acido - Base forte'!$F$3*'Acido - Base forte'!$F$1/'Acido - Base forte'!$F$2,NA()),NA())","v":{"$error":"#N/A"}},6.3095734448019317E-2,1.2,{"$f":"IF(Calcoli!$B$13=3,B41^Calcoli!$B$13+Calcoli!$B$9*B41^2+Calcoli!$B$9*Calcoli!$B$10*B41+Calcoli!$B$9*Calcoli!$B$10*Calcoli!$B$11,IF(Calcoli!$B$13=2,B41^Calcoli!$B$13+Calcoli!$B$9*B41+Calcoli!$B$9*Calcoli!$B$10,B41^Calcoli!$B$13+Calcoli!$B$9))","v":4.4542901788951171E-3},{"$f":"(Calcoli!$B$9*B41^(Calcoli!$B$13-1))/D41","v":0.10623870231946275},{"$f":"IF(Calcoli!$B$13>=2, (Calcoli!$B$9*Calcoli!$B$10*B41^(Calcoli!$B$13-2))/D41,NA())","v":1.0439373757085194E-7},{"$f":"IF(Calcoli!$B$13>=3,(Calcoli!$B$9*Calcoli!$B$10*Calcoli!$B$11*B41^(Calcoli!$B$13-3))/D41,NA())","v":{"$error":"#N/A"}},{"$f":"IF(Calcoli!$B$13=3,(E41+F41*2+G41*3),IF(Calcoli!$B$13=2,(E41+F41*2),E41))","v":0.10623891110693789},-0.32172419171355748,{"$f":"(B41-(Calcoli!$B$8/B41))/'Acido - Base forte'!$F$1","v":0.6309573444786083},{"$f":"(B41-(Calcoli!$B$8/B41))/'Acido - Base forte'!$F$2","v":0.6309573444786083}]
[{"$f":"IF((I42*'Acido - Base forte'!$F$3*'Acido - Base forte'!$F$1)/'Acido - Base forte'!$F$2>0,IF((I42*'Acido - Base forte'!$F$3*'Acido - Base forte'!$F$1)/'Acido - Base forte'!$F$2<1.8*Calcoli!$B$13*('Acido - Base forte'!$F$1*'Acido - Base forte'!$F$3/'Acido - Base forte'!$F$2),I42*'Acido - Base forte'!$F$3*'Acido - Base forte'!$F$1/'Acido - Base forte'!$F$2,NA()),NA())","v":{"$error":"#N/A"}},6.0255958607435746E-2,1.22,{"$f":"IF(Calcoli!$B$13=3,B42^Calcoli!$B$13+Calcoli!$B$9*B42^2+Calcoli!$B$9*Calcoli!$B$10*B42+Calcoli!$B$9*Calcoli!$B$10*Calcoli!$B$11,IF(Calcoli!$B$13=2,B42^Calcoli!$B$13+Calcoli!$B$9*B42+Calcoli!$B$9*Calcoli!$B$10,B42^Calcoli!$B$13+Calcoli!$B$9))","v":4.0827007022567786E-3},{"$f":"(Calcoli!$B$9*B42^(Calcoli!$B$13-1))/D42","v":0.11069135910598643},{"$f":"IF(Calcoli!$B$13>=2, (Calcoli!$B$9*Calcoli!$B$10*B42^(Calcoli!$B$13-2))/D42,NA())","v":1.1389519681003404E-7},{"$f":"IF(Calcoli!$B$13>=3,(Calcoli!$B$9*Calcoli!$B$10*Calcoli!$B$11*B42^(Calcoli!$B$13-3))/D42,NA())","v":{"$error":"#N/A"}},{"$f":"IF(Calcoli!$B$13=3,(E42+F42*2+G42*3),IF(Calcoli!$B$13=2,(E42+F42*2),E42))","v":0.11069158689638005},-0.30692649649409354,{"$f":"(B42-(Calcoli!$B$8/B42))/'Acido - Base forte'!$F$1","v":0.60255958607269788},{"$f":"(B42-(Calcoli!$B$8/B42))/'Acido - Base forte'!$F$2","v":0.60255958607269788}]
[{"$f":"IF((I43*'Acido - Base forte'!$F$3*'Acido - Base forte'!$F$1)/'Acido - Base forte'!$F$2>0,IF((I43*'Acido - Base forte'!$F$3*'Acido - Base forte'!$F$1)/'Acido - Base forte'!$F$2<1.8*Calcoli!$B$13*('Acido - Base forte'!$F$1*'Acido - Base forte'!$F$3/'Acido - Base forte'!$F$2),I43*'Acido - Base forte'!$F$3*'Acido - Base forte'!$F$1/'Acido - Base forte'!$F$2,NA()),NA())","v":{"$error":"#N/A"}},5.7543993733715687E-2,1.24,{"$f":"IF(Calcoli!$B$13=3,B43^Calcoli!$B$13+Calcoli!$B$9*B43^2+Calcoli!$B$9*Calcoli!$B$10*B43+Calcoli!$B$9*Calcoli!$B$10*Calcoli!$B$11,IF(Calcoli!$B$13=2,B43^Calcoli!$B$13+Calcoli!$B$9*B43+Calcoli!$B$9*Calcoli!$B$10,B43^Calcoli!$B$13+Calcoli!$B$9))","v":3.7428916328287776E-3},{"$f":"(Calcoli!$B$9*B43^(Calcoli!$B$13-1))/D43","v":0.11530655849544086},{"$f":"IF(Calcoli!$B$13>=2, (Calcoli!$B$9*Calcoli!$B$10*B43^(Calcoli!$B$13-2))/D43,NA())","v":1.2423549640644161E-7},{"$f":"IF(Calcoli!$B$13>=3,(Calcoli!$B$9*Calcoli!$B$10*Calcoli!$B$11*B43^(Calcoli!$B$13-3))/D43,NA())","v":{"$error":"#N/A"}},{"$f":"IF(Calcoli!$B$13=3,(E43+F43*2+G43*3),IF(Calcoli!$B$13=2,(E43+F43*2),E43))","v":0.11530680696643367},-0.29206643773879443,{"$f":"(B43-(Calcoli!$B$8/B43))/'Acido - Base forte'!$F$1","v":0.57543993733541909},{"$f":"(B43-(Calcoli!$B$8/B43))/'Acido - Base forte'!$F$2","v":0.57543993733541909}]
[{"$f":"IF((I44*'Acido - Base forte'!$F$3*'Acido - Base forte'!$F$1)/'Acido - Base forte'!$F$2>0,IF((I44*'Acido - Base forte'!$F$3*'Acido - Base forte'!$F$1)/'Acido - Base forte'!$F$2<1.8*Calcoli!$B$13*('Acido - Base forte'!$F$1*'Acido - Base forte'!$F$3/'Acido - Base forte'!$F$2),I44*'Acido - Base forte'!$F$3*'Acido - Base forte'!$F$1/'Acido - Base forte'!$F$2,NA()),NA())","v":{"$error":"#N/A"}},5.4954087385762435E-2,1.26,{"$f":"IF(Calcoli!$B$13=3,B44^Calcoli!$B$13+Calcoli!$B$9*B44^2+Calcoli!$B$9*Calcoli!$B$10*B44+Calcoli!$B$9*Calcoli!$B$10*Calcoli!$B$11,IF(Calcoli!$B$13=2,B44^Calcoli!$B$13+Calcoli!$B$9*B44+Calcoli!$B$9*Calcoli!$B$10,B44^Calcoli!$B$13+Calcoli!$B$9))","v":3.4321078407952323E-3},{"$f":"(Calcoli!$B$9*B44^(Calcoli!$B$13-1))/D44","v":0.1200882007535405},{"$f":"IF(Calcoli!$B$13>=2, (Calcoli!$B$9*Calcoli!$B$10*B44^(Calcoli!$B$13-2))/D44,NA())","v":1.3548525325249037E-7},{"$f":"IF(Calcoli!$B$13>=3,(Calcoli!$B$9*Calcoli!$B$10*Calcoli!$B$11*B44^(Calcoli!$B$13-3))/D44,NA())","v":{"$error":"#N/A"}},{"$f":"IF(Calcoli!$B$13=3,(E44+F44*2+G44*3),IF(Calcoli!$B$13=2,(E44+F44*2),E44))","v":0.12008847172404701},-0.27714816006313436,{"$f":"(B44-(Calcoli!$B$8/B44))/'Acido - Base forte'!$F$1","v":0.54954087385580463},{"$f":"(B44-(Calcoli!$B$8/B44))/'Acido - Base forte'!$F$2","v":0.54954087385580463}]
[{"$f":"IF((I45*'Acido - Base forte'!$F$3*'Acido - Base forte'!$F$1)/'Acido - Base forte'!$F$2>0,IF((I45*'Acido - Base forte'!$F$3*'Acido - Base forte'!$F$1)/'Acido - Base forte'!$F$2<1.8*Calcoli!$B$13*('Acido - Base forte'!$F$1*'Acido - Base forte'!$F$3/'Acido - Base forte'!$F$2),I45*'Acido - Base forte'!$F$3*'Acido - Base forte'!$F$1/'Acido - Base forte'!$F$2,NA()),NA())","v":{"$error":"#N/A"}},5.2480746024977244E-2,1.28,{"$f":"IF(Calcoli!$B$13=3,B45^Calcoli!$B$13+Calcoli!$B$9*B45^2+Calcoli!$B$9*Calcoli!$B$10*B45+Calcoli!$B$9*Calcoli!$B$10*Calcoli!$B$11,IF(Calcoli!$B$13=2,B45^Calcoli!$B$13+Calcoli!$B$9*B45+Calcoli!$B$9*Calcoli!$B$10,B45^Calcoli!$B$13+Calcoli!$B$9))","v":3.1478347635254937E-3},{"$f":"(Calcoli!$B$9*B45^(Calcoli!$B$13-1))/D45","v":0.12504010685316316},{"$f":"IF(Calcoli!$B$13>=2, (Calcoli!$B$9*Calcoli!$B$10*B45^(Calcoli!$B$13-2))/D45,NA())","v":1.4772058730275029E-7},{"$f":"IF(Calcoli!$B$13>=3,(Calcoli!$B$9*Calcoli!$B$10*Calcoli!$B$11*B45^(Calcoli!$B$13-3))/D45,NA())","v":{"$error":"#N/A"}},{"$f":"IF(Calcoli!$B$13=3,(E45+F45*2+G45*3),IF(Calcoli!$B$13=2,(E45+F45*2),E45))","v":0.12504040229433777},-0.26217543419452088,{"$f":"(B45-(Calcoli!$B$8/B45))/'Acido - Base forte'!$F$1","v":0.52480746024786695},{"$f":"(B45-(Calcoli!$B$8/B45))/'Acido - Base forte'!$F$2","v":0.52480746024786695}]
[{"$f":"IF((I46*'Acido - Base forte'!$F$3*'Acido - Base forte'!$F$1)/'Acido - Base forte'!$F$2>0,IF((I46*'Acido - Base forte'!$F$3*'Acido - Base forte'!$F$1)/'Acido - Base forte'!$F$2<1.8*Calcoli!$B$13*('Acido - Base forte'!$F$1*'Acido - Base forte'!$F$3/'Acido - Base forte'!$F$2),I46*'Acido - Base forte'!$F$3*'Acido - Base forte'!$F$1/'Acido - Base forte'!$F$2,NA()),NA())","v":{"$error":"#N/A"}},5.0118723362727206E-2,1.3,{"$f":"IF(Calcoli!$B$13=3,B46^Calcoli!$B$13+Calcoli!$B$9*B46^2+Calcoli!$B$9*Calcoli!$B$10*B46+Calcoli!$B$9*Calcoli!$B$10*Calcoli!$B$11,IF(Calcoli!$B$13=2,B46^Calcoli!$B$13+Calcoli!$B$9*B46+Calcoli!$B$9*Calcoli!$B$10,B46^Calcoli!$B$13+Calcoli!$B$9))","v":2.8877773217300317E-3},{"$f":"(Calcoli!$B$9*B46^(Calcoli!$B$13-1))/D46","v":0.13016600081728696},{"$f":"IF(Calcoli!$B$13>=2, (Calcoli!$B$9*Calcoli!$B$10*B46^(Calcoli!$B$13-2))/D46,NA())","v":1.6102349599498352E-7},{"$f":"IF(Calcoli!$B$13>=3,(Calcoli!$B$9*Calcoli!$B$10*Calcoli!$B$11*B46^(Calcoli!$B$13-3))/D46,NA())","v":{"$error":"#N/A"}},{"$f":"IF(Calcoli!$B$13=3,(E46+F46*2+G46*3),IF(Calcoli!$B$13=2,(E46+F46*2),E46))","v":0.13016632286427895},-0.24715165600296546,{"$f":"(B46-(Calcoli!$B$8/B46))/'Acido - Base forte'!$F$1","v":0.50118723362527673},{"$f":"(B46-(Calcoli!$B$8/B46))/'Acido - Base forte'!$F$2","v":0.50118723362527673}]
[{"$f":"IF((I47*'Acido - Base forte'!$F$3*'Acido - Base forte'!$F$1)/'Acido - Base forte'!$F$2>0,IF((I47*'Acido - Base forte'!$F$3*'Acido - Base forte'!$F$1)/'Acido - Base forte'!$F$2<1.8*Calcoli!$B$13*('Acido - Base forte'!$F$1*'Acido - Base forte'!$F$3/'Acido - Base forte'!$F$2),I47*'Acido - Base forte'!$F$3*'Acido - Base forte'!$F$1/'Acido - Base forte'!$F$2,NA()),NA())","v":{"$error":"#N/A"}},4.7863009232263824E-2,1.32,{"$f":"IF(Calcoli!$B$13=3,B47^Calcoli!$B$13+Calcoli!$B$9*B47^2+Calcoli!$B$9*Calcoli!$B$10*B47+Calcoli!$B$9*Calcoli!$B$10*Calcoli!$B$11,IF(Calcoli!$B$13=2,B47^Calcoli!$B$13+Calcoli!$B$9*B47+Calcoli!$B$9*Calcoli!$B$10,B47^Calcoli!$B$13+Calcoli!$B$9))","v":2.6498406870097504E-3},{"$f":"(Calcoli!$B$9*B47^(Calcoli!$B$13-1))/D47","v":0.13546949105346642},{"$f":"IF(Calcoli!$B$13>=2, (Calcoli!$B$9*Calcoli!$B$10*B47^(Calcoli!$B$13-2))/D47,NA())","v":1.7548224777419947E-7},{"$f":"IF(Calcoli!$B$13>=3,(Calcoli!$B$9*Calcoli!$B$10*Calcoli!$B$11*B47^(Calcoli!$B$13-3))/D47,NA())","v":{"$error":"#N/A"}},{"$f":"IF(Calcoli!$B$13=3,(E47+F47*2+G47*3),IF(Calcoli!$B$13=2,(E47+F47*2),E47))","v":0.13546984201796197},-0.23207985018351299,{"$f":"(B47-(Calcoli!$B$8/B47))/'Acido - Base forte'!$F$1","v":0.47863009232054893},{"$f":"(B47-(Calcoli!$B$8/B47))/'Acido - Base forte'!$F$2","v":0.47863009232054893}]
[{"$f":"IF((I48*'Acido - Base forte'!$F$3*'Acido - Base forte'!$F$1)/'Acido - Base forte'!$F$2>0,IF((I48*'Acido - Base forte'!$F$3*'Acido - Base forte'!$F$1)/'Acido - Base forte'!$F$2<1.8*Calcoli!$B$13*('Acido - Base forte'!$F$1*'Acido - Base forte'!$F$3/'Acido - Base forte'!$F$2),I48*'Acido - Base forte'!$F$3*'Acido - Base forte'!$F$1/'Acido - Base forte'!$F$2,NA()),NA())","v":{"$error":"#N/A"}},4.5708818961487478E-2,1.34,{"$f":"IF(Calcoli!$B$13=3,B48^Calcoli!$B$13+Calcoli!$B$9*B48^2+Calcoli!$B$9*Calcoli!$B$10*B48+Calcoli!$B$9*Calcoli!$B$10*Calcoli!$B$11,IF(Calcoli!$B$13=2,B48^Calcoli!$B$13+Calcoli!$B$9*B48+Calcoli!$B$9*Calcoli!$B$10,B48^Calcoli!$B$13+Calcoli!$B$9))","v":2.4321127380651933E-3},{"$f":"(Calcoli!$B$9*B48^(Calcoli!$B$13-1))/D48","v":0.14095405070896297},{"$f":"IF(Calcoli!$B$13>=2, (Calcoli!$B$9*Calcoli!$B$10*B48^(Calcoli!$B$13-2))/D48,NA())","v":1.9119179498641135E-7},{"$f":"IF(Calcoli!$B$13>=3,(Calcoli!$B$9*Calcoli!$B$10*Calcoli!$B$11*B48^(Calcoli!$B$13-3))/D48,NA())","v":{"$error":"#N/A"}},{"$f":"IF(Calcoli!$B$13=3,(E48+F48*2+G48*3),IF(Calcoli!$B$13=2,(E48+F48*2),E48))","v":0.14095443309255296},-0.21696267856248735,{"$f":"(B48-(Calcoli!$B$8/B48))/'Acido - Base forte'!$F$1","v":0.45708818961268699},{"$f":"(B48-(Calcoli!$B$8/B48))/'Acido - Base forte'!$F$2","v":0.45708818961268699}]
[{"$f":"IF((I49*'Acido - Base forte'!$F$3*'Acido - Base forte'!$F$1)/'Acido - Base forte'!$F$2>0,IF((I49*'Acido - Base forte'!$F$3*'Acido - Base forte'!$F$1)/'Acido - Base forte'!$F$2<1.8*Calcoli!$B$13*('Acido - Base forte'!$F$1*'Acido - Base forte'!$F$3/'Acido - Base forte'!$F$2),I49*'Acido - Base forte'!$F$3*'Acido - Base forte'!$F$1/'Acido - Base forte'!$F$2,NA()),NA())","v":{"$error":"#N/A"}},4.3651583224016584E-2,1.36,{"$f":"IF(Calcoli!$B$13=3,B49^Calcoli!$B$13+Calcoli!$B$9*B49^2+Calcoli!$B$9*Calcoli!$B$10*B49+Calcoli!$B$9*Calcoli!$B$10*Calcoli!$B$11,IF(Calcoli!$B$13=2,B49^Calcoli!$B$13+Calcoli!$B$9*B49+Calcoli!$B$9*Calcoli!$B$10,B49^Calcoli!$B$13+Calcoli!$B$9))","v":2.2328480571433703E-3},{"$f":"(Calcoli!$B$9*B49^(Calcoli!$B$13-1))/D49","v":0.14662299708784124},{"$f":"IF(Calcoli!$B$13>=2, (Calcoli!$B$9*Calcoli!$B$10*B49^(Calcoli!$B$13-2))/D49,NA())","v":2.0825420633184738E-7},{"$f":"IF(Calcoli!$B$13>=3,(Calcoli!$B$9*Calcoli!$B$10*Calcoli!$B$11*B49^(Calcoli!$B$13-3))/D49,NA())","v":{"$error":"#N/A"}},{"$f":"IF(Calcoli!$B$13=3,(E49+F49*2+G49*3),IF(Calcoli!$B$13=2,(E49+F49*2),E49))","v":0.14662341359625392},-0.20180245294617627,{"$f":"(B49-(Calcoli!$B$8/B49))/'Acido - Base forte'!$F$1","v":0.43651583223787493},{"$f":"(B49-(Calcoli!$B$8/B49))/'Acido - Base forte'!$F$2","v":0.43651583223787493}]
[{"$f":"IF((I50*'Acido - Base forte'!$F$3*'Acido - Base forte'!$F$1)/'Acido - Base forte'!$F$2>0,IF((I50*'Acido - Base forte'!$F$3*'Acido - Base forte'!$F$1)/'Acido - Base forte'!$F$2<1.8*Calcoli!$B$13*('Acido - Base forte'!$F$1*'Acido - Base forte'!$F$3/'Acido - Base forte'!$F$2),I50*'Acido - Base forte'!$F$3*'Acido - Base forte'!$F$1/'Acido - Base forte'!$F$2,NA()),NA())","v":{"$error":"#N/A"}},4.168693834703352E-2,1.3800000000000001,{"$f":"IF(Calcoli!$B$13=3,B50^Calcoli!$B$13+Calcoli!$B$9*B50^2+Calcoli!$B$9*Calcoli!$B$10*B50+Calcoli!$B$9*Calcoli!$B$10*Calcoli!$B$11,IF(Calcoli!$B$13=2,B50^Calcoli!$B$13+Calcoli!$B$9*B50+Calcoli!$B$9*Calcoli!$B$10,B50^Calcoli!$B$13+Calcoli!$B$9))","v":2.0504533313521248E-3},{"$f":"(Calcoli!$B$9*B50^(Calcoli!$B$13-1))/D50","v":0.15247947018456651},{"$f":"IF(Calcoli!$B$13>=2, (Calcoli!$B$9*Calcoli!$B$10*B50^(Calcoli!$B$13-2))/D50,NA())","v":2.2677911898310133E-7},{"$f":"IF(Calcoli!$B$13>=3,(Calcoli!$B$9*Calcoli!$B$10*Calcoli!$B$11*B50^(Calcoli!$B$13-3))/D50,NA())","v":{"$error":"#N/A"}},{"$f":"IF(Calcoli!$B$13=3,(E50+F50*2+G50*3),IF(Calcoli!$B$13=2,(E50+F50*2),E50))","v":0.15247992374280447},-0.18660115237864125,{"$f":"(B50-(Calcoli!$B$8/B50))/'Acido - Base forte'!$F$1","v":0.41686938346793634},{"$f":"(B50-(Calcoli!$B$8/B50))/'Acido - Base forte'!$F$2","v":0.41686938346793634}]
[{"$f":"IF((I51*'Acido - Base forte'!$F$3*'Acido - Base forte'!$F$1)/'Acido - Base forte'!$F$2>0,IF((I51*'Acido - Base forte'!$F$3*'Acido - Base forte'!$F$1)/'Acido - Base forte'!$F$2<1.8*Calcoli!$B$13*('Acido - Base forte'!$F$1*'Acido - Base forte'!$F$3/'Acido - Base forte'!$F$2),I51*'Acido - Base forte'!$F$3*'Acido - Base forte'!$F$1/'Acido - Base forte'!$F$2,NA()),NA())","v":{"$error":"#N/A"}},3.9810717055349713E-2,1.4000000000000001,{"$f":"IF(Calcoli!$B$13=3,B51^Calcoli!$B$13+Calcoli!$B$9*B51^2+Calcoli!$B$9*Calcoli!$B$10*B51+Calcoli!$B$9*Calcoli!$B$10*Calcoli!$B$11,IF(Calcoli!$B$13=2,B51^Calcoli!$B$13+Calcoli!$B$9*B51+Calcoli!$B$9*Calcoli!$B$10,B51^Calcoli!$B$13+Calcoli!$B$9))","v":1.8834740353762356E-3},{"$f":"(Calcoli!$B$9*B51^(Calcoli!$B$13-1))/D51","v":0.15852641040282756},{"$f":"IF(Calcoli!$B$13>=2, (Calcoli!$B$9*Calcoli!$B$10*B51^(Calcoli!$B$13-2))/D51,NA())","v":2.468842103826047E-7},{"$f":"IF(Calcoli!$B$13>=3,(Calcoli!$B$9*Calcoli!$B$10*Calcoli!$B$11*B51^(Calcoli!$B$13-3))/D51,NA())","v":{"$error":"#N/A"}},{"$f":"IF(Calcoli!$B$13=3,(E51+F51*2+G51*3),IF(Calcoli!$B$13=2,(E51+F51*2),E51))","v":0.15852690417124832},-0.1713604446255145,{"$f":"(B51-(Calcoli!$B$8/B51))/'Acido - Base forte'!$F$1","v":0.39810717055098521},{"$f":"(B51-(Calcoli!$B$8/B51))/'Acido - Base forte'!$F$2","v":0.39810717055098521}]
[{"$f":"IF((I52*'Acido - Base forte'!$F$3*'Acido - Base forte'!$F$1)/'Acido - Base forte'!$F$2>0,IF((I52*'Acido - Base forte'!$F$3*'Acido - Base forte'!$F$1)/'Acido - Base forte'!$F$2<1.8*Calcoli!$B$13*('Acido - Base forte'!$F$1*'Acido - Base forte'!$F$3/'Acido - Base forte'!$F$2),I52*'Acido - Base forte'!$F$3*'Acido - Base forte'!$F$1/'Acido - Base forte'!$F$2,NA()),NA())","v":{"$error":"#N/A"}},3.8018939632056097E-2,1.4200000000000002,{"$f":"IF(Calcoli!$B$13=3,B52^Calcoli!$B$13+Calcoli!$B$9*B52^2+Calcoli!$B$9*Calcoli!$B$10*B52+Calcoli!$B$9*Calcoli!$B$10*Calcoli!$B$11,IF(Calcoli!$B$13=2,B52^Calcoli!$B$13+Calcoli!$B$9*B52+Calcoli!$B$9*Calcoli!$B$10,B52^Calcoli!$B$13+Calcoli!$B$9))","v":1.7305822829863466E-3},{"$f":"(Calcoli!$B$9*B52^(Calcoli!$B$13-1))/D52","v":0.16476653554338413},{"$f":"IF(Calcoli!$B$13>=2, (Calcoli!$B$9*Calcoli!$B$10*B52^(Calcoli!$B$13-2))/D52,NA())","v":2.6869568963665892E-7},{"$f":"IF(Calcoli!$B$13>=3,(Calcoli!$B$9*Calcoli!$B$10*Calcoli!$B$11*B52^(Calcoli!$B$13-3))/D52,NA())","v":{"$error":"#N/A"}},{"$f":"IF(Calcoli!$B$13=3,(E52+F52*2+G52*3),IF(Calcoli!$B$13=2,(E52+F52*2),E52))","v":0.16476707293476342},-0.15608171165339407,{"$f":"(B52-(Calcoli!$B$8/B52))/'Acido - Base forte'!$F$1","v":0.38018939631793069},{"$f":"(B52-(Calcoli!$B$8/B52))/'Acido - Base forte'!$F$2","v":0.38018939631793069}]
[{"$f":"IF((I53*'Acido - Base forte'!$F$3*'Acido - Base forte'!$F$1)/'Acido - Base forte'!$F$2>0,IF((I53*'Acido - Base forte'!$F$3*'Acido - Base forte'!$F$1)/'Acido - Base forte'!$F$2<1.8*Calcoli!$B$13*('Acido - Base forte'!$F$1*'Acido - Base forte'!$F$3/'Acido - Base forte'!$F$2),I53*'Acido - Base forte'!$F$3*'Acido - Base forte'!$F$1/'Acido - Base forte'!$F$2,NA()),NA())","v":{"$error":"#N/A"}},{"$f":"10^-C53","v":3.6307805477010104E-2},1.4400000000000002,{"$f":"IF(Calcoli!$B$13=3,B53^Calcoli!$B$13+Calcoli!$B$9*B53^2+Calcoli!$B$9*Calcoli!$B$10*B53+Calcoli!$B$9*Calcoli!$B$10*Calcoli!$B$11,IF(Calcoli!$B$13=2,B53^Calcoli!$B$13+Calcoli!$B$9*B53+Calcoli!$B$9*Calcoli!$B$10,B53^Calcoli!$B$13+Calcoli!$B$9))","v":1.5905657446339807E-3},{"$f":"(Calcoli!$B$9*B53^(Calcoli!$B$13-1))/D53","v":0.17120231716057679},{"$f":"IF(Calcoli!$B$13>=2, (Calcoli!$B$9*Calcoli!$B$10*B53^(Calcoli!$B$13-2))/D53,NA())","v":2.9234880832103254E-7},{"$f":"IF(Calcoli!$B$13>=3,(Calcoli!$B$9*Calcoli!$B$10*Calcoli!$B$11*B53^(Calcoli!$B$13-3))/D53,NA())","v":{"$error":"#N/A"}},{"$f":"IF(Calcoli!$B$13=3,(E53+F53*2+G53*3),IF(Calcoli!$B$13=2,(E53+F53*2),E53))","v":0.17120290185819342},{"$f":"(H53-J53)/(1+K53)","v":-0.14076607883024206},{"$f":"(B53-(Calcoli!$B$8/B53))/'Acido - Base forte'!$F$1","v":0.36307805476734678},{"$f":"(B53-(Calcoli!$B$8/B53))/'Acido - Base forte'!$F$2","v":0.36307805476734678}]
[{"$f":"IF((I54*'Acido - Base forte'!$F$3*'Acido - Base forte'!$F$1)/'Acido - Base forte'!$F$2>0,IF((I54*'Acido - Base forte'!$F$3*'Acido - Base forte'!$F$1)/'Acido - Base forte'!$F$2<1.8*Calcoli!$B$13*('Acido - Base forte'!$F$1*'Acido - Base forte'!$F$3/'Acido - Base forte'!$F$2),I54*'Acido - Base forte'!$F$3*'Acido - Base forte'!$F$1/'Acido - Base forte'!$F$2,NA()),NA())","v":{"$error":"#N/A"}},3.4673685045253137E-2,1.4600000000000002,{"$f":"IF(Calcoli!$B$13=3,B54^Calcoli!$B$13+Calcoli!$B$9*B54^2+Calcoli!$B$9*Calcoli!$B$10*B54+Calcoli!$B$9*Calcoli!$B$10*Calcoli!$B$11,IF(Calcoli!$B$13=2,B54^Calcoli!$B$13+Calcoli!$B$9*B54+Calcoli!$B$9*Calcoli!$B$10,B54^Calcoli!$B$13+Calcoli!$B$9))","v":1.4623175374568096E-3},{"$f":"(Calcoli!$B$9*B54^(Calcoli!$B$13-1))/D54","v":0.17783595640360658},{"$f":"IF(Calcoli!$B$13>=2, (Calcoli!$B$9*Calcoli!$B$10*B54^(Calcoli!$B$13-2))/D54,NA())","v":3.1798839040712388E-7},{"$f":"IF(Calcoli!$B$13>=3,(Calcoli!$B$9*Calcoli!$B$10*Calcoli!$B$11*B54^(Calcoli!$B$13-3))/D54,NA())","v":{"$error":"#N/A"}},{"$f":"IF(Calcoli!$B$13=3,(E54+F54*2+G54*3),IF(Calcoli!$B$13=2,(E54+F54*2),E54))","v":0.1778365923803874},-0.12541444753135528,{"$f":"(B54-(Calcoli!$B$8/B54))/'Acido - Base forte'!$F$1","v":0.34673685044964736},{"$f":"(B54-(Calcoli!$B$8/B54))/'Acido - Base forte'!$F$2","v":0.34673685044964736}]
[{"$f":"IF((I55*'Acido - Base forte'!$F$3*'Acido - Base forte'!$F$1)/'Acido - Base forte'!$F$2>0,IF((I55*'Acido - Base forte'!$F$3*'Acido - Base forte'!$F$1)/'Acido - Base forte'!$F$2<1.8*Calcoli!$B$13*('Acido - Base forte'!$F$1*'Acido - Base forte'!$F$3/'Acido - Base forte'!$F$2),I55*'Acido - Base forte'!$F$3*'Acido - Base forte'!$F$1/'Acido - Base forte'!$F$2,NA()),NA())","v":{"$error":"#N/A"}},3.3113112148259079E-2,1.4800000000000002,{"$f":"IF(Calcoli!$B$13=3,B55^Calcoli!$B$13+Calcoli!$B$9*B55^2+Calcoli!$B$9*Calcoli!$B$10*B55+Calcoli!$B$9*Calcoli!$B$10*Calcoli!$B$11,IF(Calcoli!$B$13=2,B55^Calcoli!$B$13+Calcoli!$B$9*B55+Calcoli!$B$9*Calcoli!$B$10,B55^Calcoli!$B$13+Calcoli!$B$9))","v":1.3448270022551263E-3},{"$f":"(Calcoli!$B$9*B55^(Calcoli!$B$13-1))/D55","v":0.18466935947559823},{"$f":"IF(Calcoli!$B$13>=2, (Calcoli!$B$9*Calcoli!$B$10*B55^(Calcoli!$B$13-2))/D55,NA())","v":3.4576938090940055E-7},{"$f":"IF(Calcoli!$B$13>=3,(Calcoli!$B$9*Calcoli!$B$10*Calcoli!$B$11*B55^(Calcoli!$B$13-3))/D55,NA())","v":{"$error":"#N/A"}},{"$f":"IF(Calcoli!$B$13=3,(E55+F55*2+G55*3),IF(Calcoli!$B$13=2,(E55+F55*2),E55))","v":0.18467005101436004},-0.11002753079833129,{"$f":"(B55-(Calcoli!$B$8/B55))/'Acido - Base forte'!$F$1","v":0.3311311214795708},{"$f":"(B55-(Calcoli!$B$8/B55))/'Acido - Base forte'!$F$2","v":0.3311311214795708}]
[{"$f":"IF((I56*'Acido - Base forte'!$F$3*'Acido - Base forte'!$F$1)/'Acido - Base forte'!$F$2>0,IF((I56*'Acido - Base forte'!$F$3*'Acido - Base forte'!$F$1)/'Acido - Base forte'!$F$2<1.8*Calcoli!$B$13*('Acido - Base forte'!$F$1*'Acido - Base forte'!$F$3/'Acido - Base forte'!$F$2),I56*'Acido - Base forte'!$F$3*'Acido - Base forte'!$F$1/'Acido - Base forte'!$F$2,NA()),NA())","v":{"$error":"#N/A"}},3.1622776601683771E-2,1.5000000000000002,{"$f":"IF(Calcoli!$B$13=3,B56^Calcoli!$B$13+Calcoli!$B$9*B56^2+Calcoli!$B$9*Calcoli!$B$10*B56+Calcoli!$B$9*Calcoli!$B$10*Calcoli!$B$11,IF(Calcoli!$B$13=2,B56^Calcoli!$B$13+Calcoli!$B$9*B56+Calcoli!$B$9*Calcoli!$B$10,B56^Calcoli!$B$13+Calcoli!$B$9))","v":1.2371712895126268E-3},{"$f":"(Calcoli!$B$9*B56^(Calcoli!$B$13-1))/D56","v":0.19170411286060454},{"$f":"IF(Calcoli!$B$13>=2, (Calcoli!$B$9*Calcoli!$B$10*B56^(Calcoli!$B$13-2))/D56,NA())","v":3.7585741274612254E-7},{"$f":"IF(Calcoli!$B$13>=3,(Calcoli!$B$9*Calcoli!$B$10*Calcoli!$B$11*B56^(Calcoli!$B$13-3))/D56,NA())","v":{"$error":"#N/A"}},{"$f":"IF(Calcoli!$B$13=3,(E56+F56*2+G56*3),IF(Calcoli!$B$13=2,(E56+F56*2),E56))","v":0.19170486457543004},-9.4605891665220807E-2,{"$f":"(B56-(Calcoli!$B$8/B56))/'Acido - Base forte'!$F$1","v":0.31622776601367542},{"$f":"(B56-(Calcoli!$B$8/B56))/'Acido - Base forte'!$F$2","v":0.31622776601367542}]
[{"$f":"IF((I57*'Acido - Base forte'!$F$3*'Acido - Base forte'!$F$1)/'Acido - Base forte'!$F$2>0,IF((I57*'Acido - Base forte'!$F$3*'Acido - Base forte'!$F$1)/'Acido - Base forte'!$F$2<1.8*Calcoli!$B$13*('Acido - Base forte'!$F$1*'Acido - Base forte'!$F$3/'Acido - Base forte'!$F$2),I57*'Acido - Base forte'!$F$3*'Acido - Base forte'!$F$1/'Acido - Base forte'!$F$2,NA()),NA())","v":{"$error":"#N/A"}},3.0199517204020133E-2,1.5200000000000002,{"$f":"IF(Calcoli!$B$13=3,B57^Calcoli!$B$13+Calcoli!$B$9*B57^2+Calcoli!$B$9*Calcoli!$B$10*B57+Calcoli!$B$9*Calcoli!$B$10*Calcoli!$B$11,IF(Calcoli!$B$13=2,B57^Calcoli!$B$13+Calcoli!$B$9*B57+Calcoli!$B$9*Calcoli!$B$10,B57^Calcoli!$B$13+Calcoli!$B$9))","v":1.1385076833860591E-3},{"$f":"(Calcoli!$B$9*B57^(Calcoli!$B$13-1))/D57","v":0.19894145848583425},{"$f":"IF(Calcoli!$B$13>=2, (Calcoli!$B$9*Calcoli!$B$10*B57^(Calcoli!$B$13-2))/D57,NA())","v":4.0842939119833951E-7},{"$f":"IF(Calcoli!$B$13>=3,(Calcoli!$B$9*Calcoli!$B$10*Calcoli!$B$11*B57^(Calcoli!$B$13-3))/D57,NA())","v":{"$error":"#N/A"}},{"$f":"IF(Calcoli!$B$13=3,(E57+F57*2+G57*3),IF(Calcoli!$B$13=2,(E57+F57*2),E57))","v":0.19894227534461664},-7.9149983736923973E-2,{"$f":"(B57-(Calcoli!$B$8/B57))/'Acido - Base forte'!$F$1","v":0.30199517203689002},{"$f":"(B57-(Calcoli!$B$8/B57))/'Acido - Base forte'!$F$2","v":0.30199517203689002}]
[{"$f":"IF((I58*'Acido - Base forte'!$F$3*'Acido - Base forte'!$F$1)/'Acido - Base forte'!$F$2>0,IF((I58*'Acido - Base forte'!$F$3*'Acido - Base forte'!$F$1)/'Acido - Base forte'!$F$2<1.8*Calcoli!$B$13*('Acido - Base forte'!$F$1*'Acido - Base forte'!$F$3/'Acido - Base forte'!$F$2),I58*'Acido - Base forte'!$F$3*'Acido - Base forte'!$F$1/'Acido - Base forte'!$F$2,NA()),NA())","v":{"$error":"#N/A"}},2.8840315031266033E-2,1.5400000000000003,{"$f":"IF(Calcoli!$B$13=3,B58^Calcoli!$B$13+Calcoli!$B$9*B58^2+Calcoli!$B$9*Calcoli!$B$10*B58+Calcoli!$B$9*Calcoli!$B$10*Calcoli!$B$11,IF(Calcoli!$B$13=2,B58^Calcoli!$B$13+Calcoli!$B$9*B58+Calcoli!$B$9*Calcoli!$B$10,B58^Calcoli!$B$13+Calcoli!$B$9))","v":1.0480665988371648E-3},{"$f":"(Calcoli!$B$9*B58^(Calcoli!$B$13-1))/D58","v":0.20638226900321394},{"$f":"IF(Calcoli!$B$13>=2, (Calcoli!$B$9*Calcoli!$B$10*B58^(Calcoli!$B$13-2))/D58,NA())","v":4.4367409524921396E-7},{"$f":"IF(Calcoli!$B$13>=3,(Calcoli!$B$9*Calcoli!$B$10*Calcoli!$B$11*B58^(Calcoli!$B$13-3))/D58,NA())","v":{"$error":"#N/A"}},{"$f":"IF(Calcoli!$B$13=3,(E58+F58*2+G58*3),IF(Calcoli!$B$13=2,(E58+F58*2),E58))","v":0.20638315635140445},-6.3660193580018204E-2,{"$f":"(B58-(Calcoli!$B$8/B58))/'Acido - Base forte'!$F$1","v":0.28840315030919295},{"$f":"(B58-(Calcoli!$B$8/B58))/'Acido - Base forte'!$F$2","v":0.28840315030919295}]
[{"$f":"IF((I59*'Acido - Base forte'!$F$3*'Acido - Base forte'!$F$1)/'Acido - Base forte'!$F$2>0,IF((I59*'Acido - Base forte'!$F$3*'Acido - Base forte'!$F$1)/'Acido - Base forte'!$F$2<1.8*Calcoli!$B$13*('Acido - Base forte'!$F$1*'Acido - Base forte'!$F$3/'Acido - Base forte'!$F$2),I59*'Acido - Base forte'!$F$3*'Acido - Base forte'!$F$1/'Acido - Base forte'!$F$2,NA()),NA())","v":{"$error":"#N/A"}},2.7542287033381636E-2,1.5600000000000003,{"$f":"IF(Calcoli!$B$13=3,B59^Calcoli!$B$13+Calcoli!$B$9*B59^2+Calcoli!$B$9*Calcoli!$B$10*B59+Calcoli!$B$9*Calcoli!$B$10*Calcoli!$B$11,IF(Calcoli!$B$13=2,B59^Calcoli!$B$13+Calcoli!$B$9*B59+Calcoli!$B$9*Calcoli!$B$10,B59^Calcoli!$B$13+Calcoli!$B$9))","v":9.6514519277954454E-4},{"$f":"(Calcoli!$B$9*B59^(Calcoli!$B$13-1))/D59","v":0.21402702339060989},{"$f":"IF(Calcoli!$B$13>=2, (Calcoli!$B$9*Calcoli!$B$10*B59^(Calcoli!$B$13-2))/D59,NA())","v":4.8179279498956572E-7},{"$f":"IF(Calcoli!$B$13>=3,(Calcoli!$B$9*Calcoli!$B$10*Calcoli!$B$11*B59^(Calcoli!$B$13-3))/D59,NA())","v":{"$error":"#N/A"}},{"$f":"IF(Calcoli!$B$13=3,(E59+F59*2+G59*3),IF(Calcoli!$B$13=2,(E59+F59*2),E59))","v":0.21402798697619987},-4.813688446569224E-2,{"$f":"(B59-(Calcoli!$B$8/B59))/'Acido - Base forte'!$F$1","v":0.27542287033018559},{"$f":"(B59-(Calcoli!$B$8/B59))/'Acido - Base forte'!$F$2","v":0.27542287033018559}]
[{"$f":"IF((I60*'Acido - Base forte'!$F$3*'Acido - Base forte'!$F$1)/'Acido - Base forte'!$F$2>0,IF((I60*'Acido - Base forte'!$F$3*'Acido - Base forte'!$F$1)/'Acido - Base forte'!$F$2<1.8*Calcoli!$B$13*('Acido - Base forte'!$F$1*'Acido - Base forte'!$F$3/'Acido - Base forte'!$F$2),I60*'Acido - Base forte'!$F$3*'Acido - Base forte'!$F$1/'Acido - Base forte'!$F$2,NA()),NA())","v":{"$error":"#N/A"}},2.6302679918953797E-2,1.5800000000000003,{"$f":"IF(Calcoli!$B$13=3,B60^Calcoli!$B$13+Calcoli!$B$9*B60^2+Calcoli!$B$9*Calcoli!$B$10*B60+Calcoli!$B$9*Calcoli!$B$10*Calcoli!$B$11,IF(Calcoli!$B$13=2,B60^Calcoli!$B$13+Calcoli!$B$9*B60+Calcoli!$B$9*Calcoli!$B$10,B60^Calcoli!$B$13+Calcoli!$B$9))","v":8.8910153531108886E-4},{"$f":"(Calcoli!$B$9*B60^(Calcoli!$B$13-1))/D60","v":0.22187578308829531},{"$f":"IF(Calcoli!$B$13>=2, (Calcoli!$B$9*Calcoli!$B$10*B60^(Calcoli!$B$13-2))/D60,NA())","v":5.2299988418904326E-7},{"$f":"IF(Calcoli!$B$13>=3,(Calcoli!$B$9*Calcoli!$B$10*Calcoli!$B$11*B60^(Calcoli!$B$13-3))/D60,NA())","v":{"$error":"#N/A"}},{"$f":"IF(Calcoli!$B$13=3,(E60+F60*2+G60*3),IF(Calcoli!$B$13=2,(E60+F60*2),E60))","v":0.22187682908806369},-3.2580440988426738E-2,{"$f":"(B60-(Calcoli!$B$8/B60))/'Acido - Base forte'!$F$1","v":0.26302679918573607},{"$f":"(B60-(Calcoli!$B$8/B60))/'Acido - Base forte'!$F$2","v":0.26302679918573607}]
[{"$f":"IF((I61*'Acido - Base forte'!$F$3*'Acido - Base forte'!$F$1)/'Acido - Base forte'!$F$2>0,IF((I61*'Acido - Base forte'!$F$3*'Acido - Base forte'!$F$1)/'Acido - Base forte'!$F$2<1.8*Calcoli!$B$13*('Acido - Base forte'!$F$1*'Acido - Base forte'!$F$3/'Acido - Base forte'!$F$2),I61*'Acido - Base forte'!$F$3*'Acido - Base forte'!$F$1/'Acido - Base forte'!$F$2,NA()),NA())","v":{"$error":"#N/A"}},2.5118864315095774E-2,1.6000000000000003,{"$f":"IF(Calcoli!$B$13=3,B61^Calcoli!$B$13+Calcoli!$B$9*B61^2+Calcoli!$B$9*Calcoli!$B$10*B61+Calcoli!$B$9*Calcoli!$B$10*Calcoli!$B$11,IF(Calcoli!$B$13=2,B61^Calcoli!$B$13+Calcoli!$B$9*B61+Calcoli!$B$9*Calcoli!$B$10,B61^Calcoli!$B$13+Calcoli!$B$9))","v":8.1934929184341015E-4},{"$f":"(Calcoli!$B$9*B61^(Calcoli!$B$13-1))/D61","v":0.22992816890018464},{"$f":"IF(Calcoli!$B$13>=2, (Calcoli!$B$9*Calcoli!$B$10*B61^(Calcoli!$B$13-2))/D61,NA())","v":5.6752352705867521E-7},{"$f":"IF(Calcoli!$B$13>=3,(Calcoli!$B$9*Calcoli!$B$10*Calcoli!$B$11*B61^(Calcoli!$B$13-3))/D61,NA())","v":{"$error":"#N/A"}},{"$f":"IF(Calcoli!$B$13=3,(E61+F61*2+G61*3),IF(Calcoli!$B$13=2,(E61+F61*2),E61))","v":0.22992930394723876},-1.6991314072565919E-2,{"$f":"(B61-(Calcoli!$B$8/B61))/'Acido - Base forte'!$F$1","v":0.25118864314697664},{"$f":"(B61-(Calcoli!$B$8/B61))/'Acido - Base forte'!$F$2","v":0.25118864314697664}]
[{"$f":"IF((I62*'Acido - Base forte'!$F$3*'Acido - Base forte'!$F$1)/'Acido - Base forte'!$F$2>0,IF((I62*'Acido - Base forte'!$F$3*'Acido - Base forte'!$F$1)/'Acido - Base forte'!$F$2<1.8*Calcoli!$B$13*('Acido - Base forte'!$F$1*'Acido - Base forte'!$F$3/'Acido - Base forte'!$F$2),I62*'Acido - Base forte'!$F$3*'Acido - Base forte'!$F$1/'Acido - Base forte'!$F$2,NA()),NA())","v":{"$error":"#N/A"}},2.398832919019488E-2,1.6200000000000003,{"$f":"IF(Calcoli!$B$13=3,B62^Calcoli!$B$13+Calcoli!$B$9*B62^2+Calcoli!$B$9*Calcoli!$B$10*B62+Calcoli!$B$9*Calcoli!$B$10*Calcoli!$B$11,IF(Calcoli!$B$13=2,B62^Calcoli!$B$13+Calcoli!$B$9*B62+Calcoli!$B$9*Calcoli!$B$10,B62^Calcoli!$B$13+Calcoli!$B$9))","v":7.5535287126361728E-4},{"$f":"(Calcoli!$B$9*B62^(Calcoli!$B$13-1))/D62","v":0.23818333890157722},{"$f":"IF(Calcoli!$B$13>=2, (Calcoli!$B$9*Calcoli!$B$10*B62^(Calcoli!$B$13-2))/D62,NA())","v":6.1560631817300068E-7},{"$f":"IF(Calcoli!$B$13>=3,(Calcoli!$B$9*Calcoli!$B$10*Calcoli!$B$11*B62^(Calcoli!$B$13-3))/D62,NA())","v":{"$error":"#N/A"}},{"$f":"IF(Calcoli!$B$13=3,(E62+F62*2+G62*3),IF(Calcoli!$B$13=2,(E62+F62*2),E62))","v":0.23818457011421357},-1.3700658720599806E-3,{"$f":"(B62-(Calcoli!$B$8/B62))/'Acido - Base forte'!$F$1","v":0.2398832918977801},{"$f":"(B62-(Calcoli!$B$8/B62))/'Acido - Base forte'!$F$2","v":0.2398832918977801}]
[{"$f":"IF((I63*'Acido - Base forte'!$F$3*'Acido - Base forte'!$F$1)/'Acido - Base forte'!$F$2>0,IF((I63*'Acido - Base forte'!$F$3*'Acido - Base forte'!$F$1)/'Acido - Base forte'!$F$2<1.8*Calcoli!$B$13*('Acido - Base forte'!$F$1*'Acido - Base forte'!$F$3/'Acido - Base forte'!$F$2),I63*'Acido - Base forte'!$F$3*'Acido - Base forte'!$F$1/'Acido - Base forte'!$F$2,NA()),NA())","v":0.35706464833809082},2.2908676527677703E-2,1.6400000000000003,{"$f":"IF(Calcoli!$B$13=3,B63^Calcoli!$B$13+Calcoli!$B$9*B63^2+Calcoli!$B$9*Calcoli!$B$10*B63+Calcoli!$B$9*Calcoli!$B$10*Calcoli!$B$11,IF(Calcoli!$B$13=2,B63^Calcoli!$B$13+Calcoli!$B$9*B63+Calcoli!$B$9*Calcoli!$B$10,B63^Calcoli!$B$13+Calcoli!$B$9))","v":6.9662299920735405E-4},{"$f":"(Calcoli!$B$9*B63^(Calcoli!$B$13-1))/D63","v":0.24663996760526272},{"$f":"IF(Calcoli!$B$13>=2, (Calcoli!$B$9*Calcoli!$B$10*B63^(Calcoli!$B$13-2))/D63,NA())","v":6.6750595448197357E-7},{"$f":"IF(Calcoli!$B$13>=3,(Calcoli!$B$9*Calcoli!$B$10*Calcoli!$B$11*B63^(Calcoli!$B$13-3))/D63,NA())","v":{"$error":"#N/A"}},{"$f":"IF(Calcoli!$B$13=3,(E63+F63*2+G63*3),IF(Calcoli!$B$13=2,(E63+F63*2),E63))","v":0.24664130261717168},1.4282585933523634E-2,{"$f":"(B63-(Calcoli!$B$8/B63))/'Acido - Base forte'!$F$1","v":0.22908676527241187},{"$f":"(B63-(Calcoli!$B$8/B63))/'Acido - Base forte'!$F$2","v":0.22908676527241187}]
[{"$f":"IF((I64*'Acido - Base forte'!$F$3*'Acido - Base forte'!$F$1)/'Acido - Base forte'!$F$2>0,IF((I64*'Acido - Base forte'!$F$3*'Acido - Base forte'!$F$1)/'Acido - Base forte'!$F$2<1.8*Calcoli!$B$13*('Acido - Base forte'!$F$1*'Acido - Base forte'!$F$3/'Acido - Base forte'!$F$2),I64*'Acido - Base forte'!$F$3*'Acido - Base forte'!$F$1/'Acido - Base forte'!$F$2,NA()),NA())","v":0.749143123525849},2.1877616239495502E-2,1.6600000000000004,{"$f":"IF(Calcoli!$B$13=3,B64^Calcoli!$B$13+Calcoli!$B$9*B64^2+Calcoli!$B$9*Calcoli!$B$10*B64+Calcoli!$B$9*Calcoli!$B$10*Calcoli!$B$11,IF(Calcoli!$B$13=2,B64^Calcoli!$B$13+Calcoli!$B$9*B64+Calcoli!$B$9*Calcoli!$B$10,B64^Calcoli!$B$13+Calcoli!$B$9))","v":6.4271267911885364E-4},{"$f":"(Calcoli!$B$9*B64^(Calcoli!$B$13-1))/D64","v":0.25529622664542667},{"$f":"IF(Calcoli!$B$13>=2, (Calcoli!$B$9*Calcoli!$B$10*B64^(Calcoli!$B$13-2))/D64,NA())","v":7.2349591832777565E-7},{"$f":"IF(Calcoli!$B$13>=3,(Calcoli!$B$9*Calcoli!$B$10*Calcoli!$B$11*B64^(Calcoli!$B$13-3))/D64,NA())","v":{"$error":"#N/A"}},{"$f":"IF(Calcoli!$B$13=3,(E64+F64*2+G64*3),IF(Calcoli!$B$13=2,(E64+F64*2),E64))","v":0.2552976736372633},2.9965724941033962E-2,{"$f":"(B64-(Calcoli!$B$8/B64))/'Acido - Base forte'!$F$1","v":0.21877616239038411},{"$f":"(B64-(Calcoli!$B$8/B64))/'Acido - Base forte'!$F$2","v":0.21877616239038411}]
[{"$f":"IF((I65*'Acido - Base forte'!$F$3*'Acido - Base forte'!$F$1)/'Acido - Base forte'!$F$2>0,IF((I65*'Acido - Base forte'!$F$3*'Acido - Base forte'!$F$1)/'Acido - Base forte'!$F$2<1.8*Calcoli!$B$13*('Acido - Base forte'!$F$1*'Acido - Base forte'!$F$3/'Acido - Base forte'!$F$2),I65*'Acido - Base forte'!$F$3*'Acido - Base forte'!$F$1/'Acido - Base forte'!$F$2,NA()),NA())","v":1.1419548602683751},2.0892961308540368E-2,1.6800000000000004,{"$f":"IF(Calcoli!$B$13=3,B65^Calcoli!$B$13+Calcoli!$B$9*B65^2+Calcoli!$B$9*Calcoli!$B$10*B65+Calcoli!$B$9*Calcoli!$B$10*Calcoli!$B$11,IF(Calcoli!$B$13=2,B65^Calcoli!$B$13+Calcoli!$B$9*B65+Calcoli!$B$9*Calcoli!$B$10,B65^Calcoli!$B$13+Calcoli!$B$9))","v":5.9321350705421761E-4},{"$f":"(Calcoli!$B$9*B65^(Calcoli!$B$13-1))/D65","v":0.26414976724346767},{"$f":"IF(Calcoli!$B$13>=2, (Calcoli!$B$9*Calcoli!$B$10*B65^(Calcoli!$B$13-2))/D65,NA())","v":7.8386617039301611E-7},{"$f":"IF(Calcoli!$B$13>=3,(Calcoli!$B$9*Calcoli!$B$10*Calcoli!$B$11*B65^(Calcoli!$B$13-3))/D65,NA())","v":{"$error":"#N/A"}},{"$f":"IF(Calcoli!$B$13=3,(E65+F65*2+G65*3),IF(Calcoli!$B$13=2,(E65+F65*2),E65))","v":0.26415133497580845},4.5678194410735007E-2,{"$f":"(B65-(Calcoli!$B$8/B65))/'Acido - Base forte'!$F$1","v":0.20892961308061736},{"$f":"(B65-(Calcoli!$B$8/B65))/'Acido - Base forte'!$F$2","v":0.20892961308061736}]
[{"$f":"IF((I66*'Acido - Base forte'!$F$3*'Acido - Base forte'!$F$1)/'Acido - Base forte'!$F$2>0,IF((I66*'Acido - Base forte'!$F$3*'Acido - Base forte'!$F$1)/'Acido - Base forte'!$F$2<1.8*Calcoli!$B$13*('Acido - Base forte'!$F$1*'Acido - Base forte'!$F$3/'Acido - Base forte'!$F$2),I66*'Acido - Base forte'!$F$3*'Acido - Base forte'!$F$1/'Acido - Base forte'!$F$2,NA()),NA())","v":1.5354639428226706},1.9952623149688774E-2,1.7000000000000004,{"$f":"IF(Calcoli!$B$13=3,B66^Calcoli!$B$13+Calcoli!$B$9*B66^2+Calcoli!$B$9*Calcoli!$B$10*B66+Calcoli!$B$9*Calcoli!$B$10*Calcoli!$B$11,IF(Calcoli!$B$13=2,B66^Calcoli!$B$13+Calcoli!$B$9*B66+Calcoli!$B$9*Calcoli!$B$10,B66^Calcoli!$B$13+Calcoli!$B$9))","v":5.4775230917616219E-4},{"$f":"(Calcoli!$B$9*B66^(Calcoli!$B$13-1))/D66","v":0.27319770472120219},{"$f":"IF(Calcoli!$B$13>=2, (Calcoli!$B$9*Calcoli!$B$10*B66^(Calcoli!$B$13-2))/D66,NA())","v":8.4892385154774714E-7},{"$f":"IF(Calcoli!$B$13>=3,(Calcoli!$B$9*Calcoli!$B$10*Calcoli!$B$11*B66^(Calcoli!$B$13-3))/D66,NA())","v":{"$error":"#N/A"}},{"$f":"IF(Calcoli!$B$13=3,(E66+F66*2+G66*3),IF(Calcoli!$B$13=2,(E66+F66*2),E66))","v":0.27319940256890529},6.1418557712906829E-2,{"$f":"(B66-(Calcoli!$B$8/B66))/'Acido - Base forte'!$F$1","v":0.19952623149187587},{"$f":"(B66-(Calcoli!$B$8/B66))/'Acido - Base forte'!$F$2","v":0.19952623149187587}]
[{"$f":"IF((I67*'Acido - Base forte'!$F$3*'Acido - Base forte'!$F$1)/'Acido - Base forte'!$F$2>0,IF((I67*'Acido - Base forte'!$F$3*'Acido - Base forte'!$F$1)/'Acido - Base forte'!$F$2<1.8*Calcoli!$B$13*('Acido - Base forte'!$F$1*'Acido - Base forte'!$F$3/'Acido - Base forte'!$F$2),I67*'Acido - Base forte'!$F$3*'Acido - Base forte'!$F$1/'Acido - Base forte'!$F$2,NA()),NA())","v":1.9296265322877826},1.9054607179632446E-2,1.7200000000000004,{"$f":"IF(Calcoli!$B$13=3,B67^Calcoli!$B$13+Calcoli!$B$9*B67^2+Calcoli!$B$9*Calcoli!$B$10*B67+Calcoli!$B$9*Calcoli!$B$10*Calcoli!$B$11,IF(Calcoli!$B$13=2,B67^Calcoli!$B$13+Calcoli!$B$9*B67+Calcoli!$B$9*Calcoli!$B$10,B67^Calcoli!$B$13+Calcoli!$B$9))","v":5.0598807361734363E-4},{"$f":"(Calcoli!$B$9*B67^(Calcoli!$B$13-1))/D67","v":0.28243660532465337},{"$f":"IF(Calcoli!$B$13>=2, (Calcoli!$B$9*Calcoli!$B$10*B67^(Calcoli!$B$13-2))/D67,NA())","v":9.1899399263639346E-7},{"$f":"IF(Calcoli!$B$13>=3,(Calcoli!$B$9*Calcoli!$B$10*Calcoli!$B$11*B67^(Calcoli!$B$13-3))/D67,NA())","v":{"$error":"#N/A"}},{"$f":"IF(Calcoli!$B$13=3,(E67+F67*2+G67*3),IF(Calcoli!$B$13=2,(E67+F67*2),E67))","v":0.28243844331263862},7.71850612915113E-2,{"$f":"(B67-(Calcoli!$B$8/B67))/'Acido - Base forte'!$F$1","v":0.19054607179107638},{"$f":"(B67-(Calcoli!$B$8/B67))/'Acido - Base forte'!$F$2","v":0.19054607179107638}]
[{"$f":"IF((I68*'Acido - Base forte'!$F$3*'Acido - Base forte'!$F$1)/'Acido - Base forte'!$F$2>0,IF((I68*'Acido - Base forte'!$F$3*'Acido - Base forte'!$F$1)/'Acido - Base forte'!$F$2<1.8*Calcoli!$B$13*('Acido - Base forte'!$F$1*'Acido - Base forte'!$F$3/'Acido - Base forte'!$F$2),I68*'Acido - Base forte'!$F$3*'Acido - Base forte'!$F$1/'Acido - Base forte'!$F$2,NA()),NA())","v":2.3243900145065761},1.8197008586099812E-2,1.7400000000000004,{"$f":"IF(Calcoli!$B$13=3,B68^Calcoli!$B$13+Calcoli!$B$9*B68^2+Calcoli!$B$9*Calcoli!$B$10*B68+Calcoli!$B$9*Calcoli!$B$10*Calcoli!$B$11,IF(Calcoli!$B$13=2,B68^Calcoli!$B$13+Calcoli!$B$9*B68+Calcoli!$B$9*Calcoli!$B$10,B68^Calcoli!$B$13+Calcoli!$B$9))","v":4.6760915087833886E-4},{"$f":"(Calcoli!$B$9*B68^(Calcoli!$B$13-1))/D68","v":0.29186247561536044},{"$f":"IF(Calcoli!$B$13>=2, (Calcoli!$B$9*Calcoli!$B$10*B68^(Calcoli!$B$13-2))/D68,NA())","v":9.9442023135467321E-7},{"$f":"IF(Calcoli!$B$13>=3,(Calcoli!$B$9*Calcoli!$B$10*Calcoli!$B$11*B68^(Calcoli!$B$13-3))/D68,NA())","v":{"$error":"#N/A"}},{"$f":"IF(Calcoli!$B$13=3,(E68+F68*2+G68*3),IF(Calcoli!$B$13=2,(E68+F68*2),E68))","v":0.29186446445582315},9.2975600580263051E-2,{"$f":"(B68-(Calcoli!$B$8/B68))/'Acido - Base forte'!$F$1","v":0.1819700858555027},{"$f":"(B68-(Calcoli!$B$8/B68))/'Acido - Base forte'!$F$2","v":0.1819700858555027}]
[{"$f":"IF((I69*'Acido - Base forte'!$F$3*'Acido - Base forte'!$F$1)/'Acido - Base forte'!$F$2>0,IF((I69*'Acido - Base forte'!$F$3*'Acido - Base forte'!$F$1)/'Acido - Base forte'!$F$2<1.8*Calcoli!$B$13*('Acido - Base forte'!$F$1*'Acido - Base forte'!$F$3/'Acido - Base forte'!$F$2),I69*'Acido - Base forte'!$F$3*'Acido - Base forte'!$F$1/'Acido - Base forte'!$F$2,NA()),NA())","v":2.7196922319859445},1.7378008287493724E-2,1.7600000000000005,{"$f":"IF(Calcoli!$B$13=3,B69^Calcoli!$B$13+Calcoli!$B$9*B69^2+Calcoli!$B$9*Calcoli!$B$10*B69+Calcoli!$B$9*Calcoli!$B$10*Calcoli!$B$11,IF(Calcoli!$B$13=2,B69^Calcoli!$B$13+Calcoli!$B$9*B69+Calcoli!$B$9*Calcoli!$B$10,B69^Calcoli!$B$13+Calcoli!$B$9))","v":4.3233069919640344E-4},{"$f":"(Calcoli!$B$9*B69^(Calcoli!$B$13-1))/D69","v":0.30147075467567719},{"$f":"IF(Calcoli!$B$13>=2, (Calcoli!$B$9*Calcoli!$B$10*B69^(Calcoli!$B$13-2))/D69,NA())","v":1.0755655355132557E-6},{"$f":"IF(Calcoli!$B$13>=3,(Calcoli!$B$9*Calcoli!$B$10*Calcoli!$B$11*B69^(Calcoli!$B$13-3))/D69,NA())","v":{"$error":"#N/A"}},{"$f":"IF(Calcoli!$B$13=3,(E69+F69*2+G69*3),IF(Calcoli!$B$13=2,(E69+F69*2),E69))","v":0.30147290580674824},0.10878768927943779,{"$f":"(B69-(Calcoli!$B$8/B69))/'Acido - Base forte'!$F$1","v":0.17378008286918284},{"$f":"(B69-(Calcoli!$B$8/B69))/'Acido - Base forte'!$F$2","v":0.17378008286918284}]
[{"$f":"IF((I70*'Acido - Base forte'!$F$3*'Acido - Base forte'!$F$1)/'Acido - Base forte'!$F$2>0,IF((I70*'Acido - Base forte'!$F$3*'Acido - Base forte'!$F$1)/'Acido - Base forte'!$F$2<1.8*Calcoli!$B$13*('Acido - Base forte'!$F$1*'Acido - Base forte'!$F$3/'Acido - Base forte'!$F$2),I70*'Acido - Base forte'!$F$3*'Acido - Base forte'!$F$1/'Acido - Base forte'!$F$2,NA()),NA())","v":3.115460809246815},1.6595869074375581E-2,1.7800000000000005,{"$f":"IF(Calcoli!$B$13=3,B70^Calcoli!$B$13+Calcoli!$B$9*B70^2+Calcoli!$B$9*Calcoli!$B$10*B70+Calcoli!$B$9*Calcoli!$B$10*Calcoli!$B$11,IF(Calcoli!$B$13=2,B70^Calcoli!$B$13+Calcoli!$B$9*B70+Calcoli!$B$9*Calcoli!$B$10,B70^Calcoli!$B$13+Calcoli!$B$9))","v":3.9989235339163263E-4},{"$f":"(Calcoli!$B$9*B70^(Calcoli!$B$13-1))/D70","v":0.31125630935963089},{"$f":"IF(Calcoli!$B$13>=2, (Calcoli!$B$9*Calcoli!$B$10*B70^(Calcoli!$B$13-2))/D70,NA())","v":1.1628129321707847E-6},{"$f":"IF(Calcoli!$B$13>=3,(Calcoli!$B$9*Calcoli!$B$10*Calcoli!$B$11*B70^(Calcoli!$B$13-3))/D70,NA())","v":{"$error":"#N/A"}},{"$f":"IF(Calcoli!$B$13=3,(E70+F70*2+G70*3),IF(Calcoli!$B$13=2,(E70+F70*2),E70))","v":0.31125863498549522},0.12461843236987259,{"$f":"(B70-(Calcoli!$B$8/B70))/'Acido - Base forte'!$F$1","v":0.1659586907377302},{"$f":"(B70-(Calcoli!$B$8/B70))/'Acido - Base forte'!$F$2","v":0.1659586907377302}]
[{"$f":"IF((I71*'Acido - Base forte'!$F$3*'Acido - Base forte'!$F$1)/'Acido - Base forte'!$F$2>0,IF((I71*'Acido - Base forte'!$F$3*'Acido - Base forte'!$F$1)/'Acido - Base forte'!$F$2<1.8*Calcoli!$B$13*('Acido - Base forte'!$F$1*'Acido - Base forte'!$F$3/'Acido - Base forte'!$F$2),I71*'Acido - Base forte'!$F$3*'Acido - Base forte'!$F$1/'Acido - Base forte'!$F$2,NA()),NA())","v":3.5116125801008113},1.5848931924611113E-2,1.8000000000000005,{"$f":"IF(Calcoli!$B$13=3,B71^Calcoli!$B$13+Calcoli!$B$9*B71^2+Calcoli!$B$9*Calcoli!$B$10*B71+Calcoli!$B$9*Calcoli!$B$10*Calcoli!$B$11,IF(Calcoli!$B$13=2,B71^Calcoli!$B$13+Calcoli!$B$9*B71+Calcoli!$B$9*Calcoli!$B$10,B71^Calcoli!$B$13+Calcoli!$B$9))","v":3.7005609758554068E-4},{"$f":"(Calcoli!$B$9*B71^(Calcoli!$B$13-1))/D71","v":0.32121343280151338},{"$f":"IF(Calcoli!$B$13>=2, (Calcoli!$B$9*Calcoli!$B$10*B71^(Calcoli!$B$13-2))/D71,NA())","v":1.256566242345223E-6},{"$f":"IF(Calcoli!$B$13>=3,(Calcoli!$B$9*Calcoli!$B$10*Calcoli!$B$11*B71^(Calcoli!$B$13-3))/D71,NA())","v":{"$error":"#N/A"}},{"$f":"IF(Calcoli!$B$13=3,(E71+F71*2+G71*3),IF(Calcoli!$B$13=2,(E71+F71*2),E71))","v":0.32121594593399805},0.14046450320403245,{"$f":"(B71-(Calcoli!$B$8/B71))/'Acido - Base forte'!$F$1","v":0.15848931923980156},{"$f":"(B71-(Calcoli!$B$8/B71))/'Acido - Base forte'!$F$2","v":0.15848931923980156}]
[{"$f":"IF((I72*'Acido - Base forte'!$F$3*'Acido - Base forte'!$F$1)/'Acido - Base forte'!$F$2>0,IF((I72*'Acido - Base forte'!$F$3*'Acido - Base forte'!$F$1)/'Acido - Base forte'!$F$2<1.8*Calcoli!$B$13*('Acido - Base forte'!$F$1*'Acido - Base forte'!$F$3/'Acido - Base forte'!$F$2),I72*'Acido - Base forte'!$F$3*'Acido - Base forte'!$F$1/'Acido - Base forte'!$F$2,NA()),NA())","v":3.908053124321599},1.5135612484362064E-2,1.8200000000000005,{"$f":"IF(Calcoli!$B$13=3,B72^Calcoli!$B$13+Calcoli!$B$9*B72^2+Calcoli!$B$9*Calcoli!$B$10*B72+Calcoli!$B$9*Calcoli!$B$10*Calcoli!$B$11,IF(Calcoli!$B$13=2,B72^Calcoli!$B$13+Calcoli!$B$9*B72+Calcoli!$B$9*Calcoli!$B$10,B72^Calcoli!$B$13+Calcoli!$B$9))","v":3.4260432390949226E-4},{"$f":"(Calcoli!$B$9*B72^(Calcoli!$B$13-1))/D72","v":0.33133584637041513},{"$f":"IF(Calcoli!$B$13>=2, (Calcoli!$B$9*Calcoli!$B$10*B72^(Calcoli!$B$13-2))/D72,NA())","v":1.3572508212793067E-6},{"$f":"IF(Calcoli!$B$13>=3,(Calcoli!$B$9*Calcoli!$B$10*Calcoli!$B$11*B72^(Calcoli!$B$13-3))/D72,NA())","v":{"$error":"#N/A"}},{"$f":"IF(Calcoli!$B$13=3,(E72+F72*2+G72*3),IF(Calcoli!$B$13=2,(E72+F72*2),E72))","v":0.33133856087205771},0.15632212497286396,{"$f":"(B72-(Calcoli!$B$8/B72))/'Acido - Base forte'!$F$1","v":0.15135612483701369},{"$f":"(B72-(Calcoli!$B$8/B72))/'Acido - Base forte'!$F$2","v":0.15135612483701369}]
[{"$f":"IF((I73*'Acido - Base forte'!$F$3*'Acido - Base forte'!$F$1)/'Acido - Base forte'!$F$2>0,IF((I73*'Acido - Base forte'!$F$3*'Acido - Base forte'!$F$1)/'Acido - Base forte'!$F$2<1.8*Calcoli!$B$13*('Acido - Base forte'!$F$1*'Acido - Base forte'!$F$3/'Acido - Base forte'!$F$2),I73*'Acido - Base forte'!$F$3*'Acido - Base forte'!$F$1/'Acido - Base forte'!$F$2,NA()),NA())","v":4.3046764200438101},1.4454397707459246E-2,1.8400000000000005,{"$f":"IF(Calcoli!$B$13=3,B73^Calcoli!$B$13+Calcoli!$B$9*B73^2+Calcoli!$B$9*Calcoli!$B$10*B73+Calcoli!$B$9*Calcoli!$B$10*Calcoli!$B$11,IF(Calcoli!$B$13=2,B73^Calcoli!$B$13+Calcoli!$B$9*B73+Calcoli!$B$9*Calcoli!$B$10,B73^Calcoli!$B$13+Calcoli!$B$9))","v":3.1733806089134743E-4},{"$f":"(Calcoli!$B$9*B73^(Calcoli!$B$13-1))/D73","v":0.34161670523052029},{"$f":"IF(Calcoli!$B$13>=2, (Calcoli!$B$9*Calcoli!$B$10*B73^(Calcoli!$B$13-2))/D73,NA())","v":1.4653143045429087E-6},{"$f":"IF(Calcoli!$B$13>=3,(Calcoli!$B$9*Calcoli!$B$10*Calcoli!$B$11*B73^(Calcoli!$B$13-3))/D73,NA())","v":{"$error":"#N/A"}},{"$f":"IF(Calcoli!$B$13=3,(E73+F73*2+G73*3),IF(Calcoli!$B$13=2,(E73+F73*2),E73))","v":0.34161963585912936},0.17218705680175239,{"$f":"(B73-(Calcoli!$B$8/B73))/'Acido - Base forte'!$F$1","v":0.14454397706767416},{"$f":"(B73-(Calcoli!$B$8/B73))/'Acido - Base forte'!$F$2","v":0.14454397706767416}]
[{"$f":"IF((I74*'Acido - Base forte'!$F$3*'Acido - Base forte'!$F$1)/'Acido - Base forte'!$F$2>0,IF((I74*'Acido - Base forte'!$F$3*'Acido - Base forte'!$F$1)/'Acido - Base forte'!$F$2<1.8*Calcoli!$B$13*('Acido - Base forte'!$F$1*'Acido - Base forte'!$F$3/'Acido - Base forte'!$F$2),I74*'Acido - Base forte'!$F$3*'Acido - Base forte'!$F$1/'Acido - Base forte'!$F$2,NA()),NA())","v":4.7013646169884762},1.3803842646028823E-2,1.8600000000000005,{"$f":"IF(Calcoli!$B$13=3,B74^Calcoli!$B$13+Calcoli!$B$9*B74^2+Calcoli!$B$9*Calcoli!$B$10*B74+Calcoli!$B$9*Calcoli!$B$10*Calcoli!$B$11,IF(Calcoli!$B$13=2,B74^Calcoli!$B$13+Calcoli!$B$9*B74+Calcoli!$B$9*Calcoli!$B$10,B74^Calcoli!$B$13+Calcoli!$B$9))","v":2.9407535664154017E-4},{"$f":"(Calcoli!$B$9*B74^(Calcoli!$B$13-1))/D74","v":0.35204860763430595},{"$f":"IF(Calcoli!$B$13>=2, (Calcoli!$B$9*Calcoli!$B$10*B74^(Calcoli!$B$13-2))/D74,NA())","v":1.5812273606006589E-6},{"$f":"IF(Calcoli!$B$13>=3,(Calcoli!$B$9*Calcoli!$B$10*Calcoli!$B$11*B74^(Calcoli!$B$13-3))/D74,NA())","v":{"$error":"#N/A"}},{"$f":"IF(Calcoli!$B$13=3,(E74+F74*2+G74*3),IF(Calcoli!$B$13=2,(E74+F74*2),E74))","v":0.35205177008902716},0.18805458467953906,{"$f":"(B74-(Calcoli!$B$8/B74))/'Acido - Base forte'!$F$1","v":0.13803842645304384},{"$f":"(B74-(Calcoli!$B$8/B74))/'Acido - Base forte'!$F$2","v":0.13803842645304384}]
[{"$f":"IF((I75*'Acido - Base forte'!$F$3*'Acido - Base forte'!$F$1)/'Acido - Base forte'!$F$2>0,IF((I75*'Acido - Base forte'!$F$3*'Acido - Base forte'!$F$1)/'Acido - Base forte'!$F$2<1.8*Calcoli!$B$13*('Acido - Base forte'!$F$1*'Acido - Base forte'!$F$3/'Acido - Base forte'!$F$2),I75*'Acido - Base forte'!$F$3*'Acido - Base forte'!$F$1/'Acido - Base forte'!$F$2,NA()),NA())","v":5.0979879342931271},1.3182567385564049E-2,1.8800000000000006,{"$f":"IF(Calcoli!$B$13=3,B75^Calcoli!$B$13+Calcoli!$B$9*B75^2+Calcoli!$B$9*Calcoli!$B$10*B75+Calcoli!$B$9*Calcoli!$B$10*Calcoli!$B$11,IF(Calcoli!$B$13=2,B75^Calcoli!$B$13+Calcoli!$B$9*B75+Calcoli!$B$9*Calcoli!$B$10,B75^Calcoli!$B$13+Calcoli!$B$9))","v":2.7264980326666729E-4},{"$f":"(Calcoli!$B$9*B75^(Calcoli!$B$13-1))/D75","v":0.36262360803917587},{"$f":"IF(Calcoli!$B$13>=2, (Calcoli!$B$9*Calcoli!$B$10*B75^(Calcoli!$B$13-2))/D75,NA())","v":1.7054844508550886E-6},{"$f":"IF(Calcoli!$B$13>=3,(Calcoli!$B$9*Calcoli!$B$10*Calcoli!$B$11*B75^(Calcoli!$B$13-3))/D75,NA())","v":{"$error":"#N/A"}},{"$f":"IF(Calcoli!$B$13=3,(E75+F75*2+G75*3),IF(Calcoli!$B$13=2,(E75+F75*2),E75))","v":0.36262701900807759},0.20391951737172509,{"$f":"(B75-(Calcoli!$B$8/B75))/'Acido - Base forte'!$F$1","v":0.13182567384805471},{"$f":"(B75-(Calcoli!$B$8/B75))/'Acido - Base forte'!$F$2","v":0.13182567384805471}]
[{"$f":"IF((I76*'Acido - Base forte'!$F$3*'Acido - Base forte'!$F$1)/'Acido - Base forte'!$F$2>0,IF((I76*'Acido - Base forte'!$F$3*'Acido - Base forte'!$F$1)/'Acido - Base forte'!$F$2<1.8*Calcoli!$B$13*('Acido - Base forte'!$F$1*'Acido - Base forte'!$F$3/'Acido - Base forte'!$F$2),I76*'Acido - Base forte'!$F$3*'Acido - Base forte'!$F$1/'Acido - Base forte'!$F$2,NA()),NA())","v":5.4944046853297364},1.2589254117941656E-2,1.9000000000000006,{"$f":"IF(Calcoli!$B$13=3,B76^Calcoli!$B$13+Calcoli!$B$9*B76^2+Calcoli!$B$9*Calcoli!$B$10*B76+Calcoli!$B$9*Calcoli!$B$10*Calcoli!$B$11,IF(Calcoli!$B$13=2,B76^Calcoli!$B$13+Calcoli!$B$9*B76+Calcoli!$B$9*Calcoli!$B$10,B76^Calcoli!$B$13+Calcoli!$B$9))","v":2.529091901306733E-4},{"$f":"(Calcoli!$B$9*B76^(Calcoli!$B$13-1))/D76","v":0.37333323409788993},{"$f":"IF(Calcoli!$B$13>=2, (Calcoli!$B$9*Calcoli!$B$10*B76^(Calcoli!$B$13-2))/D76,NA())","v":1.8386045985902825E-6},{"$f":"IF(Calcoli!$B$13>=3,(Calcoli!$B$9*Calcoli!$B$10*Calcoli!$B$11*B76^(Calcoli!$B$13-3))/D76,NA())","v":{"$error":"#N/A"}},{"$f":"IF(Calcoli!$B$13=3,(E76+F76*2+G76*3),IF(Calcoli!$B$13=2,(E76+F76*2),E76))","v":0.37333691130708713},0.21977618741318947,{"$f":"(B76-(Calcoli!$B$8/B76))/'Acido - Base forte'!$F$1","v":0.12589254117147328},{"$f":"(B76-(Calcoli!$B$8/B76))/'Acido - Base forte'!$F$2","v":0.12589254117147328}]
[{"$f":"IF((I77*'Acido - Base forte'!$F$3*'Acido - Base forte'!$F$1)/'Acido - Base forte'!$F$2>0,IF((I77*'Acido - Base forte'!$F$3*'Acido - Base forte'!$F$1)/'Acido - Base forte'!$F$2<1.8*Calcoli!$B$13*('Acido - Base forte'!$F$1*'Acido - Base forte'!$F$3/'Acido - Base forte'!$F$2),I77*'Acido - Base forte'!$F$3*'Acido - Base forte'!$F$1/'Acido - Base forte'!$F$2,NA()),NA())","v":5.8904614304413627},1.2022644346174106E-2,1.9200000000000006,{"$f":"IF(Calcoli!$B$13=3,B77^Calcoli!$B$13+Calcoli!$B$9*B77^2+Calcoli!$B$9*Calcoli!$B$10*B77+Calcoli!$B$9*Calcoli!$B$10*Calcoli!$B$11,IF(Calcoli!$B$13=2,B77^Calcoli!$B$13+Calcoli!$B$9*B77+Calcoli!$B$9*Calcoli!$B$10,B77^Calcoli!$B$13+Calcoli!$B$9))","v":2.3471427467089799E-4},{"$f":"(Calcoli!$B$9*B77^(Calcoli!$B$13-1))/D77","v":0.38416850753000181},{"$f":"IF(Calcoli!$B$13>=2, (Calcoli!$B$9*Calcoli!$B$10*B77^(Calcoli!$B$13-2))/D77,NA())","v":1.9811321686846468E-6},{"$f":"IF(Calcoli!$B$13>=3,(Calcoli!$B$9*Calcoli!$B$10*Calcoli!$B$11*B77^(Calcoli!$B$13-3))/D77,NA())","v":{"$error":"#N/A"}},{"$f":"IF(Calcoli!$B$13=3,(E77+F77*2+G77*3),IF(Calcoli!$B$13=2,(E77+F77*2),E77))","v":0.38417246979433917},0.23561845721765451,{"$f":"(B77-(Calcoli!$B$8/B77))/'Acido - Base forte'!$F$1","v":0.12022644345342341},{"$f":"(B77-(Calcoli!$B$8/B77))/'Acido - Base forte'!$F$2","v":0.12022644345342341}]
[{"$f":"IF((I78*'Acido - Base forte'!$F$3*'Acido - Base forte'!$F$1)/'Acido - Base forte'!$F$2>0,IF((I78*'Acido - Base forte'!$F$3*'Acido - Base forte'!$F$1)/'Acido - Base forte'!$F$2<1.8*Calcoli!$B$13*('Acido - Base forte'!$F$1*'Acido - Base forte'!$F$3/'Acido - Base forte'!$F$2),I78*'Acido - Base forte'!$F$3*'Acido - Base forte'!$F$1/'Acido - Base forte'!$F$2,NA()),NA())","v":6.2859932570358072},1.1481536214968805E-2,1.9400000000000006,{"$f":"IF(Calcoli!$B$13=3,B78^Calcoli!$B$13+Calcoli!$B$9*B78^2+Calcoli!$B$9*Calcoli!$B$10*B78+Calcoli!$B$9*Calcoli!$B$10*Calcoli!$B$11,IF(Calcoli!$B$13=2,B78^Calcoli!$B$13+Calcoli!$B$9*B78+Calcoli!$B$9*Calcoli!$B$10,B78^Calcoli!$B$13+Calcoli!$B$9))","v":2.1793766046790625E-4},{"$f":"(Calcoli!$B$9*B78^(Calcoli!$B$13-1))/D78","v":0.39511996883598244},{"$f":"IF(Calcoli!$B$13>=2, (Calcoli!$B$9*Calcoli!$B$10*B78^(Calcoli!$B$13-2))/D78,NA())","v":2.1336376604284805E-6},{"$f":"IF(Calcoli!$B$13>=3,(Calcoli!$B$9*Calcoli!$B$10*Calcoli!$B$11*B78^(Calcoli!$B$13-3))/D78,NA())","v":{"$error":"#N/A"}},{"$f":"IF(Calcoli!$B$13=3,(E78+F78*2+G78*3),IF(Calcoli!$B$13=2,(E78+F78*2),E78))","v":0.39512423611130332},0.25143973028143229,{"$f":"(B78-(Calcoli!$B$8/B78))/'Acido - Base forte'!$F$1","v":0.11481536214097841},{"$f":"(B78-(Calcoli!$B$8/B78))/'Acido - Base forte'!$F$2","v":0.11481536214097841}]
[{"$f":"IF((I79*'Acido - Base forte'!$F$3*'Acido - Base forte'!$F$1)/'Acido - Base forte'!$F$2>0,IF((I79*'Acido - Base forte'!$F$3*'Acido - Base forte'!$F$1)/'Acido - Base forte'!$F$2<1.8*Calcoli!$B$13*('Acido - Base forte'!$F$1*'Acido - Base forte'!$F$3/'Acido - Base forte'!$F$2),I79*'Acido - Base forte'!$F$3*'Acido - Base forte'!$F$1/'Acido - Base forte'!$F$2,NA()),NA())","v":6.6808241849630576},1.0964781961431832E-2,1.9600000000000006,{"$f":"IF(Calcoli!$B$13=3,B79^Calcoli!$B$13+Calcoli!$B$9*B79^2+Calcoli!$B$9*Calcoli!$B$10*B79+Calcoli!$B$9*Calcoli!$B$10*Calcoli!$B$11,IF(Calcoli!$B$13=2,B79^Calcoli!$B$13+Calcoli!$B$9*B79+Calcoli!$B$9*Calcoli!$B$10,B79^Calcoli!$B$13+Calcoli!$B$9))","v":2.0246277317247961E-4},{"$f":"(Calcoli!$B$9*B79^(Calcoli!$B$13-1))/D79","v":0.40617770576856299},{"$f":"IF(Calcoli!$B$13>=2, (Calcoli!$B$9*Calcoli!$B$10*B79^(Calcoli!$B$13-2))/D79,NA())","v":2.2967185162670024E-6},{"$f":"IF(Calcoli!$B$13>=3,(Calcoli!$B$9*Calcoli!$B$10*Calcoli!$B$11*B79^(Calcoli!$B$13-3))/D79,NA())","v":{"$error":"#N/A"}},{"$f":"IF(Calcoli!$B$13=3,(E79+F79*2+G79*3),IF(Calcoli!$B$13=2,(E79+F79*2),E79))","v":0.40618229920559551},0.26723296739852231,{"$f":"(B79-(Calcoli!$B$8/B79))/'Acido - Base forte'!$F$1","v":0.1096478196051982},{"$f":"(B79-(Calcoli!$B$8/B79))/'Acido - Base forte'!$F$2","v":0.1096478196051982}]
[{"$f":"IF((I80*'Acido - Base forte'!$F$3*'Acido - Base forte'!$F$1)/'Acido - Base forte'!$F$2>0,IF((I80*'Acido - Base forte'!$F$3*'Acido - Base forte'!$F$1)/'Acido - Base forte'!$F$2<1.8*Calcoli!$B$13*('Acido - Base forte'!$F$1*'Acido - Base forte'!$F$3/'Acido - Base forte'!$F$2),I80*'Acido - Base forte'!$F$3*'Acido - Base forte'!$F$1/'Acido - Base forte'!$F$2,NA()),NA())","v":7.0747676935939818},1.047128548050898E-2,1.9800000000000006,{"$f":"IF(Calcoli!$B$13=3,B80^Calcoli!$B$13+Calcoli!$B$9*B80^2+Calcoli!$B$9*Calcoli!$B$10*B80+Calcoli!$B$9*Calcoli!$B$10*Calcoli!$B$11,IF(Calcoli!$B$13=2,B80^Calcoli!$B$13+Calcoli!$B$9*B80+Calcoli!$B$9*Calcoli!$B$10,B80^Calcoli!$B$13+Calcoli!$B$9))","v":1.8818292571813554E-4},{"$f":"(Calcoli!$B$9*B80^(Calcoli!$B$13-1))/D80","v":0.4173313854278588},{"$f":"IF(Calcoli!$B$13>=2, (Calcoli!$B$9*Calcoli!$B$10*B80^(Calcoli!$B$13-2))/D80,NA())","v":2.4709999497854925E-6},{"$f":"IF(Calcoli!$B$13>=3,(Calcoli!$B$9*Calcoli!$B$10*Calcoli!$B$11*B80^(Calcoli!$B$13-3))/D80,NA())","v":{"$error":"#N/A"}},{"$f":"IF(Calcoli!$B$13=3,(E80+F80*2+G80*3),IF(Calcoli!$B$13=2,(E80+F80*2),E80))","v":0.41733632742775839},0.28299070774375923,{"$f":"(B80-(Calcoli!$B$8/B80))/'Acido - Base forte'!$F$1","v":0.10471285479553986},{"$f":"(B80-(Calcoli!$B$8/B80))/'Acido - Base forte'!$F$2","v":0.10471285479553986}]
[{"$f":"IF((I81*'Acido - Base forte'!$F$3*'Acido - Base forte'!$F$1)/'Acido - Base forte'!$F$2>0,IF((I81*'Acido - Base forte'!$F$3*'Acido - Base forte'!$F$1)/'Acido - Base forte'!$F$2<1.8*Calcoli!$B$13*('Acido - Base forte'!$F$1*'Acido - Base forte'!$F$3/'Acido - Base forte'!$F$2),I81*'Acido - Base forte'!$F$3*'Acido - Base forte'!$F$1/'Acido - Base forte'!$F$2,NA()),NA())","v":7.4676273655346641},9.9999999999999881E-3,2.0000000000000004,{"$f":"IF(Calcoli!$B$13=3,B81^Calcoli!$B$13+Calcoli!$B$9*B81^2+Calcoli!$B$9*Calcoli!$B$10*B81+Calcoli!$B$9*Calcoli!$B$10*Calcoli!$B$11,IF(Calcoli!$B$13=2,B81^Calcoli!$B$13+Calcoli!$B$9*B81+Calcoli!$B$9*Calcoli!$B$10,B81^Calcoli!$B$13+Calcoli!$B$9))","v":1.7500046499999969E-4},{"$f":"(Calcoli!$B$9*B81^(Calcoli!$B$13-1))/D81","v":0.42857028979894451},{"$f":"IF(Calcoli!$B$13>=2, (Calcoli!$B$9*Calcoli!$B$10*B81^(Calcoli!$B$13-2))/D81,NA())","v":2.6571357967534593E-6},{"$f":"IF(Calcoli!$B$13>=3,(Calcoli!$B$9*Calcoli!$B$10*Calcoli!$B$11*B81^(Calcoli!$B$13-3))/D81,NA())","v":{"$error":"#N/A"}},{"$f":"IF(Calcoli!$B$13=3,(E81+F81*2+G81*3),IF(Calcoli!$B$13=2,(E81+F81*2),E81))","v":0.42857560407053802},0.29870509462138656,{"$f":"(B81-(Calcoli!$B$8/B81))/'Acido - Base forte'!$F$1","v":9.9999999989999866E-2},{"$f":"(B81-(Calcoli!$B$8/B81))/'Acido - Base forte'!$F$2","v":9.9999999989999866E-2}]
[{"$f":"IF((I82*'Acido - Base forte'!$F$3*'Acido - Base forte'!$F$1)/'Acido - Base forte'!$F$2>0,IF((I82*'Acido - Base forte'!$F$3*'Acido - Base forte'!$F$1)/'Acido - Base forte'!$F$2<1.8*Calcoli!$B$13*('Acido - Base forte'!$F$1*'Acido - Base forte'!$F$3/'Acido - Base forte'!$F$2),I82*'Acido - Base forte'!$F$3*'Acido - Base forte'!$F$1/'Acido - Base forte'!$F$2,NA()),NA())","v":7.8591976404779551},9.5499258602143484E-3,2.0200000000000005,{"$f":"IF(Calcoli!$B$13=3,B82^Calcoli!$B$13+Calcoli!$B$9*B82^2+Calcoli!$B$9*Calcoli!$B$10*B82+Calcoli!$B$9*Calcoli!$B$10*Calcoli!$B$11,IF(Calcoli!$B$13=2,B82^Calcoli!$B$13+Calcoli!$B$9*B82+Calcoli!$B$9*Calcoli!$B$10,B82^Calcoli!$B$13+Calcoli!$B$9))","v":1.6282599288719839E-4},{"$f":"(Calcoli!$B$9*B82^(Calcoli!$B$13-1))/D82","v":0.43988335450364591},{"$f":"IF(Calcoli!$B$13>=2, (Calcoli!$B$9*Calcoli!$B$10*B82^(Calcoli!$B$13-2))/D82,NA())","v":2.8558093935416068E-6},{"$f":"IF(Calcoli!$B$13>=3,(Calcoli!$B$9*Calcoli!$B$10*Calcoli!$B$11*B82^(Calcoli!$B$13-3))/D82,NA())","v":{"$error":"#N/A"}},{"$f":"IF(Calcoli!$B$13=3,(E82+F82*2+G82*3),IF(Calcoli!$B$13=2,(E82+F82*2),E82))","v":0.439889066122433},0.3143679056191182,{"$f":"(B82-(Calcoli!$B$8/B82))/'Acido - Base forte'!$F$1","v":9.5499258591672187E-2},{"$f":"(B82-(Calcoli!$B$8/B82))/'Acido - Base forte'!$F$2","v":9.5499258591672187E-2}]
[{"$f":"IF((I83*'Acido - Base forte'!$F$3*'Acido - Base forte'!$F$1)/'Acido - Base forte'!$F$2>0,IF((I83*'Acido - Base forte'!$F$3*'Acido - Base forte'!$F$1)/'Acido - Base forte'!$F$2<1.8*Calcoli!$B$13*('Acido - Base forte'!$F$1*'Acido - Base forte'!$F$3/'Acido - Base forte'!$F$2),I83*'Acido - Base forte'!$F$3*'Acido - Base forte'!$F$1/'Acido - Base forte'!$F$2,NA()),NA())","v":8.2492646713355189},9.1201083935590812E-3,2.0400000000000005,{"$f":"IF(Calcoli!$B$13=3,B83^Calcoli!$B$13+Calcoli!$B$9*B83^2+Calcoli!$B$9*Calcoli!$B$10*B83+Calcoli!$B$9*Calcoli!$B$10*Calcoli!$B$11,IF(Calcoli!$B$13=2,B83^Calcoli!$B$13+Calcoli!$B$9*B83+Calcoli!$B$9*Calcoli!$B$10,B83^Calcoli!$B$13+Calcoli!$B$9))","v":1.5157765506195991E-4},{"$f":"(Calcoli!$B$9*B83^(Calcoli!$B$13-1))/D83","v":0.45125921049334827},{"$f":"IF(Calcoli!$B$13>=2, (Calcoli!$B$9*Calcoli!$B$10*B83^(Calcoli!$B$13-2))/D83,NA())","v":3.0677344877114206E-6},{"$f":"IF(Calcoli!$B$13>=3,(Calcoli!$B$9*Calcoli!$B$10*Calcoli!$B$11*B83^(Calcoli!$B$13-3))/D83,NA())","v":{"$error":"#N/A"}},{"$f":"IF(Calcoli!$B$13=3,(E83+F83*2+G83*3),IF(Calcoli!$B$13=2,(E83+F83*2),E83))","v":0.45126534596232371},0.32997058685342079,{"$f":"(B83-(Calcoli!$B$8/B83))/'Acido - Base forte'!$F$1","v":9.1201083924626017E-2},{"$f":"(B83-(Calcoli!$B$8/B83))/'Acido - Base forte'!$F$2","v":9.1201083924626017E-2}]
[{"$f":"IF((I84*'Acido - Base forte'!$F$3*'Acido - Base forte'!$F$1)/'Acido - Base forte'!$F$2>0,IF((I84*'Acido - Base forte'!$F$3*'Acido - Base forte'!$F$1)/'Acido - Base forte'!$F$2<1.8*Calcoli!$B$13*('Acido - Base forte'!$F$1*'Acido - Base forte'!$F$3/'Acido - Base forte'!$F$2),I84*'Acido - Base forte'!$F$3*'Acido - Base forte'!$F$1/'Acido - Base forte'!$F$2,NA()),NA())","v":8.637607273534579},8.7096358995607925E-3,2.0600000000000005,{"$f":"IF(Calcoli!$B$13=3,B84^Calcoli!$B$13+Calcoli!$B$9*B84^2+Calcoli!$B$9*Calcoli!$B$10*B84+Calcoli!$B$9*Calcoli!$B$10*Calcoli!$B$11,IF(Calcoli!$B$13=2,B84^Calcoli!$B$13+Calcoli!$B$9*B84+Calcoli!$B$9*Calcoli!$B$10,B84^Calcoli!$B$13+Calcoli!$B$9))","v":1.4118049174962409E-4},{"$f":"(Calcoli!$B$9*B84^(Calcoli!$B$13-1))/D84","v":0.46268622836752421},{"$f":"IF(Calcoli!$B$13>=2, (Calcoli!$B$9*Calcoli!$B$10*B84^(Calcoli!$B$13-2))/D84,NA())","v":3.2936561860448267E-6},{"$f":"IF(Calcoli!$B$13>=3,(Calcoli!$B$9*Calcoli!$B$10*Calcoli!$B$11*B84^(Calcoli!$B$13-3))/D84,NA())","v":{"$error":"#N/A"}},{"$f":"IF(Calcoli!$B$13=3,(E84+F84*2+G84*3),IF(Calcoli!$B$13=2,(E84+F84*2),E84))","v":0.46269281567989629},0.34550429094138319,{"$f":"(B84-(Calcoli!$B$8/B84))/'Acido - Base forte'!$F$1","v":8.7096358984126376E-2},{"$f":"(B84-(Calcoli!$B$8/B84))/'Acido - Base forte'!$F$2","v":8.7096358984126376E-2}]
[{"$f":"IF((I85*'Acido - Base forte'!$F$3*'Acido - Base forte'!$F$1)/'Acido - Base forte'!$F$2>0,IF((I85*'Acido - Base forte'!$F$3*'Acido - Base forte'!$F$1)/'Acido - Base forte'!$F$2<1.8*Calcoli!$B$13*('Acido - Base forte'!$F$1*'Acido - Base forte'!$F$3/'Acido - Base forte'!$F$2),I85*'Acido - Base forte'!$F$3*'Acido - Base forte'!$F$1/'Acido - Base forte'!$F$2,NA()),NA())","v":9.0239979572263085},{"$f":"10^-C85","v":8.3176377110266986E-3},2.0800000000000005,{"$f":"IF(Calcoli!$B$13=3,B85^Calcoli!$B$13+Calcoli!$B$9*B85^2+Calcoli!$B$9*Calcoli!$B$10*B85+Calcoli!$B$9*Calcoli!$B$10*Calcoli!$B$11,IF(Calcoli!$B$13=2,B85^Calcoli!$B$13+Calcoli!$B$9*B85+Calcoli!$B$9*Calcoli!$B$10,B85^Calcoli!$B$13+Calcoli!$B$9))","v":1.3156584492459371E-4},{"$f":"(Calcoli!$B$9*B85^(Calcoli!$B$13-1))/D85","v":0.47415256496436686},{"$f":"IF(Calcoli!$B$13>=2, (Calcoli!$B$9*Calcoli!$B$10*B85^(Calcoli!$B$13-2))/D85,NA())","v":3.5343519457235449E-6},{"$f":"IF(Calcoli!$B$13>=3,(Calcoli!$B$9*Calcoli!$B$10*Calcoli!$B$11*B85^(Calcoli!$B$13-3))/D85,NA())","v":{"$error":"#N/A"}},{"$f":"IF(Calcoli!$B$13=3,(E85+F85*2+G85*3),IF(Calcoli!$B$13=2,(E85+F85*2),E85))","v":0.47415963366825831},{"$f":"(H85-J85)/(1+K85)","v":0.36095991828905233},{"$f":"(B85-(Calcoli!$B$8/B85))/'Acido - Base forte'!$F$1","v":8.3176377098244339E-2},{"$f":"(B85-(Calcoli!$B$8/B85))/'Acido - Base forte'!$F$2","v":8.3176377098244339E-2}]
[{"$f":"IF((I86*'Acido - Base forte'!$F$3*'Acido - Base forte'!$F$1)/'Acido - Base forte'!$F$2>0,IF((I86*'Acido - Base forte'!$F$3*'Acido - Base forte'!$F$1)/'Acido - Base forte'!$F$2<1.8*Calcoli!$B$13*('Acido - Base forte'!$F$1*'Acido - Base forte'!$F$3/'Acido - Base forte'!$F$2),I86*'Acido - Base forte'!$F$3*'Acido - Base forte'!$F$1/'Acido - Base forte'!$F$2,NA()),NA())","v":9.4082040311586965},7.9432823472428051E-3,2.1000000000000005,{"$f":"IF(Calcoli!$B$13=3,B86^Calcoli!$B$13+Calcoli!$B$9*B86^2+Calcoli!$B$9*Calcoli!$B$10*B86+Calcoli!$B$9*Calcoli!$B$10*Calcoli!$B$11,IF(Calcoli!$B$13=2,B86^Calcoli!$B$13+Calcoli!$B$9*B86+Calcoli!$B$9*Calcoli!$B$10,B86^Calcoli!$B$13+Calcoli!$B$9))","v":1.2267081705234022E-4},{"$f":"(Calcoli!$B$9*B86^(Calcoli!$B$13-1))/D86","v":0.48564621183620393},{"$f":"IF(Calcoli!$B$13>=2, (Calcoli!$B$9*Calcoli!$B$10*B86^(Calcoli!$B$13-2))/D86,NA())","v":3.7906326147774616E-6},{"$f":"IF(Calcoli!$B$13>=3,(Calcoli!$B$9*Calcoli!$B$10*Calcoli!$B$11*B86^(Calcoli!$B$13-3))/D86,NA())","v":{"$error":"#N/A"}},{"$f":"IF(Calcoli!$B$13=3,(E86+F86*2+G86*3),IF(Calcoli!$B$13=2,(E86+F86*2),E86))","v":0.48565379310143347},0.37632816124634783,{"$f":"(B86-(Calcoli!$B$8/B86))/'Acido - Base forte'!$F$1","v":7.9432823459838792E-2},{"$f":"(B86-(Calcoli!$B$8/B86))/'Acido - Base forte'!$F$2","v":7.9432823459838792E-2}]
[{"$f":"IF((I87*'Acido - Base forte'!$F$3*'Acido - Base forte'!$F$1)/'Acido - Base forte'!$F$2>0,IF((I87*'Acido - Base forte'!$F$3*'Acido - Base forte'!$F$1)/'Acido - Base forte'!$F$2<1.8*Calcoli!$B$13*('Acido - Base forte'!$F$1*'Acido - Base forte'!$F$3/'Acido - Base forte'!$F$2),I87*'Acido - Base forte'!$F$3*'Acido - Base forte'!$F$1/'Acido - Base forte'!$F$2,NA()),NA())","v":9.7899887661353766},7.5857757502918238E-3,2.1200000000000006,{"$f":"IF(Calcoli!$B$13=3,B87^Calcoli!$B$13+Calcoli!$B$9*B87^2+Calcoli!$B$9*Calcoli!$B$10*B87+Calcoli!$B$9*Calcoli!$B$10*Calcoli!$B$11,IF(Calcoli!$B$13=2,B87^Calcoli!$B$13+Calcoli!$B$9*B87+Calcoli!$B$9*Calcoli!$B$10,B87^Calcoli!$B$13+Calcoli!$B$9))","v":1.1443777686090415E-4},{"$f":"(Calcoli!$B$9*B87^(Calcoli!$B$13-1))/D87","v":0.49715504519404352},{"$f":"IF(Calcoli!$B$13>=2, (Calcoli!$B$9*Calcoli!$B$10*B87^(Calcoli!$B$13-2))/D87,NA())","v":4.0633435282930582E-6},{"$f":"IF(Calcoli!$B$13>=3,(Calcoli!$B$9*Calcoli!$B$10*Calcoli!$B$11*B87^(Calcoli!$B$13-3))/D87,NA())","v":{"$error":"#N/A"}},{"$f":"IF(Calcoli!$B$13=3,(E87+F87*2+G87*3),IF(Calcoli!$B$13=2,(E87+F87*2),E87))","v":0.4971631718811001},0.39159955064541507,{"$f":"(B87-(Calcoli!$B$8/B87))/'Acido - Base forte'!$F$1","v":7.5857757489735667E-2},{"$f":"(B87-(Calcoli!$B$8/B87))/'Acido - Base forte'!$F$2","v":7.5857757489735667E-2}]
[{"$f":"IF((I88*'Acido - Base forte'!$F$3*'Acido - Base forte'!$F$1)/'Acido - Base forte'!$F$2>0,IF((I88*'Acido - Base forte'!$F$3*'Acido - Base forte'!$F$1)/'Acido - Base forte'!$F$2<1.8*Calcoli!$B$13*('Acido - Base forte'!$F$1*'Acido - Base forte'!$F$3/'Acido - Base forte'!$F$2),I88*'Acido - Base forte'!$F$3*'Acido - Base forte'!$F$1/'Acido - Base forte'!$F$2,NA()),NA())","v":10.169112605328264},7.2443596007498879E-3,2.1400000000000006,{"$f":"IF(Calcoli!$B$13=3,B88^Calcoli!$B$13+Calcoli!$B$9*B88^2+Calcoli!$B$9*Calcoli!$B$10*B88+Calcoli!$B$9*Calcoli!$B$10*Calcoli!$B$11,IF(Calcoli!$B$13=2,B88^Calcoli!$B$13+Calcoli!$B$9*B88+Calcoli!$B$9*Calcoli!$B$10,B88^Calcoli!$B$13+Calcoli!$B$9))","v":1.0681390803060123E-4},{"$f":"(Calcoli!$B$9*B88^(Calcoli!$B$13-1))/D88","v":0.50866687688328305},{"$f":"IF(Calcoli!$B$13>=2, (Calcoli!$B$9*Calcoli!$B$10*B88^(Calcoli!$B$13-2))/D88,NA())","v":4.3533656672011447E-6},{"$f":"IF(Calcoli!$B$13>=3,(Calcoli!$B$9*Calcoli!$B$10*Calcoli!$B$11*B88^(Calcoli!$B$13-3))/D88,NA())","v":{"$error":"#N/A"}},{"$f":"IF(Calcoli!$B$13=3,(E88+F88*2+G88*3),IF(Calcoli!$B$13=2,(E88+F88*2),E88))","v":0.5086755836146174},0.40676450421313065,{"$f":"(B88-(Calcoli!$B$8/B88))/'Acido - Base forte'!$F$1","v":7.2443595993695029E-2},{"$f":"(B88-(Calcoli!$B$8/B88))/'Acido - Base forte'!$F$2","v":7.2443595993695029E-2}]
[{"$f":"IF((I89*'Acido - Base forte'!$F$3*'Acido - Base forte'!$F$1)/'Acido - Base forte'!$F$2>0,IF((I89*'Acido - Base forte'!$F$3*'Acido - Base forte'!$F$1)/'Acido - Base forte'!$F$2<1.8*Calcoli!$B$13*('Acido - Base forte'!$F$1*'Acido - Base forte'!$F$3/'Acido - Base forte'!$F$2),I89*'Acido - Base forte'!$F$3*'Acido - Base forte'!$F$1/'Acido - Base forte'!$F$2,NA()),NA())","v":10.545334408249349},6.9183097091893532E-3,2.1600000000000006,{"$f":"IF(Calcoli!$B$13=3,B89^Calcoli!$B$13+Calcoli!$B$9*B89^2+Calcoli!$B$9*Calcoli!$B$10*B89+Calcoli!$B$9*Calcoli!$B$10*Calcoli!$B$11,IF(Calcoli!$B$13=2,B89^Calcoli!$B$13+Calcoli!$B$9*B89+Calcoli!$B$9*Calcoli!$B$10,B89^Calcoli!$B$13+Calcoli!$B$9))","v":9.9750797051183815E-5},{"$f":"(Calcoli!$B$9*B89^(Calcoli!$B$13-1))/D89","v":0.52016950593683864},{"$f":"IF(Calcoli!$B$13>=2, (Calcoli!$B$9*Calcoli!$B$10*B89^(Calcoli!$B$13-2))/D89,NA())","v":4.6616168867442803E-6},{"$f":"IF(Calcoli!$B$13>=3,(Calcoli!$B$9*Calcoli!$B$10*Calcoli!$B$11*B89^(Calcoli!$B$13-3))/D89,NA())","v":{"$error":"#N/A"}},{"$f":"IF(Calcoli!$B$13=3,(E89+F89*2+G89*3),IF(Calcoli!$B$13=2,(E89+F89*2),E89))","v":0.52017882917061209},0.42181337632997395,{"$f":"(B89-(Calcoli!$B$8/B89))/'Acido - Base forte'!$F$1","v":6.9183097077439124E-2},{"$f":"(B89-(Calcoli!$B$8/B89))/'Acido - Base forte'!$F$2","v":6.9183097077439124E-2}]
[{"$f":"IF((I90*'Acido - Base forte'!$F$3*'Acido - Base forte'!$F$1)/'Acido - Base forte'!$F$2>0,IF((I90*'Acido - Base forte'!$F$3*'Acido - Base forte'!$F$1)/'Acido - Base forte'!$F$2<1.8*Calcoli!$B$13*('Acido - Base forte'!$F$1*'Acido - Base forte'!$F$3/'Acido - Base forte'!$F$2),I90*'Acido - Base forte'!$F$3*'Acido - Base forte'!$F$1/'Acido - Base forte'!$F$2,NA()),NA())","v":10.918412714923145},6.6069344800759452E-3,2.1800000000000006,{"$f":"IF(Calcoli!$B$13=3,B90^Calcoli!$B$13+Calcoli!$B$9*B90^2+Calcoli!$B$9*Calcoli!$B$10*B90+Calcoli!$B$9*Calcoli!$B$10*Calcoli!$B$11,IF(Calcoli!$B$13=2,B90^Calcoli!$B$13+Calcoli!$B$9*B90+Calcoli!$B$9*Calcoli!$B$10,B90^Calcoli!$B$13+Calcoli!$B$9))","v":9.3204056824585982E-5},{"$f":"(Calcoli!$B$9*B90^(Calcoli!$B$13-1))/D90","v":0.53165077024306551},{"$f":"IF(Calcoli!$B$13>=2, (Calcoli!$B$9*Calcoli!$B$10*B90^(Calcoli!$B$13-2))/D90,NA())","v":4.9890532219552404E-6},{"$f":"IF(Calcoli!$B$13>=3,(Calcoli!$B$9*Calcoli!$B$10*Calcoli!$B$11*B90^(Calcoli!$B$13-3))/D90,NA())","v":{"$error":"#N/A"}},{"$f":"IF(Calcoli!$B$13=3,(E90+F90*2+G90*3),IF(Calcoli!$B$13=2,(E90+F90*2),E90))","v":0.53166074834950938},0.43673650859692575,{"$f":"(B90-(Calcoli!$B$8/B90))/'Acido - Base forte'!$F$1","v":6.6069344785623832E-2},{"$f":"(B90-(Calcoli!$B$8/B90))/'Acido - Base forte'!$F$2","v":6.6069344785623832E-2}]
[{"$f":"IF((I91*'Acido - Base forte'!$F$3*'Acido - Base forte'!$F$1)/'Acido - Base forte'!$F$2>0,IF((I91*'Acido - Base forte'!$F$3*'Acido - Base forte'!$F$1)/'Acido - Base forte'!$F$2<1.8*Calcoli!$B$13*('Acido - Base forte'!$F$1*'Acido - Base forte'!$F$3/'Acido - Base forte'!$F$2),I91*'Acido - Base forte'!$F$3*'Acido - Base forte'!$F$1/'Acido - Base forte'!$F$2,NA()),NA())","v":11.288107016741327},6.309573444801919E-3,2.2000000000000006,{"$f":"IF(Calcoli!$B$13=3,B91^Calcoli!$B$13+Calcoli!$B$9*B91^2+Calcoli!$B$9*Calcoli!$B$10*B91+Calcoli!$B$9*Calcoli!$B$10*Calcoli!$B$11,IF(Calcoli!$B$13=2,B91^Calcoli!$B$13+Calcoli!$B$9*B91+Calcoli!$B$9*Calcoli!$B$10,B91^Calcoli!$B$13+Calcoli!$B$9))","v":8.7132982891363939E-5},{"$f":"(Calcoli!$B$9*B91^(Calcoli!$B$13-1))/D91","v":0.54309859786407721},{"$f":"IF(Calcoli!$B$13>=2, (Calcoli!$B$9*Calcoli!$B$10*B91^(Calcoli!$B$13-2))/D91,NA())","v":5.3366702776577132E-6},{"$f":"IF(Calcoli!$B$13>=3,(Calcoli!$B$9*Calcoli!$B$10*Calcoli!$B$11*B91^(Calcoli!$B$13-3))/D91,NA())","v":{"$error":"#N/A"}},{"$f":"IF(Calcoli!$B$13=3,(E91+F91*2+G91*3),IF(Calcoli!$B$13=2,(E91+F91*2),E91))","v":0.54310927120463248},0.45152428066965306,{"$f":"(B91-(Calcoli!$B$8/B91))/'Acido - Base forte'!$F$1","v":6.3095734432170258E-2},{"$f":"(B91-(Calcoli!$B$8/B91))/'Acido - Base forte'!$F$2","v":6.3095734432170258E-2}]
[{"$f":"IF((I92*'Acido - Base forte'!$F$3*'Acido - Base forte'!$F$1)/'Acido - Base forte'!$F$2>0,IF((I92*'Acido - Base forte'!$F$3*'Acido - Base forte'!$F$1)/'Acido - Base forte'!$F$2<1.8*Calcoli!$B$13*('Acido - Base forte'!$F$1*'Acido - Base forte'!$F$3/'Acido - Base forte'!$F$2),I92*'Acido - Base forte'!$F$3*'Acido - Base forte'!$F$1/'Acido - Base forte'!$F$2,NA()),NA())","v":11.654179020623845},6.0255958607435666E-3,2.2200000000000006,{"$f":"IF(Calcoli!$B$13=3,B92^Calcoli!$B$13+Calcoli!$B$9*B92^2+Calcoli!$B$9*Calcoli!$B$10*B92+Calcoli!$B$9*Calcoli!$B$10*Calcoli!$B$11,IF(Calcoli!$B$13=2,B92^Calcoli!$B$13+Calcoli!$B$9*B92+Calcoli!$B$9*Calcoli!$B$10,B92^Calcoli!$B$13+Calcoli!$B$9))","v":8.1500239432586756E-5},{"$f":"(Calcoli!$B$9*B92^(Calcoli!$B$13-1))/D92","v":0.55450105754545009},{"$f":"IF(Calcoli!$B$13>=2, (Calcoli!$B$9*Calcoli!$B$10*B92^(Calcoli!$B$13-2))/D92,NA())","v":5.7055047106288146E-6},{"$f":"IF(Calcoli!$B$13>=3,(Calcoli!$B$9*Calcoli!$B$10*Calcoli!$B$11*B92^(Calcoli!$B$13-3))/D92,NA())","v":{"$error":"#N/A"}},{"$f":"IF(Calcoli!$B$13=3,(E92+F92*2+G92*3),IF(Calcoli!$B$13=2,(E92+F92*2),E92))","v":0.55451246855487135},0.4661671608249538,{"$f":"(B92-(Calcoli!$B$8/B92))/'Acido - Base forte'!$F$1","v":6.0255958590839799E-2},{"$f":"(B92-(Calcoli!$B$8/B92))/'Acido - Base forte'!$F$2","v":6.0255958590839799E-2}]
[{"$f":"IF((I93*'Acido - Base forte'!$F$3*'Acido - Base forte'!$F$1)/'Acido - Base forte'!$F$2>0,IF((I93*'Acido - Base forte'!$F$3*'Acido - Base forte'!$F$1)/'Acido - Base forte'!$F$2<1.8*Calcoli!$B$13*('Acido - Base forte'!$F$1*'Acido - Base forte'!$F$3/'Acido - Base forte'!$F$2),I93*'Acido - Base forte'!$F$3*'Acido - Base forte'!$F$1/'Acido - Base forte'!$F$2,NA()),NA())","v":12.016393893451847},5.7543993733715597E-3,2.2400000000000007,{"$f":"IF(Calcoli!$B$13=3,B93^Calcoli!$B$13+Calcoli!$B$9*B93^2+Calcoli!$B$9*Calcoli!$B$10*B93+Calcoli!$B$9*Calcoli!$B$10*Calcoli!$B$11,IF(Calcoli!$B$13=2,B93^Calcoli!$B$13+Calcoli!$B$9*B93+Calcoli!$B$9*Calcoli!$B$10,B93^Calcoli!$B$13+Calcoli!$B$9))","v":7.6271572448545694E-5},{"$f":"(Calcoli!$B$9*B93^(Calcoli!$B$13-1))/D93","v":0.5658464079707014},{"$f":"IF(Calcoli!$B$13>=2, (Calcoli!$B$9*Calcoli!$B$10*B93^(Calcoli!$B$13-2))/D93,NA())","v":6.0966358116413316E-6},{"$f":"IF(Calcoli!$B$13>=3,(Calcoli!$B$9*Calcoli!$B$10*Calcoli!$B$11*B93^(Calcoli!$B$13-3))/D93,NA())","v":{"$error":"#N/A"}},{"$f":"IF(Calcoli!$B$13=3,(E93+F93*2+G93*3),IF(Calcoli!$B$13=2,(E93+F93*2),E93))","v":0.56585860124232468},0.4806557557380739,{"$f":"(B93-(Calcoli!$B$8/B93))/'Acido - Base forte'!$F$1","v":5.7543993716337588E-2},{"$f":"(B93-(Calcoli!$B$8/B93))/'Acido - Base forte'!$F$2","v":5.7543993716337588E-2}]
[{"$f":"IF((I94*'Acido - Base forte'!$F$3*'Acido - Base forte'!$F$1)/'Acido - Base forte'!$F$2>0,IF((I94*'Acido - Base forte'!$F$3*'Acido - Base forte'!$F$1)/'Acido - Base forte'!$F$2<1.8*Calcoli!$B$13*('Acido - Base forte'!$F$1*'Acido - Base forte'!$F$3/'Acido - Base forte'!$F$2),I94*'Acido - Base forte'!$F$3*'Acido - Base forte'!$F$1/'Acido - Base forte'!$F$2,NA()),NA())","v":12.374521474268709},5.4954087385762325E-3,2.2600000000000007,{"$f":"IF(Calcoli!$B$13=3,B94^Calcoli!$B$13+Calcoli!$B$9*B94^2+Calcoli!$B$9*Calcoli!$B$10*B94+Calcoli!$B$9*Calcoli!$B$10*Calcoli!$B$11,IF(Calcoli!$B$13=2,B94^Calcoli!$B$13+Calcoli!$B$9*B94+Calcoli!$B$9*Calcoli!$B$10,B94^Calcoli!$B$13+Calcoli!$B$9))","v":7.1415547743341765E-5},{"$f":"(Calcoli!$B$9*B94^(Calcoli!$B$13-1))/D94","v":0.57712314533307441},{"$f":"IF(Calcoli!$B$13>=2, (Calcoli!$B$9*Calcoli!$B$10*B94^(Calcoli!$B$13-2))/D94,NA())","v":6.5111871951350118E-6},{"$f":"IF(Calcoli!$B$13>=3,(Calcoli!$B$9*Calcoli!$B$10*Calcoli!$B$11*B94^(Calcoli!$B$13-3))/D94,NA())","v":{"$error":"#N/A"}},{"$f":"IF(Calcoli!$B$13=3,(E94+F94*2+G94*3),IF(Calcoli!$B$13=2,(E94+F94*2),E94))","v":0.57713616770746468},0.49498085897074828,{"$f":"(B94-(Calcoli!$B$8/B94))/'Acido - Base forte'!$F$1","v":5.4954087367565317E-2},{"$f":"(B94-(Calcoli!$B$8/B94))/'Acido - Base forte'!$F$2","v":5.4954087367565317E-2}]
[{"$f":"IF((I95*'Acido - Base forte'!$F$3*'Acido - Base forte'!$F$1)/'Acido - Base forte'!$F$2>0,IF((I95*'Acido - Base forte'!$F$3*'Acido - Base forte'!$F$1)/'Acido - Base forte'!$F$2<1.8*Calcoli!$B$13*('Acido - Base forte'!$F$1*'Acido - Base forte'!$F$3/'Acido - Base forte'!$F$2),I95*'Acido - Base forte'!$F$3*'Acido - Base forte'!$F$1/'Acido - Base forte'!$F$2,NA()),NA())","v":12.728337442451895},5.2480746024977142E-3,2.2800000000000007,{"$f":"IF(Calcoli!$B$13=3,B95^Calcoli!$B$13+Calcoli!$B$9*B95^2+Calcoli!$B$9*Calcoli!$B$10*B95+Calcoli!$B$9*Calcoli!$B$10*Calcoli!$B$11,IF(Calcoli!$B$13=2,B95^Calcoli!$B$13+Calcoli!$B$9*B95+Calcoli!$B$9*Calcoli!$B$10,B95^Calcoli!$B$13+Calcoli!$B$9))","v":6.6903311552114395E-5},{"$f":"(Calcoli!$B$9*B95^(Calcoli!$B$13-1))/D95","v":0.58832004882258948},{"$f":"IF(Calcoli!$B$13>=2, (Calcoli!$B$9*Calcoli!$B$10*B95^(Calcoli!$B$13-2))/D95,NA())","v":6.950328604254332E-6},{"$f":"IF(Calcoli!$B$13>=3,(Calcoli!$B$9*Calcoli!$B$10*Calcoli!$B$11*B95^(Calcoli!$B$13-3))/D95,NA())","v":{"$error":"#N/A"}},{"$f":"IF(Calcoli!$B$13=3,(E95+F95*2+G95*3),IF(Calcoli!$B$13=2,(E95+F95*2),E95))","v":0.588333949479798},0.50913349769807581,{"$f":"(B95-(Calcoli!$B$8/B95))/'Acido - Base forte'!$F$1","v":5.2480746005922528E-2},{"$f":"(B95-(Calcoli!$B$8/B95))/'Acido - Base forte'!$F$2","v":5.2480746005922528E-2}]
[{"$f":"IF((I96*'Acido - Base forte'!$F$3*'Acido - Base forte'!$F$1)/'Acido - Base forte'!$F$2>0,IF((I96*'Acido - Base forte'!$F$3*'Acido - Base forte'!$F$1)/'Acido - Base forte'!$F$2<1.8*Calcoli!$B$13*('Acido - Base forte'!$F$1*'Acido - Base forte'!$F$3/'Acido - Base forte'!$F$2),I96*'Acido - Base forte'!$F$3*'Acido - Base forte'!$F$1/'Acido - Base forte'!$F$2,NA()),NA())","v":13.077624430924883},5.0118723362727125E-3,2.3000000000000007,{"$f":"IF(Calcoli!$B$13=3,B96^Calcoli!$B$13+Calcoli!$B$9*B96^2+Calcoli!$B$9*Calcoli!$B$10*B96+Calcoli!$B$9*Calcoli!$B$10*Calcoli!$B$11,IF(Calcoli!$B$13=2,B96^Calcoli!$B$13+Calcoli!$B$9*B96+Calcoli!$B$9*Calcoli!$B$10,B96^Calcoli!$B$13+Calcoli!$B$9))","v":6.270837183714103E-5},{"$f":"(Calcoli!$B$9*B96^(Calcoli!$B$13-1))/D96","v":0.59942622365746123},{"$f":"IF(Calcoli!$B$13>=2, (Calcoli!$B$9*Calcoli!$B$10*B96^(Calcoli!$B$13-2))/D96,NA())","v":7.4152778389406202E-6},{"$f":"IF(Calcoli!$B$13>=3,(Calcoli!$B$9*Calcoli!$B$10*Calcoli!$B$11*B96^(Calcoli!$B$13-3))/D96,NA())","v":{"$error":"#N/A"}},{"$f":"IF(Calcoli!$B$13=3,(E96+F96*2+G96*3),IF(Calcoli!$B$13=2,(E96+F96*2),E96))","v":0.59944105421313909},0.52310497723699534,{"$f":"(B96-(Calcoli!$B$8/B96))/'Acido - Base forte'!$F$1","v":5.01187233427745E-2},{"$f":"(B96-(Calcoli!$B$8/B96))/'Acido - Base forte'!$F$2","v":5.01187233427745E-2}]
[{"$f":"IF((I97*'Acido - Base forte'!$F$3*'Acido - Base forte'!$F$1)/'Acido - Base forte'!$F$2>0,IF((I97*'Acido - Base forte'!$F$3*'Acido - Base forte'!$F$1)/'Acido - Base forte'!$F$2<1.8*Calcoli!$B$13*('Acido - Base forte'!$F$1*'Acido - Base forte'!$F$3/'Acido - Base forte'!$F$2),I97*'Acido - Base forte'!$F$3*'Acido - Base forte'!$F$1/'Acido - Base forte'!$F$2,NA()),NA())","v":13.422173074483714},4.786300923226375E-3,{"$f":"C96+0.02","v":2.3200000000000007},{"$f":"IF(Calcoli!$B$13=3,B97^Calcoli!$B$13+Calcoli!$B$9*B97^2+Calcoli!$B$9*Calcoli!$B$10*B97+Calcoli!$B$9*Calcoli!$B$10*Calcoli!$B$11,IF(Calcoli!$B$13=2,B97^Calcoli!$B$13+Calcoli!$B$9*B97+Calcoli!$B$9*Calcoli!$B$10,B97^Calcoli!$B$13+Calcoli!$B$9))","v":5.8806398451875463E-5},{"$f":"(Calcoli!$B$9*B97^(Calcoli!$B$13-1))/D97","v":0.61043114132511489},{"$f":"IF(Calcoli!$B$13>=2, (Calcoli!$B$9*Calcoli!$B$10*B97^(Calcoli!$B$13-2))/D97,NA())","v":7.9073028146849573E-6},{"$f":"IF(Calcoli!$B$13>=3,(Calcoli!$B$9*Calcoli!$B$10*Calcoli!$B$11*B97^(Calcoli!$B$13-3))/D97,NA())","v":{"$error":"#N/A"}},{"$f":"IF(Calcoli!$B$13=3,(E97+F97*2+G97*3),IF(Calcoli!$B$13=2,(E97+F97*2),E97))","v":0.61044695593074427},0.53688692297934848,{"$f":"(B97-(Calcoli!$B$8/B97))/'Acido - Base forte'!$F$1","v":4.7863009211370787E-2},{"$f":"(B97-(Calcoli!$B$8/B97))/'Acido - Base forte'!$F$2","v":4.7863009211370787E-2}]
[{"$f":"IF((I98*'Acido - Base forte'!$F$3*'Acido - Base forte'!$F$1)/'Acido - Base forte'!$F$2>0,IF((I98*'Acido - Base forte'!$F$3*'Acido - Base forte'!$F$1)/'Acido - Base forte'!$F$2<1.8*Calcoli!$B$13*('Acido - Base forte'!$F$1*'Acido - Base forte'!$F$3/'Acido - Base forte'!$F$2),I98*'Acido - Base forte'!$F$3*'Acido - Base forte'!$F$1/'Acido - Base forte'!$F$2,NA()),NA())","v":13.761782984435515},4.5708818961487391E-3,2.3400000000000007,{"$f":"IF(Calcoli!$B$13=3,B98^Calcoli!$B$13+Calcoli!$B$9*B98^2+Calcoli!$B$9*Calcoli!$B$10*B98+Calcoli!$B$9*Calcoli!$B$10*Calcoli!$B$11,IF(Calcoli!$B$13=2,B98^Calcoli!$B$13+Calcoli!$B$9*B98+Calcoli!$B$9*Calcoli!$B$10,B98^Calcoli!$B$13+Calcoli!$B$9))","v":5.5175040529655837E-5},{"$f":"(Calcoli!$B$9*B98^(Calcoli!$B$13-1))/D98","v":0.6213246767383821},{"$f":"IF(Calcoli!$B$13>=2, (Calcoli!$B$9*Calcoli!$B$10*B98^(Calcoli!$B$13-2))/D98,NA())","v":8.4277237594428001E-6},{"$f":"IF(Calcoli!$B$13>=3,(Calcoli!$B$9*Calcoli!$B$10*Calcoli!$B$11*B98^(Calcoli!$B$13-3))/D98,NA())","v":{"$error":"#N/A"}},{"$f":"IF(Calcoli!$B$13=3,(E98+F98*2+G98*3),IF(Calcoli!$B$13=2,(E98+F98*2),E98))","v":0.62134153218590094},0.55047131937742055,{"$f":"(B98-(Calcoli!$B$8/B98))/'Acido - Base forte'!$F$1","v":4.5708818939609777E-2},{"$f":"(B98-(Calcoli!$B$8/B98))/'Acido - Base forte'!$F$2","v":4.5708818939609777E-2}]
[{"$f":"IF((I99*'Acido - Base forte'!$F$3*'Acido - Base forte'!$F$1)/'Acido - Base forte'!$F$2>0,IF((I99*'Acido - Base forte'!$F$3*'Acido - Base forte'!$F$1)/'Acido - Base forte'!$F$2<1.8*Calcoli!$B$13*('Acido - Base forte'!$F$1*'Acido - Base forte'!$F$3/'Acido - Base forte'!$F$2),I99*'Acido - Base forte'!$F$3*'Acido - Base forte'!$F$1/'Acido - Base forte'!$F$2,NA()),NA())","v":14.096263641961002},4.3651583224016497E-3,2.3600000000000008,{"$f":"IF(Calcoli!$B$13=3,B99^Calcoli!$B$13+Calcoli!$B$9*B99^2+Calcoli!$B$9*Calcoli!$B$10*B99+Calcoli!$B$9*Calcoli!$B$10*Calcoli!$B$11,IF(Calcoli!$B$13=2,B99^Calcoli!$B$13+Calcoli!$B$9*B99+Calcoli!$B$9*Calcoli!$B$10,B99^Calcoli!$B$13+Calcoli!$B$9))","v":5.179375959764475E-5},{"$f":"(Calcoli!$B$9*B99^(Calcoli!$B$13-1))/D99","v":0.63209714205610812},{"$f":"IF(Calcoli!$B$13>=2, (Calcoli!$B$9*Calcoli!$B$10*B99^(Calcoli!$B$13-2))/D99,NA())","v":8.9779155560884448E-6},{"$f":"IF(Calcoli!$B$13>=3,(Calcoli!$B$9*Calcoli!$B$10*Calcoli!$B$11*B99^(Calcoli!$B$13-3))/D99,NA())","v":{"$error":"#N/A"}},{"$f":"IF(Calcoli!$B$13=3,(E99+F99*2+G99*3),IF(Calcoli!$B$13=2,(E99+F99*2),E99))","v":0.63211509788722031},0.56385054567844006,{"$f":"(B99-(Calcoli!$B$8/B99))/'Acido - Base forte'!$F$1","v":4.3651583201107812E-2},{"$f":"(B99-(Calcoli!$B$8/B99))/'Acido - Base forte'!$F$2","v":4.3651583201107812E-2}]
[{"$f":"IF((I100*'Acido - Base forte'!$F$3*'Acido - Base forte'!$F$1)/'Acido - Base forte'!$F$2>0,IF((I100*'Acido - Base forte'!$F$3*'Acido - Base forte'!$F$1)/'Acido - Base forte'!$F$2<1.8*Calcoli!$B$13*('Acido - Base forte'!$F$1*'Acido - Base forte'!$F$3/'Acido - Base forte'!$F$2),I100*'Acido - Base forte'!$F$3*'Acido - Base forte'!$F$1/'Acido - Base forte'!$F$2,NA()),NA())","v":14.425435203894942},4.1686938347033457E-3,2.3800000000000008,{"$f":"IF(Calcoli!$B$13=3,B100^Calcoli!$B$13+Calcoli!$B$9*B100^2+Calcoli!$B$9*Calcoli!$B$10*B100+Calcoli!$B$9*Calcoli!$B$10*Calcoli!$B$11,IF(Calcoli!$B$13=2,B100^Calcoli!$B$13+Calcoli!$B$9*B100+Calcoli!$B$9*Calcoli!$B$10,B100^Calcoli!$B$13+Calcoli!$B$9))","v":4.8643677047768776E-5},{"$f":"(Calcoli!$B$9*B100^(Calcoli!$B$13-1))/D100","v":0.64273931696348163},{"$f":"IF(Calcoli!$B$13>=2, (Calcoli!$B$9*Calcoli!$B$10*B100^(Calcoli!$B$13-2))/D100,NA())","v":9.5593102376566528E-6},{"$f":"IF(Calcoli!$B$13>=3,(Calcoli!$B$9*Calcoli!$B$10*Calcoli!$B$11*B100^(Calcoli!$B$13-3))/D100,NA())","v":{"$error":"#N/A"}},{"$f":"IF(Calcoli!$B$13=3,(E100+F100*2+G100*3),IF(Calcoli!$B$13=2,(E100+F100*2),E100))","v":0.64275843558395696},0.57701740815579772,{"$f":"(B100-(Calcoli!$B$8/B100))/'Acido - Base forte'!$F$1","v":4.1686938323045125E-2},{"$f":"(B100-(Calcoli!$B$8/B100))/'Acido - Base forte'!$F$2","v":4.1686938323045125E-2}]
[{"$f":"IF((I101*'Acido - Base forte'!$F$3*'Acido - Base forte'!$F$1)/'Acido - Base forte'!$F$2>0,IF((I101*'Acido - Base forte'!$F$3*'Acido - Base forte'!$F$1)/'Acido - Base forte'!$F$2<1.8*Calcoli!$B$13*('Acido - Base forte'!$F$1*'Acido - Base forte'!$F$3/'Acido - Base forte'!$F$2),I101*'Acido - Base forte'!$F$3*'Acido - Base forte'!$F$1/'Acido - Base forte'!$F$2,NA()),NA())","v":14.749129215940782},3.9810717055349647E-3,2.4000000000000008,{"$f":"IF(Calcoli!$B$13=3,B101^Calcoli!$B$13+Calcoli!$B$9*B101^2+Calcoli!$B$9*Calcoli!$B$10*B101+Calcoli!$B$9*Calcoli!$B$10*Calcoli!$B$11,IF(Calcoli!$B$13=2,B101^Calcoli!$B$13+Calcoli!$B$9*B101+Calcoli!$B$9*Calcoli!$B$10,B101^Calcoli!$B$13+Calcoli!$B$9))","v":4.5707434716123302E-5},{"$f":"(Calcoli!$B$9*B101^(Calcoli!$B$13-1))/D101","v":0.6532424752549022},{"$f":"IF(Calcoli!$B$13>=2, (Calcoli!$B$9*Calcoli!$B$10*B101^(Calcoli!$B$13-2))/D101,NA())","v":1.0173399642486854E-5},{"$f":"IF(Calcoli!$B$13>=3,(Calcoli!$B$9*Calcoli!$B$10*Calcoli!$B$11*B101^(Calcoli!$B$13-3))/D101,NA())","v":{"$error":"#N/A"}},{"$f":"IF(Calcoli!$B$13=3,(E101+F101*2+G101*3),IF(Calcoli!$B$13=2,(E101+F101*2),E101))","v":0.65326282205418718},0.58996516863763127,{"$f":"(B101-(Calcoli!$B$8/B101))/'Acido - Base forte'!$F$1","v":3.9810717030230779E-2},{"$f":"(B101-(Calcoli!$B$8/B101))/'Acido - Base forte'!$F$2","v":3.9810717030230779E-2}]
[{"$f":"IF((I102*'Acido - Base forte'!$F$3*'Acido - Base forte'!$F$1)/'Acido - Base forte'!$F$2>0,IF((I102*'Acido - Base forte'!$F$3*'Acido - Base forte'!$F$1)/'Acido - Base forte'!$F$2<1.8*Calcoli!$B$13*('Acido - Base forte'!$F$1*'Acido - Base forte'!$F$3/'Acido - Base forte'!$F$2),I102*'Acido - Base forte'!$F$3*'Acido - Base forte'!$F$1/'Acido - Base forte'!$F$2,NA()),NA())","v":15.067189229673039},3.8018939632056018E-3,2.4200000000000008,{"$f":"IF(Calcoli!$B$13=3,B102^Calcoli!$B$13+Calcoli!$B$9*B102^2+Calcoli!$B$9*Calcoli!$B$10*B102+Calcoli!$B$9*Calcoli!$B$10*Calcoli!$B$11,IF(Calcoli!$B$13=2,B102^Calcoli!$B$13+Calcoli!$B$9*B102+Calcoli!$B$9*Calcoli!$B$10,B102^Calcoli!$B$13+Calcoli!$B$9))","v":4.2969067431501207E-5},{"$f":"(Calcoli!$B$9*B102^(Calcoli!$B$13-1))/D102","v":0.66359840761025823},{"$f":"IF(Calcoli!$B$13>=2, (Calcoli!$B$9*Calcoli!$B$10*B102^(Calcoli!$B$13-2))/D102,NA())","v":1.0821738236262074E-5},{"$f":"IF(Calcoli!$B$13>=3,(Calcoli!$B$9*Calcoli!$B$10*Calcoli!$B$11*B102^(Calcoli!$B$13-3))/D102,NA())","v":{"$error":"#N/A"}},{"$f":"IF(Calcoli!$B$13=3,(E102+F102*2+G102*3),IF(Calcoli!$B$13=2,(E102+F102*2),E102))","v":0.66362005108673072},0.60268756918692157,{"$f":"(B102-(Calcoli!$B$8/B102))/'Acido - Base forte'!$F$1","v":3.8018939605753338E-2},{"$f":"(B102-(Calcoli!$B$8/B102))/'Acido - Base forte'!$F$2","v":3.8018939605753338E-2}]
[{"$f":"IF((I103*'Acido - Base forte'!$F$3*'Acido - Base forte'!$F$1)/'Acido - Base forte'!$F$2>0,IF((I103*'Acido - Base forte'!$F$3*'Acido - Base forte'!$F$1)/'Acido - Base forte'!$F$2<1.8*Calcoli!$B$13*('Acido - Base forte'!$F$1*'Acido - Base forte'!$F$3/'Acido - Base forte'!$F$2),I103*'Acido - Base forte'!$F$3*'Acido - Base forte'!$F$1/'Acido - Base forte'!$F$2,NA()),NA())","v":15.379471321008404},3.630780547701004E-3,2.4400000000000008,{"$f":"IF(Calcoli!$B$13=3,B103^Calcoli!$B$13+Calcoli!$B$9*B103^2+Calcoli!$B$9*Calcoli!$B$10*B103+Calcoli!$B$9*Calcoli!$B$10*Calcoli!$B$11,IF(Calcoli!$B$13=2,B103^Calcoli!$B$13+Calcoli!$B$9*B103+Calcoli!$B$9*Calcoli!$B$10,B103^Calcoli!$B$13+Calcoli!$B$9))","v":4.0413886493321534E-5},{"$f":"(Calcoli!$B$9*B103^(Calcoli!$B$13-1))/D103","v":0.67379944050314189},{"$f":"IF(Calcoli!$B$13>=2, (Calcoli!$B$9*Calcoli!$B$10*B103^(Calcoli!$B$13-2))/D103,NA())","v":1.1505946107827122E-5},{"$f":"IF(Calcoli!$B$13>=3,(Calcoli!$B$9*Calcoli!$B$10*Calcoli!$B$11*B103^(Calcoli!$B$13-3))/D103,NA())","v":{"$error":"#N/A"}},{"$f":"IF(Calcoli!$B$13=3,(E103+F103*2+G103*3),IF(Calcoli!$B$13=2,(E103+F103*2),E103))","v":0.67382245239535754},0.61517885284033613,{"$f":"(B103-(Calcoli!$B$8/B103))/'Acido - Base forte'!$F$1","v":3.6307805449467753E-2},{"$f":"(B103-(Calcoli!$B$8/B103))/'Acido - Base forte'!$F$2","v":3.6307805449467753E-2}]
[{"$f":"IF((I104*'Acido - Base forte'!$F$3*'Acido - Base forte'!$F$1)/'Acido - Base forte'!$F$2>0,IF((I104*'Acido - Base forte'!$F$3*'Acido - Base forte'!$F$1)/'Acido - Base forte'!$F$2<1.8*Calcoli!$B$13*('Acido - Base forte'!$F$1*'Acido - Base forte'!$F$3/'Acido - Base forte'!$F$2),I104*'Acido - Base forte'!$F$3*'Acido - Base forte'!$F$1/'Acido - Base forte'!$F$2,NA()),NA())","v":15.685844509120184},3.4673685045253084E-3,2.4600000000000009,{"$f":"IF(Calcoli!$B$13=3,B104^Calcoli!$B$13+Calcoli!$B$9*B104^2+Calcoli!$B$9*Calcoli!$B$10*B104+Calcoli!$B$9*Calcoli!$B$10*Calcoli!$B$11,IF(Calcoli!$B$13=2,B104^Calcoli!$B$13+Calcoli!$B$9*B104+Calcoli!$B$9*Calcoli!$B$10,B104^Calcoli!$B$13+Calcoli!$B$9))","v":3.8028373130113886E-5},{"$f":"(Calcoli!$B$9*B104^(Calcoli!$B$13-1))/D104","v":0.68383845122595532},{"$f":"IF(Calcoli!$B$13>=2, (Calcoli!$B$9*Calcoli!$B$10*B104^(Calcoli!$B$13-2))/D104,NA())","v":1.2227712145586792E-5},{"$f":"IF(Calcoli!$B$13>=3,(Calcoli!$B$9*Calcoli!$B$10*Calcoli!$B$11*B104^(Calcoli!$B$13-3))/D104,NA())","v":{"$error":"#N/A"}},{"$f":"IF(Calcoli!$B$13=3,(E104+F104*2+G104*3),IF(Calcoli!$B$13=2,(E104+F104*2),E104))","v":0.68386290665024652},0.62743378036480735,{"$f":"(B104-(Calcoli!$B$8/B104))/'Acido - Base forte'!$F$1","v":3.467368501641277E-2},{"$f":"(B104-(Calcoli!$B$8/B104))/'Acido - Base forte'!$F$2","v":3.467368501641277E-2}]
[{"$f":"IF((I105*'Acido - Base forte'!$F$3*'Acido - Base forte'!$F$1)/'Acido - Base forte'!$F$2>0,IF((I105*'Acido - Base forte'!$F$3*'Acido - Base forte'!$F$1)/'Acido - Base forte'!$F$2<1.8*Calcoli!$B$13*('Acido - Base forte'!$F$1*'Acido - Base forte'!$F$3/'Acido - Base forte'!$F$2),I105*'Acido - Base forte'!$F$3*'Acido - Base forte'!$F$1/'Acido - Base forte'!$F$2,NA()),NA())","v":15.98619107600987},3.3113112148259009E-3,2.4800000000000009,{"$f":"IF(Calcoli!$B$13=3,B105^Calcoli!$B$13+Calcoli!$B$9*B105^2+Calcoli!$B$9*Calcoli!$B$10*B105+Calcoli!$B$9*Calcoli!$B$10*Calcoli!$B$11,IF(Calcoli!$B$13=2,B105^Calcoli!$B$13+Calcoli!$B$9*B105+Calcoli!$B$9*Calcoli!$B$10,B105^Calcoli!$B$13+Calcoli!$B$9))","v":3.5800081072626039E-5},{"$f":"(Calcoli!$B$9*B105^(Calcoli!$B$13-1))/D105","v":0.69370887906127721},{"$f":"IF(Calcoli!$B$13>=2, (Calcoli!$B$9*Calcoli!$B$10*B105^(Calcoli!$B$13-2))/D105,NA())","v":1.2988797401231442E-5},{"$f":"IF(Calcoli!$B$13>=3,(Calcoli!$B$9*Calcoli!$B$10*Calcoli!$B$11*B105^(Calcoli!$B$13-3))/D105,NA())","v":{"$error":"#N/A"}},{"$f":"IF(Calcoli!$B$13=3,(E105+F105*2+G105*3),IF(Calcoli!$B$13=2,(E105+F105*2),E105))","v":0.6937348566560797},0.63944764304039481,{"$f":"(B105-(Calcoli!$B$8/B105))/'Acido - Base forte'!$F$1","v":3.3113112118059486E-2},{"$f":"(B105-(Calcoli!$B$8/B105))/'Acido - Base forte'!$F$2","v":3.3113112118059486E-2}]
[{"$f":"IF((I106*'Acido - Base forte'!$F$3*'Acido - Base forte'!$F$1)/'Acido - Base forte'!$F$2>0,IF((I106*'Acido - Base forte'!$F$3*'Acido - Base forte'!$F$1)/'Acido - Base forte'!$F$2<1.8*Calcoli!$B$13*('Acido - Base forte'!$F$1*'Acido - Base forte'!$F$3/'Acido - Base forte'!$F$2),I106*'Acido - Base forte'!$F$3*'Acido - Base forte'!$F$1/'Acido - Base forte'!$F$2,NA()),NA())","v":16.280406788114888},3.1622776601683707E-3,2.5000000000000009,{"$f":"IF(Calcoli!$B$13=3,B106^Calcoli!$B$13+Calcoli!$B$9*B106^2+Calcoli!$B$9*Calcoli!$B$10*B106+Calcoli!$B$9*Calcoli!$B$10*Calcoli!$B$11,IF(Calcoli!$B$13=2,B106^Calcoli!$B$13+Calcoli!$B$9*B106+Calcoli!$B$9*Calcoli!$B$10,B106^Calcoli!$B$13+Calcoli!$B$9))","v":3.3717547451262724E-5},{"$f":"(Calcoli!$B$9*B106^(Calcoli!$B$13-1))/D106","v":0.70340473267057191},{"$f":"IF(Calcoli!$B$13>=2, (Calcoli!$B$9*Calcoli!$B$10*B106^(Calcoli!$B$13-2))/D106,NA())","v":1.3791038647521373E-5},{"$f":"IF(Calcoli!$B$13>=3,(Calcoli!$B$9*Calcoli!$B$10*Calcoli!$B$11*B106^(Calcoli!$B$13-3))/D106,NA())","v":{"$error":"#N/A"}},{"$f":"IF(Calcoli!$B$13=3,(E106+F106*2+G106*3),IF(Calcoli!$B$13=2,(E106+F106*2),E106))","v":0.70343231474786694},0.65121627152459549,{"$f":"(B106-(Calcoli!$B$8/B106))/'Acido - Base forte'!$F$1","v":3.1622776570060927E-2},{"$f":"(B106-(Calcoli!$B$8/B106))/'Acido - Base forte'!$F$2","v":3.1622776570060927E-2}]
[{"$f":"IF((I107*'Acido - Base forte'!$F$3*'Acido - Base forte'!$F$1)/'Acido - Base forte'!$F$2>0,IF((I107*'Acido - Base forte'!$F$3*'Acido - Base forte'!$F$1)/'Acido - Base forte'!$F$2<1.8*Calcoli!$B$13*('Acido - Base forte'!$F$1*'Acido - Base forte'!$F$3/'Acido - Base forte'!$F$2),I107*'Acido - Base forte'!$F$3*'Acido - Base forte'!$F$1/'Acido - Base forte'!$F$2,NA()),NA())","v":16.568401022407421},3.0199517204020083E-3,2.5200000000000009,{"$f":"IF(Calcoli!$B$13=3,B107^Calcoli!$B$13+Calcoli!$B$9*B107^2+Calcoli!$B$9*Calcoli!$B$10*B107+Calcoli!$B$9*Calcoli!$B$10*Calcoli!$B$11,IF(Calcoli!$B$13=2,B107^Calcoli!$B$13+Calcoli!$B$9*B107+Calcoli!$B$9*Calcoli!$B$10,B107^Calcoli!$B$13+Calcoli!$B$9))","v":3.1770211296574112E-5},{"$f":"(Calcoli!$B$9*B107^(Calcoli!$B$13-1))/D107","v":0.71292059380975681},{"$f":"IF(Calcoli!$B$13>=2, (Calcoli!$B$9*Calcoli!$B$10*B107^(Calcoli!$B$13-2))/D107,NA())","v":1.4636352136888132E-5},{"$f":"IF(Calcoli!$B$13>=3,(Calcoli!$B$9*Calcoli!$B$10*Calcoli!$B$11*B107^(Calcoli!$B$13-3))/D107,NA())","v":{"$error":"#N/A"}},{"$f":"IF(Calcoli!$B$13=3,(E107+F107*2+G107*3),IF(Calcoli!$B$13=2,(E107+F107*2),E107))","v":0.71294986651403058},0.6627360408962969,{"$f":"(B107-(Calcoli!$B$8/B107))/'Acido - Base forte'!$F$1","v":3.0199517170906968E-2},{"$f":"(B107-(Calcoli!$B$8/B107))/'Acido - Base forte'!$F$2","v":3.0199517170906968E-2}]
[{"$f":"IF((I108*'Acido - Base forte'!$F$3*'Acido - Base forte'!$F$1)/'Acido - Base forte'!$F$2>0,IF((I108*'Acido - Base forte'!$F$3*'Acido - Base forte'!$F$1)/'Acido - Base forte'!$F$2<1.8*Calcoli!$B$13*('Acido - Base forte'!$F$1*'Acido - Base forte'!$F$3/'Acido - Base forte'!$F$2),I108*'Acido - Base forte'!$F$3*'Acido - Base forte'!$F$1/'Acido - Base forte'!$F$2,NA()),NA())","v":16.850096800411706},2.884031503126599E-3,2.5400000000000009,{"$f":"IF(Calcoli!$B$13=3,B108^Calcoli!$B$13+Calcoli!$B$9*B108^2+Calcoli!$B$9*Calcoli!$B$10*B108+Calcoli!$B$9*Calcoli!$B$10*Calcoli!$B$11,IF(Calcoli!$B$13=2,B108^Calcoli!$B$13+Calcoli!$B$9*B108+Calcoli!$B$9*Calcoli!$B$10,B108^Calcoli!$B$13+Calcoli!$B$9))","v":2.9948338984476162E-5},{"$f":"(Calcoli!$B$9*B108^(Calcoli!$B$13-1))/D108","v":0.72225161751580313},{"$f":"IF(Calcoli!$B$13>=2, (Calcoli!$B$9*Calcoli!$B$10*B108^(Calcoli!$B$13-2))/D108,NA())","v":1.5526737567683957E-5},{"$f":"IF(Calcoli!$B$13>=3,(Calcoli!$B$9*Calcoli!$B$10*Calcoli!$B$11*B108^(Calcoli!$B$13-3))/D108,NA())","v":{"$error":"#N/A"}},{"$f":"IF(Calcoli!$B$13=3,(E108+F108*2+G108*3),IF(Calcoli!$B$13=2,(E108+F108*2),E108))","v":0.72228267099093846},0.67400387201646828,{"$f":"(B108-(Calcoli!$B$8/B108))/'Acido - Base forte'!$F$1","v":2.8840314996592304E-2},{"$f":"(B108-(Calcoli!$B$8/B108))/'Acido - Base forte'!$F$2","v":2.8840314996592304E-2}]
[{"$f":"IF((I109*'Acido - Base forte'!$F$3*'Acido - Base forte'!$F$1)/'Acido - Base forte'!$F$2>0,IF((I109*'Acido - Base forte'!$F$3*'Acido - Base forte'!$F$1)/'Acido - Base forte'!$F$2<1.8*Calcoli!$B$13*('Acido - Base forte'!$F$1*'Acido - Base forte'!$F$3/'Acido - Base forte'!$F$2),I109*'Acido - Base forte'!$F$3*'Acido - Base forte'!$F$1/'Acido - Base forte'!$F$2,NA()),NA())","v":17.125430734427567},2.7542287033381577E-3,2.5600000000000009,{"$f":"IF(Calcoli!$B$13=3,B109^Calcoli!$B$13+Calcoli!$B$9*B109^2+Calcoli!$B$9*Calcoli!$B$10*B109+Calcoli!$B$9*Calcoli!$B$10*Calcoli!$B$11,IF(Calcoli!$B$13=2,B109^Calcoli!$B$13+Calcoli!$B$9*B109+Calcoli!$B$9*Calcoli!$B$10,B109^Calcoli!$B$13+Calcoli!$B$9))","v":2.8242956025327969E-5},{"$f":"(Calcoli!$B$9*B109^(Calcoli!$B$13-1))/D109","v":0.73139352893909082},{"$f":"IF(Calcoli!$B$13>=2, (Calcoli!$B$9*Calcoli!$B$10*B109^(Calcoli!$B$13-2))/D109,NA())","v":1.6464282265036038E-5},{"$f":"IF(Calcoli!$B$13>=3,(Calcoli!$B$9*Calcoli!$B$10*Calcoli!$B$11*B109^(Calcoli!$B$13-3))/D109,NA())","v":{"$error":"#N/A"}},{"$f":"IF(Calcoli!$B$13=3,(E109+F109*2+G109*3),IF(Calcoli!$B$13=2,(E109+F109*2),E109))","v":0.7314264575036209},0.68501722937710263,{"$f":"(B109-(Calcoli!$B$8/B109))/'Acido - Base forte'!$F$1","v":2.754228699707377E-2},{"$f":"(B109-(Calcoli!$B$8/B109))/'Acido - Base forte'!$F$2","v":2.754228699707377E-2}]
[{"$f":"IF((I110*'Acido - Base forte'!$F$3*'Acido - Base forte'!$F$1)/'Acido - Base forte'!$F$2>0,IF((I110*'Acido - Base forte'!$F$3*'Acido - Base forte'!$F$1)/'Acido - Base forte'!$F$2<1.8*Calcoli!$B$13*('Acido - Base forte'!$F$1*'Acido - Base forte'!$F$3/'Acido - Base forte'!$F$2),I110*'Acido - Base forte'!$F$3*'Acido - Base forte'!$F$1/'Acido - Base forte'!$F$2,NA()),NA())","v":17.394352890988252},2.6302679918953744E-3,2.580000000000001,{"$f":"IF(Calcoli!$B$13=3,B110^Calcoli!$B$13+Calcoli!$B$9*B110^2+Calcoli!$B$9*Calcoli!$B$10*B110+Calcoli!$B$9*Calcoli!$B$10*Calcoli!$B$11,IF(Calcoli!$B$13=2,B110^Calcoli!$B$13+Calcoli!$B$9*B110+Calcoli!$B$9*Calcoli!$B$10,B110^Calcoli!$B$13+Calcoli!$B$9))","v":2.664578464840463E-5},{"$f":"(Calcoli!$B$9*B110^(Calcoli!$B$13-1))/D110","v":0.740342617022405},{"$f":"IF(Calcoli!$B$13>=2, (Calcoli!$B$9*Calcoli!$B$10*B110^(Calcoli!$B$13-2))/D110,NA())","v":1.7451165583440269E-5},{"$f":"IF(Calcoli!$B$13>=3,(Calcoli!$B$9*Calcoli!$B$10*Calcoli!$B$11*B110^(Calcoli!$B$13-3))/D110,NA())","v":{"$error":"#N/A"}},{"$f":"IF(Calcoli!$B$13=3,(E110+F110*2+G110*3),IF(Calcoli!$B$13=2,(E110+F110*2),E110))","v":0.74037751935357188},0.69577411563953007,{"$f":"(B110-(Calcoli!$B$8/B110))/'Acido - Base forte'!$F$1","v":2.63026798809348E-2},{"$f":"(B110-(Calcoli!$B$8/B110))/'Acido - Base forte'!$F$2","v":2.63026798809348E-2}]
[{"$f":"IF((I111*'Acido - Base forte'!$F$3*'Acido - Base forte'!$F$1)/'Acido - Base forte'!$F$2>0,IF((I111*'Acido - Base forte'!$F$3*'Acido - Base forte'!$F$1)/'Acido - Base forte'!$F$2<1.8*Calcoli!$B$13*('Acido - Base forte'!$F$1*'Acido - Base forte'!$F$3/'Acido - Base forte'!$F$2),I111*'Acido - Base forte'!$F$3*'Acido - Base forte'!$F$1/'Acido - Base forte'!$F$2,NA()),NA())","v":17.656826577197858},2.5118864315095734E-3,2.600000000000001,{"$f":"IF(Calcoli!$B$13=3,B111^Calcoli!$B$13+Calcoli!$B$9*B111^2+Calcoli!$B$9*Calcoli!$B$10*B111+Calcoli!$B$9*Calcoli!$B$10*Calcoli!$B$11,IF(Calcoli!$B$13=2,B111^Calcoli!$B$13+Calcoli!$B$9*B111+Calcoli!$B$9*Calcoli!$B$10,B111^Calcoli!$B$13+Calcoli!$B$9))","v":2.5149186681123697E-5},{"$f":"(Calcoli!$B$9*B111^(Calcoli!$B$13-1))/D111","v":0.74909572524911749},{"$f":"IF(Calcoli!$B$13>=2, (Calcoli!$B$9*Calcoli!$B$10*B111^(Calcoli!$B$13-2))/D111,NA())","v":1.8489663538464109E-5},{"$f":"IF(Calcoli!$B$13>=3,(Calcoli!$B$9*Calcoli!$B$10*Calcoli!$B$11*B111^(Calcoli!$B$13-3))/D111,NA())","v":{"$error":"#N/A"}},{"$f":"IF(Calcoli!$B$13=3,(E111+F111*2+G111*3),IF(Calcoli!$B$13=2,(E111+F111*2),E111))","v":0.74913270457619441},0.70627306308791427,{"$f":"(B111-(Calcoli!$B$8/B111))/'Acido - Base forte'!$F$1","v":2.5118864275285018E-2},{"$f":"(B111-(Calcoli!$B$8/B111))/'Acido - Base forte'!$F$2","v":2.5118864275285018E-2}]
[{"$f":"IF((I112*'Acido - Base forte'!$F$3*'Acido - Base forte'!$F$1)/'Acido - Base forte'!$F$2>0,IF((I112*'Acido - Base forte'!$F$3*'Acido - Base forte'!$F$1)/'Acido - Base forte'!$F$2<1.8*Calcoli!$B$13*('Acido - Base forte'!$F$1*'Acido - Base forte'!$F$3/'Acido - Base forte'!$F$2),I112*'Acido - Base forte'!$F$3*'Acido - Base forte'!$F$1/'Acido - Base forte'!$F$2,NA()),NA())","v":17.912828056086273},2.3988329190194843E-3,2.620000000000001,{"$f":"IF(Calcoli!$B$13=3,B112^Calcoli!$B$13+Calcoli!$B$9*B112^2+Calcoli!$B$9*Calcoli!$B$10*B112+Calcoli!$B$9*Calcoli!$B$10*Calcoli!$B$11,IF(Calcoli!$B$13=2,B112^Calcoli!$B$13+Calcoli!$B$9*B112+Calcoli!$B$9*Calcoli!$B$10,B112^Calcoli!$B$13+Calcoli!$B$9))","v":2.3746111266017673E-5},{"$f":"(Calcoli!$B$9*B112^(Calcoli!$B$13-1))/D112","v":0.75765023970020939},{"$f":"IF(Calcoli!$B$13>=2, (Calcoli!$B$9*Calcoli!$B$10*B112^(Calcoli!$B$13-2))/D112,NA())","v":1.9582153675218692E-5},{"$f":"IF(Calcoli!$B$13>=3,(Calcoli!$B$9*Calcoli!$B$10*Calcoli!$B$11*B112^(Calcoli!$B$13-3))/D112,NA())","v":{"$error":"#N/A"}},{"$f":"IF(Calcoli!$B$13=3,(E112+F112*2+G112*3),IF(Calcoli!$B$13=2,(E112+F112*2),E112))","v":0.7576894040075598},0.71651312224345087,{"$f":"(B112-(Calcoli!$B$8/B112))/'Acido - Base forte'!$F$1","v":2.39883291485079E-2},{"$f":"(B112-(Calcoli!$B$8/B112))/'Acido - Base forte'!$F$2","v":2.39883291485079E-2}]
[{"$f":"IF((I113*'Acido - Base forte'!$F$3*'Acido - Base forte'!$F$1)/'Acido - Base forte'!$F$2>0,IF((I113*'Acido - Base forte'!$F$3*'Acido - Base forte'!$F$1)/'Acido - Base forte'!$F$2<1.8*Calcoli!$B$13*('Acido - Base forte'!$F$1*'Acido - Base forte'!$F$3/'Acido - Base forte'!$F$2),I113*'Acido - Base forte'!$F$3*'Acido - Base forte'!$F$1/'Acido - Base forte'!$F$2,NA()),NA())","v":18.162346197490095},2.2908676527677659E-3,2.640000000000001,{"$f":"IF(Calcoli!$B$13=3,B113^Calcoli!$B$13+Calcoli!$B$9*B113^2+Calcoli!$B$9*Calcoli!$B$10*B113+Calcoli!$B$9*Calcoli!$B$10*Calcoli!$B$11,IF(Calcoli!$B$13=2,B113^Calcoli!$B$13+Calcoli!$B$9*B113+Calcoli!$B$9*Calcoli!$B$10,B113^Calcoli!$B$13+Calcoli!$B$9))","v":2.2430046998255934E-5},{"$f":"(Calcoli!$B$9*B113^(Calcoli!$B$13-1))/D113","v":0.76600407467243392},{"$f":"IF(Calcoli!$B$13>=2, (Calcoli!$B$9*Calcoli!$B$10*B113^(Calcoli!$B$13-2))/D113,NA())","v":2.0731120181609803E-5},{"$f":"IF(Calcoli!$B$13>=3,(Calcoli!$B$9*Calcoli!$B$10*Calcoli!$B$11*B113^(Calcoli!$B$13-3))/D113,NA())","v":{"$error":"#N/A"}},{"$f":"IF(Calcoli!$B$13=3,(E113+F113*2+G113*3),IF(Calcoli!$B$13=2,(E113+F113*2),E113))","v":0.76604553691279709},0.72649384789960381,{"$f":"(B113-(Calcoli!$B$8/B113))/'Acido - Base forte'!$F$1","v":2.2908676484026072E-2},{"$f":"(B113-(Calcoli!$B$8/B113))/'Acido - Base forte'!$F$2","v":2.2908676484026072E-2}]
[{"$f":"IF((I114*'Acido - Base forte'!$F$3*'Acido - Base forte'!$F$1)/'Acido - Base forte'!$F$2>0,IF((I114*'Acido - Base forte'!$F$3*'Acido - Base forte'!$F$1)/'Acido - Base forte'!$F$2<1.8*Calcoli!$B$13*('Acido - Base forte'!$F$1*'Acido - Base forte'!$F$3/'Acido - Base forte'!$F$2),I114*'Acido - Base forte'!$F$3*'Acido - Base forte'!$F$1/'Acido - Base forte'!$F$2,NA()),NA())","v":18.405382071219478},2.187761623949546E-3,2.660000000000001,{"$f":"IF(Calcoli!$B$13=3,B114^Calcoli!$B$13+Calcoli!$B$9*B114^2+Calcoli!$B$9*Calcoli!$B$10*B114+Calcoli!$B$9*Calcoli!$B$10*Calcoli!$B$11,IF(Calcoli!$B$13=2,B114^Calcoli!$B$13+Calcoli!$B$9*B114+Calcoli!$B$9*Calcoli!$B$10,B114^Calcoli!$B$13+Calcoli!$B$9))","v":2.1194978102847946E-5},{"$f":"(Calcoli!$B$9*B114^(Calcoli!$B$13-1))/D114","v":0.77415565611822168},{"$f":"IF(Calcoli!$B$13>=2, (Calcoli!$B$9*Calcoli!$B$10*B114^(Calcoli!$B$13-2))/D114,NA())","v":2.1939159254782079E-5},{"$f":"IF(Calcoli!$B$13>=3,(Calcoli!$B$9*Calcoli!$B$10*Calcoli!$B$11*B114^(Calcoli!$B$13-3))/D114,NA())","v":{"$error":"#N/A"}},{"$f":"IF(Calcoli!$B$13=3,(E114+F114*2+G114*3),IF(Calcoli!$B$13=2,(E114+F114*2),E114))","v":0.77419953443673128},0.73621528284877913,{"$f":"(B114-(Calcoli!$B$8/B114))/'Acido - Base forte'!$F$1","v":2.1877616193786639E-2},{"$f":"(B114-(Calcoli!$B$8/B114))/'Acido - Base forte'!$F$2","v":2.1877616193786639E-2}]
[{"$f":"IF((I115*'Acido - Base forte'!$F$3*'Acido - Base forte'!$F$1)/'Acido - Base forte'!$F$2>0,IF((I115*'Acido - Base forte'!$F$3*'Acido - Base forte'!$F$1)/'Acido - Base forte'!$F$2<1.8*Calcoli!$B$13*('Acido - Base forte'!$F$1*'Acido - Base forte'!$F$3/'Acido - Base forte'!$F$2),I115*'Acido - Base forte'!$F$3*'Acido - Base forte'!$F$1/'Acido - Base forte'!$F$2,NA()),NA())","v":18.641948489410485},2.0892961308540334E-3,2.680000000000001,{"$f":"IF(Calcoli!$B$13=3,B115^Calcoli!$B$13+Calcoli!$B$9*B115^2+Calcoli!$B$9*Calcoli!$B$10*B115+Calcoli!$B$9*Calcoli!$B$10*Calcoli!$B$11,IF(Calcoli!$B$13=2,B115^Calcoli!$B$13+Calcoli!$B$9*B115+Calcoli!$B$9*Calcoli!$B$10,B115^Calcoli!$B$13+Calcoli!$B$9))","v":2.0035344303806881E-5},{"$f":"(Calcoli!$B$9*B115^(Calcoli!$B$13-1))/D115","v":0.78210390317214928},{"$f":"IF(Calcoli!$B$13>=2, (Calcoli!$B$9*Calcoli!$B$10*B115^(Calcoli!$B$13-2))/D115,NA())","v":2.3208984729633327E-5},{"$f":"IF(Calcoli!$B$13>=3,(Calcoli!$B$9*Calcoli!$B$10*Calcoli!$B$11*B115^(Calcoli!$B$13-3))/D115,NA())","v":{"$error":"#N/A"}},{"$f":"IF(Calcoli!$B$13=3,(E115+F115*2+G115*3),IF(Calcoli!$B$13=2,(E115+F115*2),E115))","v":0.78215032114160854},0.74567793957641937,{"$f":"(B115-(Calcoli!$B$8/B115))/'Acido - Base forte'!$F$1","v":2.0892961260677322E-2},{"$f":"(B115-(Calcoli!$B$8/B115))/'Acido - Base forte'!$F$2","v":2.0892961260677322E-2}]
[{"$f":"IF((I116*'Acido - Base forte'!$F$3*'Acido - Base forte'!$F$1)/'Acido - Base forte'!$F$2>0,IF((I116*'Acido - Base forte'!$F$3*'Acido - Base forte'!$F$1)/'Acido - Base forte'!$F$2<1.8*Calcoli!$B$13*('Acido - Base forte'!$F$1*'Acido - Base forte'!$F$3/'Acido - Base forte'!$F$2),I116*'Acido - Base forte'!$F$3*'Acido - Base forte'!$F$1/'Acido - Base forte'!$F$2,NA()),NA())","v":18.872069504997064},1.9952623149688746E-3,2.7000000000000011,{"$f":"IF(Calcoli!$B$13=3,B116^Calcoli!$B$13+Calcoli!$B$9*B116^2+Calcoli!$B$9*Calcoli!$B$10*B116+Calcoli!$B$9*Calcoli!$B$10*Calcoli!$B$11,IF(Calcoli!$B$13=2,B116^Calcoli!$B$13+Calcoli!$B$9*B116+Calcoli!$B$9*Calcoli!$B$10,B116^Calcoli!$B$13+Calcoli!$B$9))","v":1.894600406780151E-5},{"$f":"(Calcoli!$B$9*B116^(Calcoli!$B$13-1))/D116","v":0.78984820802917899},{"$f":"IF(Calcoli!$B$13>=2, (Calcoli!$B$9*Calcoli!$B$10*B116^(Calcoli!$B$13-2))/D116,NA())","v":2.4543433978791419E-5},{"$f":"IF(Calcoli!$B$13>=3,(Calcoli!$B$9*Calcoli!$B$10*Calcoli!$B$11*B116^(Calcoli!$B$13-3))/D116,NA())","v":{"$error":"#N/A"}},{"$f":"IF(Calcoli!$B$13=3,(E116+F116*2+G116*3),IF(Calcoli!$B$13=2,(E116+F116*2),E116))","v":0.78989729489713656},0.75488278019988264,{"$f":"(B116-(Calcoli!$B$8/B116))/'Acido - Base forte'!$F$1","v":1.9952623099570022E-2},{"$f":"(B116-(Calcoli!$B$8/B116))/'Acido - Base forte'!$F$2","v":1.9952623099570022E-2}]
[{"$f":"IF((I117*'Acido - Base forte'!$F$3*'Acido - Base forte'!$F$1)/'Acido - Base forte'!$F$2>0,IF((I117*'Acido - Base forte'!$F$3*'Acido - Base forte'!$F$1)/'Acido - Base forte'!$F$2<1.8*Calcoli!$B$13*('Acido - Base forte'!$F$1*'Acido - Base forte'!$F$3/'Acido - Base forte'!$F$2),I117*'Acido - Base forte'!$F$3*'Acido - Base forte'!$F$1/'Acido - Base forte'!$F$2,NA()),NA())","v":19.095779873175918},{"$f":"10^-C117","v":1.905460717963241E-3},2.7200000000000011,{"$f":"IF(Calcoli!$B$13=3,B117^Calcoli!$B$13+Calcoli!$B$9*B117^2+Calcoli!$B$9*Calcoli!$B$10*B117+Calcoli!$B$9*Calcoli!$B$10*Calcoli!$B$11,IF(Calcoli!$B$13=2,B117^Calcoli!$B$13+Calcoli!$B$9*B117+Calcoli!$B$9*Calcoli!$B$10,B117^Calcoli!$B$13+Calcoli!$B$9))","v":1.7922200932425296E-5},{"$f":"(Calcoli!$B$9*B117^(Calcoli!$B$13-1))/D117","v":0.79738841443679787},{"$f":"IF(Calcoli!$B$13>=2, (Calcoli!$B$9*Calcoli!$B$10*B117^(Calcoli!$B$13-2))/D117,NA())","v":2.5945474094016564E-5},{"$f":"IF(Calcoli!$B$13>=3,(Calcoli!$B$9*Calcoli!$B$10*Calcoli!$B$11*B117^(Calcoli!$B$13-3))/D117,NA())","v":{"$error":"#N/A"}},{"$f":"IF(Calcoli!$B$13=3,(E117+F117*2+G117*3),IF(Calcoli!$B$13=2,(E117+F117*2),E117))","v":0.79744030538498589},{"$f":"(H117-J117)/(1+K117)","v":0.76383119492703677},{"$f":"(B117-(Calcoli!$B$8/B117))/'Acido - Base forte'!$F$1","v":1.9054607127151665E-2},{"$f":"(B117-(Calcoli!$B$8/B117))/'Acido - Base forte'!$F$2","v":1.9054607127151665E-2}]
[{"$f":"IF((I118*'Acido - Base forte'!$F$3*'Acido - Base forte'!$F$1)/'Acido - Base forte'!$F$2>0,IF((I118*'Acido - Base forte'!$F$3*'Acido - Base forte'!$F$1)/'Acido - Base forte'!$F$2<1.8*Calcoli!$B$13*('Acido - Base forte'!$F$1*'Acido - Base forte'!$F$3/'Acido - Base forte'!$F$2),I118*'Acido - Base forte'!$F$3*'Acido - Base forte'!$F$1/'Acido - Base forte'!$F$2,NA()),NA())","v":19.313124482591128},1.8197008586099779E-3,2.7400000000000011,{"$f":"IF(Calcoli!$B$13=3,B118^Calcoli!$B$13+Calcoli!$B$9*B118^2+Calcoli!$B$9*Calcoli!$B$10*B118+Calcoli!$B$9*Calcoli!$B$10*Calcoli!$B$11,IF(Calcoli!$B$13=2,B118^Calcoli!$B$13+Calcoli!$B$9*B118+Calcoli!$B$9*Calcoli!$B$10,B118^Calcoli!$B$13+Calcoli!$B$9))","v":1.6959532654400725E-5},{"$f":"(Calcoli!$B$9*B118^(Calcoli!$B$13-1))/D118","v":0.80472479505698302},{"$f":"IF(Calcoli!$B$13>=2, (Calcoli!$B$9*Calcoli!$B$10*B118^(Calcoli!$B$13-2))/D118,NA())","v":2.7418208359611846E-5},{"$f":"IF(Calcoli!$B$13>=3,(Calcoli!$B$9*Calcoli!$B$10*Calcoli!$B$11*B118^(Calcoli!$B$13-3))/D118,NA())","v":{"$error":"#N/A"}},{"$f":"IF(Calcoli!$B$13=3,(E118+F118*2+G118*3),IF(Calcoli!$B$13=2,(E118+F118*2),E118))","v":0.80477963147370224},0.77252497930364505,{"$f":"(B118-(Calcoli!$B$8/B118))/'Acido - Base forte'!$F$1","v":1.8197008531145691E-2},{"$f":"(B118-(Calcoli!$B$8/B118))/'Acido - Base forte'!$F$2","v":1.8197008531145691E-2}]
[{"$f":"IF((I119*'Acido - Base forte'!$F$3*'Acido - Base forte'!$F$1)/'Acido - Base forte'!$F$2>0,IF((I119*'Acido - Base forte'!$F$3*'Acido - Base forte'!$F$1)/'Acido - Base forte'!$F$2<1.8*Calcoli!$B$13*('Acido - Base forte'!$F$1*'Acido - Base forte'!$F$3/'Acido - Base forte'!$F$2),I119*'Acido - Base forte'!$F$3*'Acido - Base forte'!$F$1/'Acido - Base forte'!$F$2,NA()),NA())","v":19.524157762744267},1.7378008287493702E-3,2.7600000000000011,{"$f":"IF(Calcoli!$B$13=3,B119^Calcoli!$B$13+Calcoli!$B$9*B119^2+Calcoli!$B$9*Calcoli!$B$10*B119+Calcoli!$B$9*Calcoli!$B$10*Calcoli!$B$11,IF(Calcoli!$B$13=2,B119^Calcoli!$B$13+Calcoli!$B$9*B119+Calcoli!$B$9*Calcoli!$B$10,B119^Calcoli!$B$13+Calcoli!$B$9))","v":1.6053922936022272E-5},{"$f":"(Calcoli!$B$9*B119^(Calcoli!$B$13-1))/D119","v":0.81185802794501438},{"$f":"IF(Calcoli!$B$13>=2, (Calcoli!$B$9*Calcoli!$B$10*B119^(Calcoli!$B$13-2))/D119,NA())","v":2.8964883029095593E-5},{"$f":"IF(Calcoli!$B$13>=3,(Calcoli!$B$9*Calcoli!$B$10*Calcoli!$B$11*B119^(Calcoli!$B$13-3))/D119,NA())","v":{"$error":"#N/A"}},{"$f":"IF(Calcoli!$B$13=3,(E119+F119*2+G119*3),IF(Calcoli!$B$13=2,(E119+F119*2),E119))","v":0.81191595771107261},0.78096631050977061,{"$f":"(B119-(Calcoli!$B$8/B119))/'Acido - Base forte'!$F$1","v":1.7378008229949709E-2},{"$f":"(B119-(Calcoli!$B$8/B119))/'Acido - Base forte'!$F$2","v":1.7378008229949709E-2}]
[{"$f":"IF((I120*'Acido - Base forte'!$F$3*'Acido - Base forte'!$F$1)/'Acido - Base forte'!$F$2>0,IF((I120*'Acido - Base forte'!$F$3*'Acido - Base forte'!$F$1)/'Acido - Base forte'!$F$2<1.8*Calcoli!$B$13*('Acido - Base forte'!$F$1*'Acido - Base forte'!$F$3/'Acido - Base forte'!$F$2),I120*'Acido - Base forte'!$F$3*'Acido - Base forte'!$F$1/'Acido - Base forte'!$F$2,NA()),NA())","v":19.728943073850132},1.6595869074375546E-3,2.7800000000000011,{"$f":"IF(Calcoli!$B$13=3,B120^Calcoli!$B$13+Calcoli!$B$9*B120^2+Calcoli!$B$9*Calcoli!$B$10*B120+Calcoli!$B$9*Calcoli!$B$10*Calcoli!$B$11,IF(Calcoli!$B$13=2,B120^Calcoli!$B$13+Calcoli!$B$9*B120+Calcoli!$B$9*Calcoli!$B$10,B120^Calcoli!$B$13+Calcoli!$B$9))","v":1.5201595509119805E-5},{"$f":"(Calcoli!$B$9*B120^(Calcoli!$B$13-1))/D120","v":0.81878917238091631},{"$f":"IF(Calcoli!$B$13>=2, (Calcoli!$B$9*Calcoli!$B$10*B120^(Calcoli!$B$13-2))/D120,NA())","v":3.0588894417104785E-5},{"$f":"IF(Calcoli!$B$13>=3,(Calcoli!$B$9*Calcoli!$B$10*Calcoli!$B$11*B120^(Calcoli!$B$13-3))/D120,NA())","v":{"$error":"#N/A"}},{"$f":"IF(Calcoli!$B$13=3,(E120+F120*2+G120*3),IF(Calcoli!$B$13=2,(E120+F120*2),E120))","v":0.8188503501697505},0.78915772295400533,{"$f":"(B120-(Calcoli!$B$8/B120))/'Acido - Base forte'!$F$1","v":1.6595869014119587E-2},{"$f":"(B120-(Calcoli!$B$8/B120))/'Acido - Base forte'!$F$2","v":1.6595869014119587E-2}]
[{"$f":"IF((I121*'Acido - Base forte'!$F$3*'Acido - Base forte'!$F$1)/'Acido - Base forte'!$F$2>0,IF((I121*'Acido - Base forte'!$F$3*'Acido - Base forte'!$F$1)/'Acido - Base forte'!$F$2<1.8*Calcoli!$B$13*('Acido - Base forte'!$F$1*'Acido - Base forte'!$F$3/'Acido - Base forte'!$F$2),I121*'Acido - Base forte'!$F$3*'Acido - Base forte'!$F$1/'Acido - Base forte'!$F$2,NA()),NA())","v":19.927552085020352},1.584893192461108E-3,2.8000000000000012,{"$f":"IF(Calcoli!$B$13=3,B121^Calcoli!$B$13+Calcoli!$B$9*B121^2+Calcoli!$B$9*Calcoli!$B$10*B121+Calcoli!$B$9*Calcoli!$B$10*Calcoli!$B$11,IF(Calcoli!$B$13=2,B121^Calcoli!$B$13+Calcoli!$B$9*B121+Calcoli!$B$9*Calcoli!$B$10,B121^Calcoli!$B$13+Calcoli!$B$9))","v":1.4399050374967873E-5},{"$f":"(Calcoli!$B$9*B121^(Calcoli!$B$13-1))/D121","v":0.82551964427618241},{"$f":"IF(Calcoli!$B$13>=2, (Calcoli!$B$9*Calcoli!$B$10*B121^(Calcoli!$B$13-2))/D121,NA())","v":3.2293796319261607E-5},{"$f":"IF(Calcoli!$B$13>=3,(Calcoli!$B$9*Calcoli!$B$10*Calcoli!$B$11*B121^(Calcoli!$B$13-3))/D121,NA())","v":{"$error":"#N/A"}},{"$f":"IF(Calcoli!$B$13=3,(E121+F121*2+G121*3),IF(Calcoli!$B$13=2,(E121+F121*2),E121))","v":0.82558423186882091},0.79710208340081412,{"$f":"(B121-(Calcoli!$B$8/B121))/'Acido - Base forte'!$F$1","v":1.5848931861515345E-2},{"$f":"(B121-(Calcoli!$B$8/B121))/'Acido - Base forte'!$F$2","v":1.5848931861515345E-2}]
[{"$f":"IF((I122*'Acido - Base forte'!$F$3*'Acido - Base forte'!$F$1)/'Acido - Base forte'!$F$2>0,IF((I122*'Acido - Base forte'!$F$3*'Acido - Base forte'!$F$1)/'Acido - Base forte'!$F$2<1.8*Calcoli!$B$13*('Acido - Base forte'!$F$1*'Acido - Base forte'!$F$3/'Acido - Base forte'!$F$2),I122*'Acido - Base forte'!$F$3*'Acido - Base forte'!$F$1/'Acido - Base forte'!$F$2,NA()),NA())","v":20.120064146276508},1.5135612484362033E-3,2.8200000000000012,{"$f":"IF(Calcoli!$B$13=3,B122^Calcoli!$B$13+Calcoli!$B$9*B122^2+Calcoli!$B$9*Calcoli!$B$10*B122+Calcoli!$B$9*Calcoli!$B$10*Calcoli!$B$11,IF(Calcoli!$B$13=2,B122^Calcoli!$B$13+Calcoli!$B$9*B122+Calcoli!$B$9*Calcoli!$B$10,B122^Calcoli!$B$13+Calcoli!$B$9))","v":1.3643042016039283E-5},{"$f":"(Calcoli!$B$9*B122^(Calcoli!$B$13-1))/D122","v":0.83205119136377503},{"$f":"IF(Calcoli!$B$13>=2, (Calcoli!$B$9*Calcoli!$B$10*B122^(Calcoli!$B$13-2))/D122,NA())","v":3.4083307773539665E-5},{"$f":"IF(Calcoli!$B$13>=3,(Calcoli!$B$9*Calcoli!$B$10*Calcoli!$B$11*B122^(Calcoli!$B$13-3))/D122,NA())","v":{"$error":"#N/A"}},{"$f":"IF(Calcoli!$B$13=3,(E122+F122*2+G122*3),IF(Calcoli!$B$13=2,(E122+F122*2),E122))","v":0.83211935797932213},0.80480256585106036,{"$f":"(B122-(Calcoli!$B$8/B122))/'Acido - Base forte'!$F$1","v":1.5135612418292688E-2},{"$f":"(B122-(Calcoli!$B$8/B122))/'Acido - Base forte'!$F$2","v":1.5135612418292688E-2}]
[{"$f":"IF((I123*'Acido - Base forte'!$F$3*'Acido - Base forte'!$F$1)/'Acido - Base forte'!$F$2>0,IF((I123*'Acido - Base forte'!$F$3*'Acido - Base forte'!$F$1)/'Acido - Base forte'!$F$2<1.8*Calcoli!$B$13*('Acido - Base forte'!$F$1*'Acido - Base forte'!$F$3/'Acido - Base forte'!$F$2),I123*'Acido - Base forte'!$F$3*'Acido - Base forte'!$F$1/'Acido - Base forte'!$F$2,NA()),NA())","v":20.306565659482231},1.445439770745923E-3,2.8400000000000012,{"$f":"IF(Calcoli!$B$13=3,B123^Calcoli!$B$13+Calcoli!$B$9*B123^2+Calcoli!$B$9*Calcoli!$B$10*B123+Calcoli!$B$9*Calcoli!$B$10*Calcoli!$B$11,IF(Calcoli!$B$13=2,B123^Calcoli!$B$13+Calcoli!$B$9*B123+Calcoli!$B$9*Calcoli!$B$10,B123^Calcoli!$B$13+Calcoli!$B$9))","v":1.2930559411448449E-5},{"$f":"(Calcoli!$B$9*B123^(Calcoli!$B$13-1))/D123","v":0.83838586836360718},{"$f":"IF(Calcoli!$B$13>=2, (Calcoli!$B$9*Calcoli!$B$10*B123^(Calcoli!$B$13-2))/D123,NA())","v":3.5961321177512141E-5},{"$f":"IF(Calcoli!$B$13>=3,(Calcoli!$B$9*Calcoli!$B$10*Calcoli!$B$11*B123^(Calcoli!$B$13-3))/D123,NA())","v":{"$error":"#N/A"}},{"$f":"IF(Calcoli!$B$13=3,(E123+F123*2+G123*3),IF(Calcoli!$B$13=2,(E123+F123*2),E123))","v":0.83845779100596218},0.81226262637928937,{"$f":"(B123-(Calcoli!$B$8/B123))/'Acido - Base forte'!$F$1","v":1.4454397638276132E-2},{"$f":"(B123-(Calcoli!$B$8/B123))/'Acido - Base forte'!$F$2","v":1.4454397638276132E-2}]
[{"$f":"IF((I124*'Acido - Base forte'!$F$3*'Acido - Base forte'!$F$1)/'Acido - Base forte'!$F$2>0,IF((I124*'Acido - Base forte'!$F$3*'Acido - Base forte'!$F$1)/'Acido - Base forte'!$F$2<1.8*Calcoli!$B$13*('Acido - Base forte'!$F$1*'Acido - Base forte'!$F$3/'Acido - Base forte'!$F$2),I124*'Acido - Base forte'!$F$3*'Acido - Base forte'!$F$1/'Acido - Base forte'!$F$2,NA()),NA())","v":20.48714945284927},1.3803842646028797E-3,2.8600000000000012,{"$f":"IF(Calcoli!$B$13=3,B124^Calcoli!$B$13+Calcoli!$B$9*B124^2+Calcoli!$B$9*Calcoli!$B$10*B124+Calcoli!$B$9*Calcoli!$B$10*Calcoli!$B$11,IF(Calcoli!$B$13=2,B124^Calcoli!$B$13+Calcoli!$B$9*B124+Calcoli!$B$9*Calcoli!$B$10,B124^Calcoli!$B$13+Calcoli!$B$9))","v":1.2258807702484831E-5},{"$f":"(Calcoli!$B$9*B124^(Calcoli!$B$13-1))/D124","v":0.84452601229914825},{"$f":"IF(Calcoli!$B$13>=2, (Calcoli!$B$9*Calcoli!$B$10*B124^(Calcoli!$B$13-2))/D124,NA())","v":3.7931910776750791E-5},{"$f":"IF(Calcoli!$B$13>=3,(Calcoli!$B$9*Calcoli!$B$10*Calcoli!$B$11*B124^(Calcoli!$B$13-3))/D124,NA())","v":{"$error":"#N/A"}},{"$f":"IF(Calcoli!$B$13=3,(E124+F124*2+G124*3),IF(Calcoli!$B$13=2,(E124+F124*2),E124))","v":0.84460187612070181},0.81948597811397084,{"$f":"(B124-(Calcoli!$B$8/B124))/'Acido - Base forte'!$F$1","v":1.38038425735852E-2},{"$f":"(B124-(Calcoli!$B$8/B124))/'Acido - Base forte'!$F$2","v":1.38038425735852E-2}]
[{"$f":"IF((I125*'Acido - Base forte'!$F$3*'Acido - Base forte'!$F$1)/'Acido - Base forte'!$F$2>0,IF((I125*'Acido - Base forte'!$F$3*'Acido - Base forte'!$F$1)/'Acido - Base forte'!$F$2<1.8*Calcoli!$B$13*('Acido - Base forte'!$F$1*'Acido - Base forte'!$F$3/'Acido - Base forte'!$F$2),I125*'Acido - Base forte'!$F$3*'Acido - Base forte'!$F$1/'Acido - Base forte'!$F$2,NA()),NA())","v":20.661914163224608},1.3182567385564023E-3,2.8800000000000012,{"$f":"IF(Calcoli!$B$13=3,B125^Calcoli!$B$13+Calcoli!$B$9*B125^2+Calcoli!$B$9*Calcoli!$B$10*B125+Calcoli!$B$9*Calcoli!$B$10*Calcoli!$B$11,IF(Calcoli!$B$13=2,B125^Calcoli!$B$13+Calcoli!$B$9*B125+Calcoli!$B$9*Calcoli!$B$10,B125^Calcoli!$B$13+Calcoli!$B$9))","v":1.162519136792238E-5},{"$f":"(Calcoli!$B$9*B125^(Calcoli!$B$13-1))/D125","v":0.85047421812377266},{"$f":"IF(Calcoli!$B$13>=2, (Calcoli!$B$9*Calcoli!$B$10*B125^(Calcoli!$B$13-2))/D125,NA())","v":3.9999341540568845E-5},{"$f":"IF(Calcoli!$B$13>=3,(Calcoli!$B$9*Calcoli!$B$10*Calcoli!$B$11*B125^(Calcoli!$B$13-3))/D125,NA())","v":{"$error":"#N/A"}},{"$f":"IF(Calcoli!$B$13=3,(E125+F125*2+G125*3),IF(Calcoli!$B$13=2,(E125+F125*2),E125))","v":0.85055421680685384},0.82647656652898427,{"$f":"(B125-(Calcoli!$B$8/B125))/'Acido - Base forte'!$F$1","v":1.3182567309706265E-2},{"$f":"(B125-(Calcoli!$B$8/B125))/'Acido - Base forte'!$F$2","v":1.3182567309706265E-2}]
[{"$f":"IF((I126*'Acido - Base forte'!$F$3*'Acido - Base forte'!$F$1)/'Acido - Base forte'!$F$2>0,IF((I126*'Acido - Base forte'!$F$3*'Acido - Base forte'!$F$1)/'Acido - Base forte'!$F$2<1.8*Calcoli!$B$13*('Acido - Base forte'!$F$1*'Acido - Base forte'!$F$3/'Acido - Base forte'!$F$2),I126*'Acido - Base forte'!$F$3*'Acido - Base forte'!$F$1/'Acido - Base forte'!$F$2,NA()),NA())","v":20.830963629913263},1.2589254117941629E-3,2.9000000000000012,{"$f":"IF(Calcoli!$B$13=3,B126^Calcoli!$B$13+Calcoli!$B$9*B126^2+Calcoli!$B$9*Calcoli!$B$10*B126+Calcoli!$B$9*Calcoli!$B$10*Calcoli!$B$11,IF(Calcoli!$B$13=2,B126^Calcoli!$B$13+Calcoli!$B$9*B126+Calcoli!$B$9*Calcoli!$B$10,B126^Calcoli!$B$13+Calcoli!$B$9))","v":1.1027298780917324E-5},{"$f":"(Calcoli!$B$9*B126^(Calcoli!$B$13-1))/D126","v":0.85623331479831155},{"$f":"IF(Calcoli!$B$13>=2, (Calcoli!$B$9*Calcoli!$B$10*B126^(Calcoli!$B$13-2))/D126,NA())","v":4.2168078442263644E-5},{"$f":"IF(Calcoli!$B$13>=3,(Calcoli!$B$9*Calcoli!$B$10*Calcoli!$B$11*B126^(Calcoli!$B$13-3))/D126,NA())","v":{"$error":"#N/A"}},{"$f":"IF(Calcoli!$B$13=3,(E126+F126*2+G126*3),IF(Calcoli!$B$13=2,(E126+F126*2),E126))","v":0.85631765095519607},0.83323854519653051,{"$f":"(B126-(Calcoli!$B$8/B126))/'Acido - Base forte'!$F$1","v":1.2589254038508805E-2},{"$f":"(B126-(Calcoli!$B$8/B126))/'Acido - Base forte'!$F$2","v":1.2589254038508805E-2}]
[{"$f":"IF((I127*'Acido - Base forte'!$F$3*'Acido - Base forte'!$F$1)/'Acido - Base forte'!$F$2>0,IF((I127*'Acido - Base forte'!$F$3*'Acido - Base forte'!$F$1)/'Acido - Base forte'!$F$2<1.8*Calcoli!$B$13*('Acido - Base forte'!$F$1*'Acido - Base forte'!$F$3/'Acido - Base forte'!$F$2),I127*'Acido - Base forte'!$F$3*'Acido - Base forte'!$F$1/'Acido - Base forte'!$F$2,NA()),NA())","v":20.99440630334038},1.2022644346174091E-3,2.9200000000000013,{"$f":"IF(Calcoli!$B$13=3,B127^Calcoli!$B$13+Calcoli!$B$9*B127^2+Calcoli!$B$9*Calcoli!$B$10*B127+Calcoli!$B$9*Calcoli!$B$10*Calcoli!$B$11,IF(Calcoli!$B$13=2,B127^Calcoli!$B$13+Calcoli!$B$9*B127+Calcoli!$B$9*Calcoli!$B$10,B127^Calcoli!$B$13+Calcoli!$B$9))","v":1.0462888030376487E-5},{"$f":"(Calcoli!$B$9*B127^(Calcoli!$B$13-1))/D127","v":0.86180634194420491},{"$f":"IF(Calcoli!$B$13>=2, (Calcoli!$B$9*Calcoli!$B$10*B127^(Calcoli!$B$13-2))/D127,NA())","v":4.4442796162014157E-5},{"$f":"IF(Calcoli!$B$13>=3,(Calcoli!$B$9*Calcoli!$B$10*Calcoli!$B$11*B127^(Calcoli!$B$13-3))/D127,NA())","v":{"$error":"#N/A"}},{"$f":"IF(Calcoli!$B$13=3,(E127+F127*2+G127*3),IF(Calcoli!$B$13=2,(E127+F127*2),E127))","v":0.86189522753652892},0.83977625213361518,{"$f":"(B127-(Calcoli!$B$8/B127))/'Acido - Base forte'!$F$1","v":1.2022644262997713E-2},{"$f":"(B127-(Calcoli!$B$8/B127))/'Acido - Base forte'!$F$2","v":1.2022644262997713E-2}]
[{"$f":"IF((I128*'Acido - Base forte'!$F$3*'Acido - Base forte'!$F$1)/'Acido - Base forte'!$F$2>0,IF((I128*'Acido - Base forte'!$F$3*'Acido - Base forte'!$F$1)/'Acido - Base forte'!$F$2<1.8*Calcoli!$B$13*('Acido - Base forte'!$F$1*'Acido - Base forte'!$F$3/'Acido - Base forte'!$F$2),I128*'Acido - Base forte'!$F$3*'Acido - Base forte'!$F$1/'Acido - Base forte'!$F$2,NA()),NA())","v":21.152354671413999},1.1481536214968783E-3,2.9400000000000013,{"$f":"IF(Calcoli!$B$13=3,B128^Calcoli!$B$13+Calcoli!$B$9*B128^2+Calcoli!$B$9*Calcoli!$B$10*B128+Calcoli!$B$9*Calcoli!$B$10*Calcoli!$B$11,IF(Calcoli!$B$13=2,B128^Calcoli!$B$13+Calcoli!$B$9*B128+Calcoli!$B$9*Calcoli!$B$10,B128^Calcoli!$B$13+Calcoli!$B$9))","v":9.9298738997829853E-6},{"$f":"(Calcoli!$B$9*B128^(Calcoli!$B$13-1))/D128","v":0.86719652717994555},{"$f":"IF(Calcoli!$B$13>=2, (Calcoli!$B$9*Calcoli!$B$10*B128^(Calcoli!$B$13-2))/D128,NA())","v":4.6828389231625839E-5},{"$f":"IF(Calcoli!$B$13>=3,(Calcoli!$B$9*Calcoli!$B$10*Calcoli!$B$11*B128^(Calcoli!$B$13-3))/D128,NA())","v":{"$error":"#N/A"}},{"$f":"IF(Calcoli!$B$13=3,(E128+F128*2+G128*3),IF(Calcoli!$B$13=2,(E128+F128*2),E128))","v":0.86729018395840884},0.84609418685656002,{"$f":"(B128-(Calcoli!$B$8/B128))/'Acido - Base forte'!$F$1","v":1.1481536127872423E-2},{"$f":"(B128-(Calcoli!$B$8/B128))/'Acido - Base forte'!$F$2","v":1.1481536127872423E-2}]
[{"$f":"IF((I129*'Acido - Base forte'!$F$3*'Acido - Base forte'!$F$1)/'Acido - Base forte'!$F$2>0,IF((I129*'Acido - Base forte'!$F$3*'Acido - Base forte'!$F$1)/'Acido - Base forte'!$F$2<1.8*Calcoli!$B$13*('Acido - Base forte'!$F$1*'Acido - Base forte'!$F$3/'Acido - Base forte'!$F$2),I129*'Acido - Base forte'!$F$3*'Acido - Base forte'!$F$1/'Acido - Base forte'!$F$2,NA()),NA())","v":21.30492470602146},1.0964781961431808E-3,2.9600000000000013,{"$f":"IF(Calcoli!$B$13=3,B129^Calcoli!$B$13+Calcoli!$B$9*B129^2+Calcoli!$B$9*Calcoli!$B$10*B129+Calcoli!$B$9*Calcoli!$B$10*Calcoli!$B$11,IF(Calcoli!$B$13=2,B129^Calcoli!$B$13+Calcoli!$B$9*B129+Calcoli!$B$9*Calcoli!$B$10,B129^Calcoli!$B$13+Calcoli!$B$9))","v":9.4263159056912588E-6},{"$f":"(Calcoli!$B$9*B129^(Calcoli!$B$13-1))/D129","v":0.87240726423233494},{"$f":"IF(Calcoli!$B$13>=2, (Calcoli!$B$9*Calcoli!$B$10*B129^(Calcoli!$B$13-2))/D129,NA())","v":4.9329982641389124E-5},{"$f":"IF(Calcoli!$B$13>=3,(Calcoli!$B$9*Calcoli!$B$10*Calcoli!$B$11*B129^(Calcoli!$B$13-3))/D129,NA())","v":{"$error":"#N/A"}},{"$f":"IF(Calcoli!$B$13=3,(E129+F129*2+G129*3),IF(Calcoli!$B$13=2,(E129+F129*2),E129))","v":0.87250592419761774},0.85219698824085832,{"$f":"(B129-(Calcoli!$B$8/B129))/'Acido - Base forte'!$F$1","v":1.0964781870230724E-2},{"$f":"(B129-(Calcoli!$B$8/B129))/'Acido - Base forte'!$F$2","v":1.0964781870230724E-2}]
[{"$f":"IF((I130*'Acido - Base forte'!$F$3*'Acido - Base forte'!$F$1)/'Acido - Base forte'!$F$2>0,IF((I130*'Acido - Base forte'!$F$3*'Acido - Base forte'!$F$1)/'Acido - Base forte'!$F$2<1.8*Calcoli!$B$13*('Acido - Base forte'!$F$1*'Acido - Base forte'!$F$3/'Acido - Base forte'!$F$2),I130*'Acido - Base forte'!$F$3*'Acido - Base forte'!$F$1/'Acido - Base forte'!$F$2,NA()),NA())","v":21.452235331681841},1.0471285480508959E-3,2.9800000000000013,{"$f":"IF(Calcoli!$B$13=3,B130^Calcoli!$B$13+Calcoli!$B$9*B130^2+Calcoli!$B$9*Calcoli!$B$10*B130+Calcoli!$B$9*Calcoli!$B$10*Calcoli!$B$11,IF(Calcoli!$B$13=2,B130^Calcoli!$B$13+Calcoli!$B$9*B130+Calcoli!$B$9*Calcoli!$B$10,B130^Calcoli!$B$13+Calcoli!$B$9))","v":8.9504073065248969E-6},{"$f":"(Calcoli!$B$9*B130^(Calcoli!$B$13-1))/D130","v":0.8774420918985999},{"$f":"IF(Calcoli!$B$13>=2, (Calcoli!$B$9*Calcoli!$B$10*B130^(Calcoli!$B$13-2))/D130,NA())","v":5.1952942930430934E-5},{"$f":"IF(Calcoli!$B$13>=3,(Calcoli!$B$9*Calcoli!$B$10*Calcoli!$B$11*B130^(Calcoli!$B$13-3))/D130,NA())","v":{"$error":"#N/A"}},{"$f":"IF(Calcoli!$B$13=3,(E130+F130*2+G130*3),IF(Calcoli!$B$13=2,(E130+F130*2),E130))","v":0.87754599778446074},0.85808941326727384,{"$f":"(B130-(Calcoli!$B$8/B130))/'Acido - Base forte'!$F$1","v":1.04712853850097E-2},{"$f":"(B130-(Calcoli!$B$8/B130))/'Acido - Base forte'!$F$2","v":1.04712853850097E-2}]
[{"$f":"IF((I131*'Acido - Base forte'!$F$3*'Acido - Base forte'!$F$1)/'Acido - Base forte'!$F$2>0,IF((I131*'Acido - Base forte'!$F$3*'Acido - Base forte'!$F$1)/'Acido - Base forte'!$F$2<1.8*Calcoli!$B$13*('Acido - Base forte'!$F$1*'Acido - Base forte'!$F$3/'Acido - Base forte'!$F$2),I131*'Acido - Base forte'!$F$3*'Acido - Base forte'!$F$1/'Acido - Base forte'!$F$2,NA()),NA())","v":21.594407917988214},9.9999999999999677E-4,3.0000000000000013,{"$f":"IF(Calcoli!$B$13=3,B131^Calcoli!$B$13+Calcoli!$B$9*B131^2+Calcoli!$B$9*Calcoli!$B$10*B131+Calcoli!$B$9*Calcoli!$B$10*Calcoli!$B$11,IF(Calcoli!$B$13=2,B131^Calcoli!$B$13+Calcoli!$B$9*B131+Calcoli!$B$9*Calcoli!$B$10,B131^Calcoli!$B$13+Calcoli!$B$9))","v":8.5004649999999698E-6},{"$f":"(Calcoli!$B$9*B131^(Calcoli!$B$13-1))/D131","v":0.88230467392077994},{"$f":"IF(Calcoli!$B$13>=2, (Calcoli!$B$9*Calcoli!$B$10*B131^(Calcoli!$B$13-2))/D131,NA())","v":5.470288978308853E-5},{"$f":"IF(Calcoli!$B$13>=3,(Calcoli!$B$9*Calcoli!$B$10*Calcoli!$B$11*B131^(Calcoli!$B$13-3))/D131,NA())","v":{"$error":"#N/A"}},{"$f":"IF(Calcoli!$B$13=3,(E131+F131*2+G131*3),IF(Calcoli!$B$13=2,(E131+F131*2),E131))","v":0.88241407970034613},0.86377631671952848,{"$f":"(B131-(Calcoli!$B$8/B131))/'Acido - Base forte'!$F$1","v":9.9999998999999676E-3},{"$f":"(B131-(Calcoli!$B$8/B131))/'Acido - Base forte'!$F$2","v":9.9999998999999676E-3}]
[{"$f":"IF((I132*'Acido - Base forte'!$F$3*'Acido - Base forte'!$F$1)/'Acido - Base forte'!$F$2>0,IF((I132*'Acido - Base forte'!$F$3*'Acido - Base forte'!$F$1)/'Acido - Base forte'!$F$2<1.8*Calcoli!$B$13*('Acido - Base forte'!$F$1*'Acido - Base forte'!$F$3/'Acido - Base forte'!$F$2),I132*'Acido - Base forte'!$F$3*'Acido - Base forte'!$F$1/'Acido - Base forte'!$F$2,NA()),NA())","v":21.731565797109038},9.5499258602143222E-4,3.0200000000000014,{"$f":"IF(Calcoli!$B$13=3,B132^Calcoli!$B$13+Calcoli!$B$9*B132^2+Calcoli!$B$9*Calcoli!$B$10*B132+Calcoli!$B$9*Calcoli!$B$10*Calcoli!$B$11,IF(Calcoli!$B$13=2,B132^Calcoli!$B$13+Calcoli!$B$9*B132+Calcoli!$B$9*Calcoli!$B$10,B132^Calcoli!$B$13+Calcoli!$B$9))","v":8.0749202345166442E-6},{"$f":"(Calcoli!$B$9*B132^(Calcoli!$B$13-1))/D132","v":0.88699877982008046},{"$f":"IF(Calcoli!$B$13>=2, (Calcoli!$B$9*Calcoli!$B$10*B132^(Calcoli!$B$13-2))/D132,NA())","v":5.7585708155027292E-5},{"$f":"IF(Calcoli!$B$13>=3,(Calcoli!$B$9*Calcoli!$B$10*Calcoli!$B$11*B132^(Calcoli!$B$13-3))/D132,NA())","v":{"$error":"#N/A"}},{"$f":"IF(Calcoli!$B$13=3,(E132+F132*2+G132*3),IF(Calcoli!$B$13=2,(E132+F132*2),E132))","v":0.88711395123639047},0.86926263188436159,{"$f":"(B132-(Calcoli!$B$8/B132))/'Acido - Base forte'!$F$1","v":9.549925755501466E-3},{"$f":"(B132-(Calcoli!$B$8/B132))/'Acido - Base forte'!$F$2","v":9.549925755501466E-3}]
[{"$f":"IF((I133*'Acido - Base forte'!$F$3*'Acido - Base forte'!$F$1)/'Acido - Base forte'!$F$2>0,IF((I133*'Acido - Base forte'!$F$3*'Acido - Base forte'!$F$1)/'Acido - Base forte'!$F$2<1.8*Calcoli!$B$13*('Acido - Base forte'!$F$1*'Acido - Base forte'!$F$3/'Acido - Base forte'!$F$2),I133*'Acido - Base forte'!$F$3*'Acido - Base forte'!$F$1/'Acido - Base forte'!$F$2,NA()),NA())","v":21.863833807280688},9.1201083935590617E-4,3.0400000000000014,{"$f":"IF(Calcoli!$B$13=3,B133^Calcoli!$B$13+Calcoli!$B$9*B133^2+Calcoli!$B$9*Calcoli!$B$10*B133+Calcoli!$B$9*Calcoli!$B$10*Calcoli!$B$11,IF(Calcoli!$B$13=2,B133^Calcoli!$B$13+Calcoli!$B$9*B133+Calcoli!$B$9*Calcoli!$B$10,B133^Calcoli!$B$13+Calcoli!$B$9))","v":7.6723100662719612E-6},{"$f":"(Calcoli!$B$9*B133^(Calcoli!$B$13-1))/D133","v":0.89152826672618413},{"$f":"IF(Calcoli!$B$13>=2, (Calcoli!$B$9*Calcoli!$B$10*B133^(Calcoli!$B$13-2))/D133,NA())","v":6.0607560954056607E-5},{"$f":"IF(Calcoli!$B$13>=3,(Calcoli!$B$9*Calcoli!$B$10*Calcoli!$B$11*B133^(Calcoli!$B$13-3))/D133,NA())","v":{"$error":"#N/A"}},{"$f":"IF(Calcoli!$B$13=3,(E133+F133*2+G133*3),IF(Calcoli!$B$13=2,(E133+F133*2),E133))","v":0.89164948184809223},0.87455335229122755,{"$f":"(B133-(Calcoli!$B$8/B133))/'Acido - Base forte'!$F$1","v":9.1201082839112418E-3},{"$f":"(B133-(Calcoli!$B$8/B133))/'Acido - Base forte'!$F$2","v":9.1201082839112418E-3}]
[{"$f":"IF((I134*'Acido - Base forte'!$F$3*'Acido - Base forte'!$F$1)/'Acido - Base forte'!$F$2>0,IF((I134*'Acido - Base forte'!$F$3*'Acido - Base forte'!$F$1)/'Acido - Base forte'!$F$2<1.8*Calcoli!$B$13*('Acido - Base forte'!$F$1*'Acido - Base forte'!$F$3/'Acido - Base forte'!$F$2),I134*'Acido - Base forte'!$F$3*'Acido - Base forte'!$F$1/'Acido - Base forte'!$F$2,NA()),NA())","v":21.991337862912172},8.7096358995607747E-4,3.0600000000000014,{"$f":"IF(Calcoli!$B$13=3,B134^Calcoli!$B$13+Calcoli!$B$9*B134^2+Calcoli!$B$9*Calcoli!$B$10*B134+Calcoli!$B$9*Calcoli!$B$10*Calcoli!$B$11,IF(Calcoli!$B$13=2,B134^Calcoli!$B$13+Calcoli!$B$9*B134+Calcoli!$B$9*Calcoli!$B$10,B134^Calcoli!$B$13+Calcoli!$B$9))","v":7.2912694996997589E-6},{"$f":"(Calcoli!$B$9*B134^(Calcoli!$B$13-1))/D134","v":0.89589706222483834},{"$f":"IF(Calcoli!$B$13>=2, (Calcoli!$B$9*Calcoli!$B$10*B134^(Calcoli!$B$13-2))/D134,NA())","v":6.3774902301875946E-5},{"$f":"IF(Calcoli!$B$13>=3,(Calcoli!$B$9*Calcoli!$B$10*Calcoli!$B$11*B134^(Calcoli!$B$13-3))/D134,NA())","v":{"$error":"#N/A"}},{"$f":"IF(Calcoli!$B$13=3,(E134+F134*2+G134*3),IF(Calcoli!$B$13=2,(E134+F134*2),E134))","v":0.89602461202944206},0.87965351451648688,{"$f":"(B134-(Calcoli!$B$8/B134))/'Acido - Base forte'!$F$1","v":8.7096357847454113E-3},{"$f":"(B134-(Calcoli!$B$8/B134))/'Acido - Base forte'!$F$2","v":8.7096357847454113E-3}]
[{"$f":"IF((I135*'Acido - Base forte'!$F$3*'Acido - Base forte'!$F$1)/'Acido - Base forte'!$F$2>0,IF((I135*'Acido - Base forte'!$F$3*'Acido - Base forte'!$F$1)/'Acido - Base forte'!$F$2<1.8*Calcoli!$B$13*('Acido - Base forte'!$F$1*'Acido - Base forte'!$F$3/'Acido - Base forte'!$F$2),I135*'Acido - Base forte'!$F$3*'Acido - Base forte'!$F$1/'Acido - Base forte'!$F$2,NA()),NA())","v":22.114204551641876},8.3176377110266741E-4,3.0800000000000014,{"$f":"IF(Calcoli!$B$13=3,B135^Calcoli!$B$13+Calcoli!$B$9*B135^2+Calcoli!$B$9*Calcoli!$B$10*B135+Calcoli!$B$9*Calcoli!$B$10*Calcoli!$B$11,IF(Calcoli!$B$13=2,B135^Calcoli!$B$13+Calcoli!$B$9*B135+Calcoli!$B$9*Calcoli!$B$10,B135^Calcoli!$B$13+Calcoli!$B$9))","v":6.9305242541889359E-6},{"$f":"(Calcoli!$B$9*B135^(Calcoli!$B$13-1))/D135","v":0.90010914823644195},{"$f":"IF(Calcoli!$B$13>=2, (Calcoli!$B$9*Calcoli!$B$10*B135^(Calcoli!$B$13-2))/D135,NA())","v":6.7094491404304013E-5},{"$f":"IF(Calcoli!$B$13>=3,(Calcoli!$B$9*Calcoli!$B$10*Calcoli!$B$11*B135^(Calcoli!$B$13-3))/D135,NA())","v":{"$error":"#N/A"}},{"$f":"IF(Calcoli!$B$13=3,(E135+F135*2+G135*3),IF(Calcoli!$B$13=2,(E135+F135*2),E135))","v":0.90024333721925054},0.884568182065675,{"$f":"(B135-(Calcoli!$B$8/B135))/'Acido - Base forte'!$F$1","v":8.3176375908002292E-3},{"$f":"(B135-(Calcoli!$B$8/B135))/'Acido - Base forte'!$F$2","v":8.3176375908002292E-3}]
[{"$f":"IF((I136*'Acido - Base forte'!$F$3*'Acido - Base forte'!$F$1)/'Acido - Base forte'!$F$2>0,IF((I136*'Acido - Base forte'!$F$3*'Acido - Base forte'!$F$1)/'Acido - Base forte'!$F$2<1.8*Calcoli!$B$13*('Acido - Base forte'!$F$1*'Acido - Base forte'!$F$3/'Acido - Base forte'!$F$2),I136*'Acido - Base forte'!$F$3*'Acido - Base forte'!$F$1/'Acido - Base forte'!$F$2,NA()),NA())","v":22.232560758432296},7.9432823472427828E-4,3.1000000000000014,{"$f":"IF(Calcoli!$B$13=3,B136^Calcoli!$B$13+Calcoli!$B$9*B136^2+Calcoli!$B$9*Calcoli!$B$10*B136+Calcoli!$B$9*Calcoli!$B$10*Calcoli!$B$11,IF(Calcoli!$B$13=2,B136^Calcoli!$B$13+Calcoli!$B$9*B136+Calcoli!$B$9*Calcoli!$B$10,B136^Calcoli!$B$13+Calcoli!$B$9))","v":6.5888841049122753E-6},{"$f":"(Calcoli!$B$9*B136^(Calcoli!$B$13-1))/D136","v":0.90416854592882612},{"$f":"IF(Calcoli!$B$13>=2, (Calcoli!$B$9*Calcoli!$B$10*B136^(Calcoli!$B$13-2))/D136,NA())","v":7.0573407058916701E-5},{"$f":"IF(Calcoli!$B$13>=3,(Calcoli!$B$9*Calcoli!$B$10*Calcoli!$B$11*B136^(Calcoli!$B$13-3))/D136,NA())","v":{"$error":"#N/A"}},{"$f":"IF(Calcoli!$B$13=3,(E136+F136*2+G136*3),IF(Calcoli!$B$13=2,(E136+F136*2),E136))","v":0.90430969274294393},0.88930243033729184,{"$f":"(B136-(Calcoli!$B$8/B136))/'Acido - Base forte'!$F$1","v":7.9432822213502414E-3},{"$f":"(B136-(Calcoli!$B$8/B136))/'Acido - Base forte'!$F$2","v":7.9432822213502414E-3}]
[{"$f":"IF((I137*'Acido - Base forte'!$F$3*'Acido - Base forte'!$F$1)/'Acido - Base forte'!$F$2>0,IF((I137*'Acido - Base forte'!$F$3*'Acido - Base forte'!$F$1)/'Acido - Base forte'!$F$2<1.8*Calcoli!$B$13*('Acido - Base forte'!$F$1*'Acido - Base forte'!$F$3/'Acido - Base forte'!$F$2),I137*'Acido - Base forte'!$F$3*'Acido - Base forte'!$F$1/'Acido - Base forte'!$F$2,NA()),NA())","v":22.346533316563615},7.5857757502918082E-4,3.1200000000000014,{"$f":"IF(Calcoli!$B$13=3,B137^Calcoli!$B$13+Calcoli!$B$9*B137^2+Calcoli!$B$9*Calcoli!$B$10*B137+Calcoli!$B$9*Calcoli!$B$10*Calcoli!$B$11,IF(Calcoli!$B$13=2,B137^Calcoli!$B$13+Calcoli!$B$9*B137+Calcoli!$B$9*Calcoli!$B$10,B137^Calcoli!$B$13+Calcoli!$B$9))","v":6.2652367500560086E-6},{"$f":"(Calcoli!$B$9*B137^(Calcoli!$B$13-1))/D137","v":0.90807930165895101},{"$f":"IF(Calcoli!$B$13>=2, (Calcoli!$B$9*Calcoli!$B$10*B137^(Calcoli!$B$13-2))/D137,NA())","v":7.421906283044182E-5},{"$f":"IF(Calcoli!$B$13>=3,(Calcoli!$B$9*Calcoli!$B$10*Calcoli!$B$11*B137^(Calcoli!$B$13-3))/D137,NA())","v":{"$error":"#N/A"}},{"$f":"IF(Calcoli!$B$13=3,(E137+F137*2+G137*3),IF(Calcoli!$B$13=2,(E137+F137*2),E137))","v":0.90822773978461191},0.89386133266254464,{"$f":"(B137-(Calcoli!$B$8/B137))/'Acido - Base forte'!$F$1","v":7.5857756184661345E-3},{"$f":"(B137-(Calcoli!$B$8/B137))/'Acido - Base forte'!$F$2","v":7.5857756184661345E-3}]
[{"$f":"IF((I138*'Acido - Base forte'!$F$3*'Acido - Base forte'!$F$1)/'Acido - Base forte'!$F$2>0,IF((I138*'Acido - Base forte'!$F$3*'Acido - Base forte'!$F$1)/'Acido - Base forte'!$F$2<1.8*Calcoli!$B$13*('Acido - Base forte'!$F$1*'Acido - Base forte'!$F$3/'Acido - Base forte'!$F$2),I138*'Acido - Base forte'!$F$3*'Acido - Base forte'!$F$1/'Acido - Base forte'!$F$2,NA()),NA())","v":22.456248685188847},7.2443596007498734E-4,3.1400000000000015,{"$f":"IF(Calcoli!$B$13=3,B138^Calcoli!$B$13+Calcoli!$B$9*B138^2+Calcoli!$B$9*Calcoli!$B$10*B138+Calcoli!$B$9*Calcoli!$B$10*Calcoli!$B$11,IF(Calcoli!$B$13=2,B138^Calcoli!$B$13+Calcoli!$B$9*B138+Calcoli!$B$9*Calcoli!$B$10,B138^Calcoli!$B$13+Calcoli!$B$9))","v":5.9585421608121744E-6},{"$f":"(Calcoli!$B$9*B138^(Calcoli!$B$13-1))/D138","v":0.91184547393079585},{"$f":"IF(Calcoli!$B$13>=2, (Calcoli!$B$9*Calcoli!$B$10*B138^(Calcoli!$B$13-2))/D138,NA())","v":7.8039222925732984E-5},{"$f":"IF(Calcoli!$B$13>=3,(Calcoli!$B$9*Calcoli!$B$10*Calcoli!$B$11*B138^(Calcoli!$B$13-3))/D138,NA())","v":{"$error":"#N/A"}},{"$f":"IF(Calcoli!$B$13=3,(E138+F138*2+G138*3),IF(Calcoli!$B$13=2,(E138+F138*2),E138))","v":0.91200155237664726},0.89824994740755393,{"$f":"(B138-(Calcoli!$B$8/B138))/'Acido - Base forte'!$F$1","v":7.244359462711447E-3},{"$f":"(B138-(Calcoli!$B$8/B138))/'Acido - Base forte'!$F$2","v":7.244359462711447E-3}]
[{"$f":"IF((I139*'Acido - Base forte'!$F$3*'Acido - Base forte'!$F$1)/'Acido - Base forte'!$F$2>0,IF((I139*'Acido - Base forte'!$F$3*'Acido - Base forte'!$F$1)/'Acido - Base forte'!$F$2<1.8*Calcoli!$B$13*('Acido - Base forte'!$F$1*'Acido - Base forte'!$F$3/'Acido - Base forte'!$F$2),I139*'Acido - Base forte'!$F$3*'Acido - Base forte'!$F$1/'Acido - Base forte'!$F$2,NA()),NA())","v":22.561832652941803},6.9183097091893341E-4,3.1600000000000015,{"$f":"IF(Calcoli!$B$13=3,B139^Calcoli!$B$13+Calcoli!$B$9*B139^2+Calcoli!$B$9*Calcoli!$B$10*B139+Calcoli!$B$9*Calcoli!$B$10*Calcoli!$B$11,IF(Calcoli!$B$13=2,B139^Calcoli!$B$13+Calcoli!$B$9*B139+Calcoli!$B$9*Calcoli!$B$10,B139^Calcoli!$B$13+Calcoli!$B$9))","v":5.6678273742146354E-6},{"$f":"(Calcoli!$B$9*B139^(Calcoli!$B$13-1))/D139","v":0.91547112135026509},{"$f":"IF(Calcoli!$B$13>=2, (Calcoli!$B$9*Calcoli!$B$10*B139^(Calcoli!$B$13-2))/D139,NA())","v":8.2042018801681117E-5},{"$f":"IF(Calcoli!$B$13>=3,(Calcoli!$B$9*Calcoli!$B$10*Calcoli!$B$11*B139^(Calcoli!$B$13-3))/D139,NA())","v":{"$error":"#N/A"}},{"$f":"IF(Calcoli!$B$13=3,(E139+F139*2+G139*3),IF(Calcoli!$B$13=2,(E139+F139*2),E139))","v":0.91563520538786847},0.90247330611767207,{"$f":"(B139-(Calcoli!$B$8/B139))/'Acido - Base forte'!$F$1","v":6.9183095646453566E-3},{"$f":"(B139-(Calcoli!$B$8/B139))/'Acido - Base forte'!$F$2","v":6.9183095646453566E-3}]
[{"$f":"IF((I140*'Acido - Base forte'!$F$3*'Acido - Base forte'!$F$1)/'Acido - Base forte'!$F$2>0,IF((I140*'Acido - Base forte'!$F$3*'Acido - Base forte'!$F$1)/'Acido - Base forte'!$F$2<1.8*Calcoli!$B$13*('Acido - Base forte'!$F$1*'Acido - Base forte'!$F$3/'Acido - Base forte'!$F$2),I140*'Acido - Base forte'!$F$3*'Acido - Base forte'!$F$1/'Acido - Base forte'!$F$2,NA()),NA())","v":22.663410066942298},6.6069344800759322E-4,3.1800000000000015,{"$f":"IF(Calcoli!$B$13=3,B140^Calcoli!$B$13+Calcoli!$B$9*B140^2+Calcoli!$B$9*Calcoli!$B$10*B140+Calcoli!$B$9*Calcoli!$B$10*Calcoli!$B$11,IF(Calcoli!$B$13=2,B140^Calcoli!$B$13+Calcoli!$B$9*B140+Calcoli!$B$9*Calcoli!$B$10,B140^Calcoli!$B$13+Calcoli!$B$9))","v":5.3921816922971119E-6},{"$f":"(Calcoli!$B$9*B140^(Calcoli!$B$13-1))/D140","v":0.9189602915524151},{"$f":"IF(Calcoli!$B$13>=2, (Calcoli!$B$9*Calcoli!$B$10*B140^(Calcoli!$B$13-2))/D140,NA())","v":8.6235966541013624E-5},{"$f":"IF(Calcoli!$B$13>=3,(Calcoli!$B$9*Calcoli!$B$10*Calcoli!$B$11*B140^(Calcoli!$B$13-3))/D140,NA())","v":{"$error":"#N/A"}},{"$f":"IF(Calcoli!$B$13=3,(E140+F140*2+G140*3),IF(Calcoli!$B$13=2,(E140+F140*2),E140))","v":0.91913276348549711},0.90653640267769187,{"$f":"(B140-(Calcoli!$B$8/B140))/'Acido - Base forte'!$F$1","v":6.6069343287198067E-3},{"$f":"(B140-(Calcoli!$B$8/B140))/'Acido - Base forte'!$F$2","v":6.6069343287198067E-3}]
[{"$f":"IF((I141*'Acido - Base forte'!$F$3*'Acido - Base forte'!$F$1)/'Acido - Base forte'!$F$2>0,IF((I141*'Acido - Base forte'!$F$3*'Acido - Base forte'!$F$1)/'Acido - Base forte'!$F$2<1.8*Calcoli!$B$13*('Acido - Base forte'!$F$1*'Acido - Base forte'!$F$3/'Acido - Base forte'!$F$2),I141*'Acido - Base forte'!$F$3*'Acido - Base forte'!$F$1/'Acido - Base forte'!$F$2,NA()),NA())","v":22.761104586420256},6.3095734448019071E-4,3.2000000000000015,{"$f":"IF(Calcoli!$B$13=3,B141^Calcoli!$B$13+Calcoli!$B$9*B141^2+Calcoli!$B$9*Calcoli!$B$10*B141+Calcoli!$B$9*Calcoli!$B$10*Calcoli!$B$11,IF(Calcoli!$B$13=2,B141^Calcoli!$B$13+Calcoli!$B$9*B141+Calcoli!$B$9*Calcoli!$B$10,B141^Calcoli!$B$13+Calcoli!$B$9))","v":5.1307522541549239E-6},{"$f":"(Calcoli!$B$9*B141^(Calcoli!$B$13-1))/D141","v":0.9223170110716753},{"$f":"IF(Calcoli!$B$13>=2, (Calcoli!$B$9*Calcoli!$B$10*B141^(Calcoli!$B$13-2))/D141,NA())","v":9.0629985032592307E-5},{"$f":"IF(Calcoli!$B$13>=3,(Calcoli!$B$9*Calcoli!$B$10*Calcoli!$B$11*B141^(Calcoli!$B$13-3))/D141,NA())","v":{"$error":"#N/A"}},{"$f":"IF(Calcoli!$B$13=3,(E141+F141*2+G141*3),IF(Calcoli!$B$13=2,(E141+F141*2),E141))","v":0.92249827104174054},0.91044418345681022,{"$f":"(B141-(Calcoli!$B$8/B141))/'Acido - Base forte'!$F$1","v":6.3095732863125871E-3},{"$f":"(B141-(Calcoli!$B$8/B141))/'Acido - Base forte'!$F$2","v":6.3095732863125871E-3}]
[{"$f":"IF((I142*'Acido - Base forte'!$F$3*'Acido - Base forte'!$F$1)/'Acido - Base forte'!$F$2>0,IF((I142*'Acido - Base forte'!$F$3*'Acido - Base forte'!$F$1)/'Acido - Base forte'!$F$2<1.8*Calcoli!$B$13*('Acido - Base forte'!$F$1*'Acido - Base forte'!$F$3/'Acido - Base forte'!$F$2),I142*'Acido - Base forte'!$F$3*'Acido - Base forte'!$F$1/'Acido - Base forte'!$F$2,NA()),NA())","v":22.85503846007904},6.025595860743554E-4,3.2200000000000015,{"$f":"IF(Calcoli!$B$13=3,B142^Calcoli!$B$13+Calcoli!$B$9*B142^2+Calcoli!$B$9*Calcoli!$B$10*B142+Calcoli!$B$9*Calcoli!$B$10*Calcoli!$B$11,IF(Calcoli!$B$13=2,B142^Calcoli!$B$13+Calcoli!$B$9*B142+Calcoli!$B$9*Calcoli!$B$10,B142^Calcoli!$B$13+Calcoli!$B$9))","v":4.8827399503277646E-6},{"$f":"(Calcoli!$B$9*B142^(Calcoli!$B$13-1))/D142","v":0.92554527612192505},{"$f":"IF(Calcoli!$B$13>=2, (Calcoli!$B$9*Calcoli!$B$10*B142^(Calcoli!$B$13-2))/D142,NA())","v":9.5233414994543356E-5},{"$f":"IF(Calcoli!$B$13>=3,(Calcoli!$B$9*Calcoli!$B$10*Calcoli!$B$11*B142^(Calcoli!$B$13-3))/D142,NA())","v":{"$error":"#N/A"}},{"$f":"IF(Calcoli!$B$13=3,(E142+F142*2+G142*3),IF(Calcoli!$B$13=2,(E142+F142*2),E142))","v":0.92573574295191419},0.91420153840316154,{"$f":"(B142-(Calcoli!$B$8/B142))/'Acido - Base forte'!$F$1","v":6.0255956947848624E-3},{"$f":"(B142-(Calcoli!$B$8/B142))/'Acido - Base forte'!$F$2","v":6.0255956947848624E-3}]
[{"$f":"IF((I143*'Acido - Base forte'!$F$3*'Acido - Base forte'!$F$1)/'Acido - Base forte'!$F$2>0,IF((I143*'Acido - Base forte'!$F$3*'Acido - Base forte'!$F$1)/'Acido - Base forte'!$F$2<1.8*Calcoli!$B$13*('Acido - Base forte'!$F$1*'Acido - Base forte'!$F$3/'Acido - Base forte'!$F$2),I143*'Acido - Base forte'!$F$3*'Acido - Base forte'!$F$1/'Acido - Base forte'!$F$2,NA()),NA())","v":22.945332326237864},5.7543993733715426E-4,3.2400000000000015,{"$f":"IF(Calcoli!$B$13=3,B143^Calcoli!$B$13+Calcoli!$B$9*B143^2+Calcoli!$B$9*Calcoli!$B$10*B143+Calcoli!$B$9*Calcoli!$B$10*Calcoli!$B$11,IF(Calcoli!$B$13=2,B143^Calcoli!$B$13+Calcoli!$B$9*B143+Calcoli!$B$9*Calcoli!$B$10,B143^Calcoli!$B$13+Calcoli!$B$9))","v":4.6473956515112455E-6},{"$f":"(Calcoli!$B$9*B143^(Calcoli!$B$13-1))/D143","v":0.92864904425024375},{"$f":"IF(Calcoli!$B$13>=2, (Calcoli!$B$9*Calcoli!$B$10*B143^(Calcoli!$B$13-2))/D143,NA())","v":1.0005603888035458E-4},{"$f":"IF(Calcoli!$B$13>=3,(Calcoli!$B$9*Calcoli!$B$10*Calcoli!$B$11*B143^(Calcoli!$B$13-3))/D143,NA())","v":{"$error":"#N/A"}},{"$f":"IF(Calcoli!$B$13=3,(E143+F143*2+G143*3),IF(Calcoli!$B$13=2,(E143+F143*2),E143))","v":0.92884915632800447},0.91781329304951453,{"$f":"(B143-(Calcoli!$B$8/B143))/'Acido - Base forte'!$F$1","v":5.7543991995914591E-3},{"$f":"(B143-(Calcoli!$B$8/B143))/'Acido - Base forte'!$F$2","v":5.7543991995914591E-3}]
[{"$f":"IF((I144*'Acido - Base forte'!$F$3*'Acido - Base forte'!$F$1)/'Acido - Base forte'!$F$2>0,IF((I144*'Acido - Base forte'!$F$3*'Acido - Base forte'!$F$1)/'Acido - Base forte'!$F$2<1.8*Calcoli!$B$13*('Acido - Base forte'!$F$1*'Acido - Base forte'!$F$3/'Acido - Base forte'!$F$2),I144*'Acido - Base forte'!$F$3*'Acido - Base forte'!$F$1/'Acido - Base forte'!$F$2,NA()),NA())","v":23.032105034730527},5.4954087385762217E-4,3.2600000000000016,{"$f":"IF(Calcoli!$B$13=3,B144^Calcoli!$B$13+Calcoli!$B$9*B144^2+Calcoli!$B$9*Calcoli!$B$10*B144+Calcoli!$B$9*Calcoli!$B$10*Calcoli!$B$11,IF(Calcoli!$B$13=2,B144^Calcoli!$B$13+Calcoli!$B$9*B144+Calcoli!$B$9*Calcoli!$B$10,B144^Calcoli!$B$13+Calcoli!$B$9))","v":4.4240167259723658E-6},{"$f":"(Calcoli!$B$9*B144^(Calcoli!$B$13-1))/D144","v":0.93163222682578783},{"$f":"IF(Calcoli!$B$13>=2, (Calcoli!$B$9*Calcoli!$B$10*B144^(Calcoli!$B$13-2))/D144,NA())","v":1.051081017099447E-4},{"$f":"IF(Calcoli!$B$13>=3,(Calcoli!$B$9*Calcoli!$B$10*Calcoli!$B$11*B144^(Calcoli!$B$13-3))/D144,NA())","v":{"$error":"#N/A"}},{"$f":"IF(Calcoli!$B$13=3,(E144+F144*2+G144*3),IF(Calcoli!$B$13=2,(E144+F144*2),E144))","v":0.93184244302920771},0.92128420138922118,{"$f":"(B144-(Calcoli!$B$8/B144))/'Acido - Base forte'!$F$1","v":5.4954085566061356E-3},{"$f":"(B144-(Calcoli!$B$8/B144))/'Acido - Base forte'!$F$2","v":5.4954085566061356E-3}]
[{"$f":"IF((I145*'Acido - Base forte'!$F$3*'Acido - Base forte'!$F$1)/'Acido - Base forte'!$F$2>0,IF((I145*'Acido - Base forte'!$F$3*'Acido - Base forte'!$F$1)/'Acido - Base forte'!$F$2<1.8*Calcoli!$B$13*('Acido - Base forte'!$F$1*'Acido - Base forte'!$F$3/'Acido - Base forte'!$F$2),I145*'Acido - Base forte'!$F$3*'Acido - Base forte'!$F$1/'Acido - Base forte'!$F$2,NA()),NA())","v":23.115473489492693},5.2480746024977044E-4,3.2800000000000016,{"$f":"IF(Calcoli!$B$13=3,B145^Calcoli!$B$13+Calcoli!$B$9*B145^2+Calcoli!$B$9*Calcoli!$B$10*B145+Calcoli!$B$9*Calcoli!$B$10*Calcoli!$B$11,IF(Calcoli!$B$13=2,B145^Calcoli!$B$13+Calcoli!$B$9*B145+Calcoli!$B$9*Calcoli!$B$10,B145^Calcoli!$B$13+Calcoli!$B$9))","v":4.211943822207093E-6},{"$f":"(Calcoli!$B$9*B145^(Calcoli!$B$13-1))/D145","v":0.93449868232353417},{"$f":"IF(Calcoli!$B$13>=2, (Calcoli!$B$9*Calcoli!$B$10*B145^(Calcoli!$B$13-2))/D145,NA())","v":1.1040033286966686E-4},{"$f":"IF(Calcoli!$B$13>=3,(Calcoli!$B$9*Calcoli!$B$10*Calcoli!$B$11*B145^(Calcoli!$B$13-3))/D145,NA())","v":{"$error":"#N/A"}},{"$f":"IF(Calcoli!$B$13=3,(E145+F145*2+G145*3),IF(Calcoli!$B$13=2,(E145+F145*2),E145))","v":0.93471948298927354},0.92461893957970775,{"$f":"(B145-(Calcoli!$B$8/B145))/'Acido - Base forte'!$F$1","v":5.2480744119516327E-3},{"$f":"(B145-(Calcoli!$B$8/B145))/'Acido - Base forte'!$F$2","v":5.2480744119516327E-3}]
[{"$f":"IF((I146*'Acido - Base forte'!$F$3*'Acido - Base forte'!$F$1)/'Acido - Base forte'!$F$2>0,IF((I146*'Acido - Base forte'!$F$3*'Acido - Base forte'!$F$1)/'Acido - Base forte'!$F$2<1.8*Calcoli!$B$13*('Acido - Base forte'!$F$1*'Acido - Base forte'!$F$3/'Acido - Base forte'!$F$2),I146*'Acido - Base forte'!$F$3*'Acido - Base forte'!$F$1/'Acido - Base forte'!$F$2,NA()),NA())","v":23.195552510739155},5.0118723362727025E-4,3.3000000000000016,{"$f":"IF(Calcoli!$B$13=3,B146^Calcoli!$B$13+Calcoli!$B$9*B146^2+Calcoli!$B$9*Calcoli!$B$10*B146+Calcoli!$B$9*Calcoli!$B$10*Calcoli!$B$11,IF(Calcoli!$B$13=2,B146^Calcoli!$B$13+Calcoli!$B$9*B146+Calcoli!$B$9*Calcoli!$B$10,B146^Calcoli!$B$13+Calcoli!$B$9))","v":4.0105578953554832E-6},{"$f":"(Calcoli!$B$9*B146^(Calcoli!$B$13-1))/D146","v":0.93725221036145878},{"$f":"IF(Calcoli!$B$13>=2, (Calcoli!$B$9*Calcoli!$B$10*B146^(Calcoli!$B$13-2))/D146,NA())","v":1.159439689272417E-4},{"$f":"IF(Calcoli!$B$13>=3,(Calcoli!$B$9*Calcoli!$B$10*Calcoli!$B$11*B146^(Calcoli!$B$13-3))/D146,NA())","v":{"$error":"#N/A"}},{"$f":"IF(Calcoli!$B$13=3,(E146+F146*2+G146*3),IF(Calcoli!$B$13=2,(E146+F146*2),E146))","v":0.93748409829931323},0.92782210042956625,{"$f":"(B146-(Calcoli!$B$8/B146))/'Acido - Base forte'!$F$1","v":5.0118721367464715E-3},{"$f":"(B146-(Calcoli!$B$8/B146))/'Acido - Base forte'!$F$2","v":5.0118721367464715E-3}]
[{"$f":"IF((I147*'Acido - Base forte'!$F$3*'Acido - Base forte'!$F$1)/'Acido - Base forte'!$F$2>0,IF((I147*'Acido - Base forte'!$F$3*'Acido - Base forte'!$F$1)/'Acido - Base forte'!$F$2<1.8*Calcoli!$B$13*('Acido - Base forte'!$F$1*'Acido - Base forte'!$F$3/'Acido - Base forte'!$F$2),I147*'Acido - Base forte'!$F$3*'Acido - Base forte'!$F$1/'Acido - Base forte'!$F$2,NA()),NA())","v":23.272454715616046},4.786300923226361E-4,3.3200000000000016,{"$f":"IF(Calcoli!$B$13=3,B147^Calcoli!$B$13+Calcoli!$B$9*B147^2+Calcoli!$B$9*Calcoli!$B$10*B147+Calcoli!$B$9*Calcoli!$B$10*Calcoli!$B$11,IF(Calcoli!$B$13=2,B147^Calcoli!$B$13+Calcoli!$B$9*B147+Calcoli!$B$9*Calcoli!$B$10,B147^Calcoli!$B$13+Calcoli!$B$9))","v":3.8192774576965464E-6},{"$f":"(Calcoli!$B$9*B147^(Calcoli!$B$13-1))/D147","v":0.93989654644907072},{"$f":"IF(Calcoli!$B$13>=2, (Calcoli!$B$9*Calcoli!$B$10*B147^(Calcoli!$B$13-2))/D147,NA())","v":1.2175077750974585E-4},{"$f":"IF(Calcoli!$B$13>=3,(Calcoli!$B$9*Calcoli!$B$10*Calcoli!$B$11*B147^(Calcoli!$B$13-3))/D147,NA())","v":{"$error":"#N/A"}},{"$f":"IF(Calcoli!$B$13=3,(E147+F147*2+G147*3),IF(Calcoli!$B$13=2,(E147+F147*2),E147))","v":0.94014004800409023},0.9308981886246418,{"$f":"(B147-(Calcoli!$B$8/B147))/'Acido - Base forte'!$F$1","v":4.7863007142967479E-3},{"$f":"(B147-(Calcoli!$B$8/B147))/'Acido - Base forte'!$F$2","v":4.7863007142967479E-3}]
[{"$f":"IF((I148*'Acido - Base forte'!$F$3*'Acido - Base forte'!$F$1)/'Acido - Base forte'!$F$2>0,IF((I148*'Acido - Base forte'!$F$3*'Acido - Base forte'!$F$1)/'Acido - Base forte'!$F$2<1.8*Calcoli!$B$13*('Acido - Base forte'!$F$1*'Acido - Base forte'!$F$3/'Acido - Base forte'!$F$2),I148*'Acido - Base forte'!$F$3*'Acido - Base forte'!$F$1/'Acido - Base forte'!$F$2,NA()),NA())","v":23.346290416207342},4.5708818961487298E-4,3.3400000000000016,{"$f":"IF(Calcoli!$B$13=3,B148^Calcoli!$B$13+Calcoli!$B$9*B148^2+Calcoli!$B$9*Calcoli!$B$10*B148+Calcoli!$B$9*Calcoli!$B$10*Calcoli!$B$11,IF(Calcoli!$B$13=2,B148^Calcoli!$B$13+Calcoli!$B$9*B148+Calcoli!$B$9*Calcoli!$B$10,B148^Calcoli!$B$13+Calcoli!$B$9))","v":3.6375560351969491E-6},{"$f":"(Calcoli!$B$9*B148^(Calcoli!$B$13-1))/D148","v":0.94243535740499884},{"$f":"IF(Calcoli!$B$13>=2, (Calcoli!$B$9*Calcoli!$B$10*B148^(Calcoli!$B$13-2))/D148,NA())","v":1.2783308229499847E-4},{"$f":"IF(Calcoli!$B$13>=3,(Calcoli!$B$9*Calcoli!$B$10*Calcoli!$B$11*B148^(Calcoli!$B$13-3))/D148,NA())","v":{"$error":"#N/A"}},{"$f":"IF(Calcoli!$B$13=3,(E148+F148*2+G148*3),IF(Calcoli!$B$13=2,(E148+F148*2),E148))","v":0.94269102356958889},0.93385161664829386,{"$f":"(B148-(Calcoli!$B$8/B148))/'Acido - Base forte'!$F$1","v":4.5708816773725666E-3},{"$f":"(B148-(Calcoli!$B$8/B148))/'Acido - Base forte'!$F$2","v":4.5708816773725666E-3}]
[{"$f":"IF((I149*'Acido - Base forte'!$F$3*'Acido - Base forte'!$F$1)/'Acido - Base forte'!$F$2>0,IF((I149*'Acido - Base forte'!$F$3*'Acido - Base forte'!$F$1)/'Acido - Base forte'!$F$2<1.8*Calcoli!$B$13*('Acido - Base forte'!$F$1*'Acido - Base forte'!$F$3/'Acido - Base forte'!$F$2),I149*'Acido - Base forte'!$F$3*'Acido - Base forte'!$F$1/'Acido - Base forte'!$F$2,NA()),NA())","v":23.417167533780614},{"$f":"10^-C149","v":4.3651583224016405E-4},3.3600000000000017,{"$f":"IF(Calcoli!$B$13=3,B149^Calcoli!$B$13+Calcoli!$B$9*B149^2+Calcoli!$B$9*Calcoli!$B$10*B149+Calcoli!$B$9*Calcoli!$B$10*Calcoli!$B$11,IF(Calcoli!$B$13=2,B149^Calcoli!$B$13+Calcoli!$B$9*B149+Calcoli!$B$9*Calcoli!$B$10,B149^Calcoli!$B$13+Calcoli!$B$9))","v":3.4648798135975534E-6},{"$f":"(Calcoli!$B$9*B149^(Calcoli!$B$13-1))/D149","v":0.94487223740150506},{"$f":"IF(Calcoli!$B$13>=2, (Calcoli!$B$9*Calcoli!$B$10*B149^(Calcoli!$B$13-2))/D149,NA())","v":1.3420378916900863E-4},{"$f":"IF(Calcoli!$B$13>=3,(Calcoli!$B$9*Calcoli!$B$10*Calcoli!$B$11*B149^(Calcoli!$B$13-3))/D149,NA())","v":{"$error":"#N/A"}},{"$f":"IF(Calcoli!$B$13=3,(E149+F149*2+G149*3),IF(Calcoli!$B$13=2,(E149+F149*2),E149))","v":0.94514064497984307},{"$f":"(H149-J149)/(1+K149)","v":0.93668670135122456},{"$f":"(B149-(Calcoli!$B$8/B149))/'Acido - Base forte'!$F$1","v":4.365158093314875E-3},{"$f":"(B149-(Calcoli!$B$8/B149))/'Acido - Base forte'!$F$2","v":4.365158093314875E-3}]
[{"$f":"IF((I150*'Acido - Base forte'!$F$3*'Acido - Base forte'!$F$1)/'Acido - Base forte'!$F$2>0,IF((I150*'Acido - Base forte'!$F$3*'Acido - Base forte'!$F$1)/'Acido - Base forte'!$F$2<1.8*Calcoli!$B$13*('Acido - Base forte'!$F$1*'Acido - Base forte'!$F$3/'Acido - Base forte'!$F$2),I150*'Acido - Base forte'!$F$3*'Acido - Base forte'!$F$1/'Acido - Base forte'!$F$2,NA()),NA())","v":23.485191528170589},4.1686938347033328E-4,3.3800000000000017,{"$f":"IF(Calcoli!$B$13=3,B150^Calcoli!$B$13+Calcoli!$B$9*B150^2+Calcoli!$B$9*Calcoli!$B$10*B150+Calcoli!$B$9*Calcoli!$B$10*Calcoli!$B$11,IF(Calcoli!$B$13=2,B150^Calcoli!$B$13+Calcoli!$B$9*B150+Calcoli!$B$9*Calcoli!$B$10,B150^Calcoli!$B$13+Calcoli!$B$9))","v":3.3007654589024353E-6},{"$f":"(Calcoli!$B$9*B150^(Calcoli!$B$13-1))/D150","v":0.94721070459429879},{"$f":"IF(Calcoli!$B$13>=2, (Calcoli!$B$9*Calcoli!$B$10*B150^(Calcoli!$B$13-2))/D150,NA())","v":1.4087641360456462E-4},{"$f":"IF(Calcoli!$B$13>=3,(Calcoli!$B$9*Calcoli!$B$10*Calcoli!$B$11*B150^(Calcoli!$B$13-3))/D150,NA())","v":{"$error":"#N/A"}},{"$f":"IF(Calcoli!$B$13=3,(E150+F150*2+G150*3),IF(Calcoli!$B$13=2,(E150+F150*2),E150))","v":0.94749245742150789},0.93940766112682361,{"$f":"(B150-(Calcoli!$B$8/B150))/'Acido - Base forte'!$F$1","v":4.1686935948200407E-3},{"$f":"(B150-(Calcoli!$B$8/B150))/'Acido - Base forte'!$F$2","v":4.1686935948200407E-3}]
[{"$f":"IF((I151*'Acido - Base forte'!$F$3*'Acido - Base forte'!$F$1)/'Acido - Base forte'!$F$2>0,IF((I151*'Acido - Base forte'!$F$3*'Acido - Base forte'!$F$1)/'Acido - Base forte'!$F$2<1.8*Calcoli!$B$13*('Acido - Base forte'!$F$1*'Acido - Base forte'!$F$3/'Acido - Base forte'!$F$2),I151*'Acido - Base forte'!$F$3*'Acido - Base forte'!$F$1/'Acido - Base forte'!$F$2,NA()),NA())","v":23.550465341220875},3.9810717055349535E-4,{"$f":"C150+0.02","v":3.4000000000000017},{"$f":"IF(Calcoli!$B$13=3,B151^Calcoli!$B$13+Calcoli!$B$9*B151^2+Calcoli!$B$9*Calcoli!$B$10*B151+Calcoli!$B$9*Calcoli!$B$10*Calcoli!$B$11,IF(Calcoli!$B$13=2,B151^Calcoli!$B$13+Calcoli!$B$9*B151+Calcoli!$B$9*Calcoli!$B$10,B151^Calcoli!$B$13+Calcoli!$B$9))","v":3.1447580983973247E-6},{"$f":"(Calcoli!$B$9*B151^(Calcoli!$B$13-1))/D151","v":0.94945419829680433},{"$f":"IF(Calcoli!$B$13>=2, (Calcoli!$B$9*Calcoli!$B$10*B151^(Calcoli!$B$13-2))/D151,NA())","v":1.4786510931857677E-4},{"$f":"IF(Calcoli!$B$13>=3,(Calcoli!$B$9*Calcoli!$B$10*Calcoli!$B$11*B151^(Calcoli!$B$13-3))/D151,NA())","v":{"$error":"#N/A"}},{"$f":"IF(Calcoli!$B$13=3,(E151+F151*2+G151*3),IF(Calcoli!$B$13=2,(E151+F151*2),E151))","v":0.94974992851544149},0.94201861364883499,{"$f":"(B151-(Calcoli!$B$8/B151))/'Acido - Base forte'!$F$1","v":3.9810714543463107E-3},{"$f":"(B151-(Calcoli!$B$8/B151))/'Acido - Base forte'!$F$2","v":3.9810714543463107E-3}]
[{"$f":"IF((I152*'Acido - Base forte'!$F$3*'Acido - Base forte'!$F$1)/'Acido - Base forte'!$F$2>0,IF((I152*'Acido - Base forte'!$F$3*'Acido - Base forte'!$F$1)/'Acido - Base forte'!$F$2<1.8*Calcoli!$B$13*('Acido - Base forte'!$F$1*'Acido - Base forte'!$F$3/'Acido - Base forte'!$F$2),I152*'Acido - Base forte'!$F$3*'Acido - Base forte'!$F$1/'Acido - Base forte'!$F$2,NA()),NA())","v":23.61308935323181},3.8018939632055945E-4,3.4200000000000017,{"$f":"IF(Calcoli!$B$13=3,B152^Calcoli!$B$13+Calcoli!$B$9*B152^2+Calcoli!$B$9*Calcoli!$B$10*B152+Calcoli!$B$9*Calcoli!$B$10*Calcoli!$B$11,IF(Calcoli!$B$13=2,B152^Calcoli!$B$13+Calcoli!$B$9*B152+Calcoli!$B$9*Calcoli!$B$10,B152^Calcoli!$B$13+Calcoli!$B$9))","v":2.9964294494787869E-6},{"$f":"(Calcoli!$B$9*B152^(Calcoli!$B$13-1))/D152","v":0.95160607665906682},{"$f":"IF(Calcoli!$B$13>=2, (Calcoli!$B$9*Calcoli!$B$10*B152^(Calcoli!$B$13-2))/D152,NA())","v":1.5518469826842889E-4},{"$f":"IF(Calcoli!$B$13>=3,(Calcoli!$B$9*Calcoli!$B$10*Calcoli!$B$11*B152^(Calcoli!$B$13-3))/D152,NA())","v":{"$error":"#N/A"}},{"$f":"IF(Calcoli!$B$13=3,(E152+F152*2+G152*3),IF(Calcoli!$B$13=2,(E152+F152*2),E152))","v":0.95191644605560366},0.94452357412927246,{"$f":"(B152-(Calcoli!$B$8/B152))/'Acido - Base forte'!$F$1","v":3.8018937001787949E-3},{"$f":"(B152-(Calcoli!$B$8/B152))/'Acido - Base forte'!$F$2","v":3.8018937001787949E-3}]
[{"$f":"IF((I153*'Acido - Base forte'!$F$3*'Acido - Base forte'!$F$1)/'Acido - Base forte'!$F$2>0,IF((I153*'Acido - Base forte'!$F$3*'Acido - Base forte'!$F$1)/'Acido - Base forte'!$F$2<1.8*Calcoli!$B$13*('Acido - Base forte'!$F$1*'Acido - Base forte'!$F$3/'Acido - Base forte'!$F$2),I153*'Acido - Base forte'!$F$3*'Acido - Base forte'!$F$1/'Acido - Base forte'!$F$2,NA()),NA())","v":23.673161351395411},3.6307805477009977E-4,3.4400000000000017,{"$f":"IF(Calcoli!$B$13=3,B153^Calcoli!$B$13+Calcoli!$B$9*B153^2+Calcoli!$B$9*Calcoli!$B$10*B153+Calcoli!$B$9*Calcoli!$B$10*Calcoli!$B$11,IF(Calcoli!$B$13=2,B153^Calcoli!$B$13+Calcoli!$B$9*B153+Calcoli!$B$9*Calcoli!$B$10,B153^Calcoli!$B$13+Calcoli!$B$9))","v":2.855376084631388E-6},{"$f":"(Calcoli!$B$9*B153^(Calcoli!$B$13-1))/D153","v":0.95366961481267798},{"$f":"IF(Calcoli!$B$13>=2, (Calcoli!$B$9*Calcoli!$B$10*B153^(Calcoli!$B$13-2))/D153,NA())","v":1.628507020503496E-4},{"$f":"IF(Calcoli!$B$13>=3,(Calcoli!$B$9*Calcoli!$B$10*Calcoli!$B$11*B153^(Calcoli!$B$13-3))/D153,NA())","v":{"$error":"#N/A"}},{"$f":"IF(Calcoli!$B$13=3,(E153+F153*2+G153*3),IF(Calcoli!$B$13=2,(E153+F153*2),E153))","v":0.95399531621677869},0.94692645405581644,{"$f":"(B153-(Calcoli!$B$8/B153))/'Acido - Base forte'!$F$1","v":3.6307802722781272E-3},{"$f":"(B153-(Calcoli!$B$8/B153))/'Acido - Base forte'!$F$2","v":3.6307802722781272E-3}]
[{"$f":"IF((I154*'Acido - Base forte'!$F$3*'Acido - Base forte'!$F$1)/'Acido - Base forte'!$F$2>0,IF((I154*'Acido - Base forte'!$F$3*'Acido - Base forte'!$F$1)/'Acido - Base forte'!$F$2<1.8*Calcoli!$B$13*('Acido - Base forte'!$F$1*'Acido - Base forte'!$F$3/'Acido - Base forte'!$F$2),I154*'Acido - Base forte'!$F$3*'Acido - Base forte'!$F$1/'Acido - Base forte'!$F$2,NA()),NA())","v":23.730776509235433},3.4673685045252985E-4,3.4600000000000017,{"$f":"IF(Calcoli!$B$13=3,B154^Calcoli!$B$13+Calcoli!$B$9*B154^2+Calcoli!$B$9*Calcoli!$B$10*B154+Calcoli!$B$9*Calcoli!$B$10*Calcoli!$B$11,IF(Calcoli!$B$13=2,B154^Calcoli!$B$13+Calcoli!$B$9*B154+Calcoli!$B$9*Calcoli!$B$10,B154^Calcoli!$B$13+Calcoli!$B$9))","v":2.7212178218557138E-6},{"$f":"(Calcoli!$B$9*B154^(Calcoli!$B$13-1))/D154","v":0.95564800344448886},{"$f":"IF(Calcoli!$B$13>=2, (Calcoli!$B$9*Calcoli!$B$10*B154^(Calcoli!$B$13-2))/D154,NA())","v":1.7087937476570575E-4},{"$f":"IF(Calcoli!$B$13>=3,(Calcoli!$B$9*Calcoli!$B$10*Calcoli!$B$11*B154^(Calcoli!$B$13-3))/D154,NA())","v":{"$error":"#N/A"}},{"$f":"IF(Calcoli!$B$13=3,(E154+F154*2+G154*3),IF(Calcoli!$B$13=2,(E154+F154*2),E154))","v":0.95598976219402032},0.94923106036941729,{"$f":"(B154-(Calcoli!$B$8/B154))/'Acido - Base forte'!$F$1","v":3.4673682161221481E-3},{"$f":"(B154-(Calcoli!$B$8/B154))/'Acido - Base forte'!$F$2","v":3.4673682161221481E-3}]
[{"$f":"IF((I155*'Acido - Base forte'!$F$3*'Acido - Base forte'!$F$1)/'Acido - Base forte'!$F$2>0,IF((I155*'Acido - Base forte'!$F$3*'Acido - Base forte'!$F$1)/'Acido - Base forte'!$F$2<1.8*Calcoli!$B$13*('Acido - Base forte'!$F$1*'Acido - Base forte'!$F$3/'Acido - Base forte'!$F$2),I155*'Acido - Base forte'!$F$3*'Acido - Base forte'!$F$1/'Acido - Base forte'!$F$2,NA()),NA())","v":23.786027376110788},3.3113112148258975E-4,3.4800000000000018,{"$f":"IF(Calcoli!$B$13=3,B155^Calcoli!$B$13+Calcoli!$B$9*B155^2+Calcoli!$B$9*Calcoli!$B$10*B155+Calcoli!$B$9*Calcoli!$B$10*Calcoli!$B$11,IF(Calcoli!$B$13=2,B155^Calcoli!$B$13+Calcoli!$B$9*B155+Calcoli!$B$9*Calcoli!$B$10,B155^Calcoli!$B$13+Calcoli!$B$9))","v":2.5935962307337403E-6},{"$f":"(Calcoli!$B$9*B155^(Calcoli!$B$13-1))/D155","v":0.95754434776335018},{"$f":"IF(Calcoli!$B$13>=2, (Calcoli!$B$9*Calcoli!$B$10*B155^(Calcoli!$B$13-2))/D155,NA())","v":1.7928773742412841E-4},{"$f":"IF(Calcoli!$B$13>=3,(Calcoli!$B$9*Calcoli!$B$10*Calcoli!$B$11*B155^(Calcoli!$B$13-3))/D155,NA())","v":{"$error":"#N/A"}},{"$f":"IF(Calcoli!$B$13=3,(E155+F155*2+G155*3),IF(Calcoli!$B$13=2,(E155+F155*2),E155))","v":0.95790292323819848},0.95144109504443153,{"$f":"(B155-(Calcoli!$B$8/B155))/'Acido - Base forte'!$F$1","v":3.3113109128307251E-3},{"$f":"(B155-(Calcoli!$B$8/B155))/'Acido - Base forte'!$F$2","v":3.3113109128307251E-3}]
[{"$f":"IF((I156*'Acido - Base forte'!$F$3*'Acido - Base forte'!$F$1)/'Acido - Base forte'!$F$2>0,IF((I156*'Acido - Base forte'!$F$3*'Acido - Base forte'!$F$1)/'Acido - Base forte'!$F$2<1.8*Calcoli!$B$13*('Acido - Base forte'!$F$1*'Acido - Base forte'!$F$3/'Acido - Base forte'!$F$2),I156*'Acido - Base forte'!$F$3*'Acido - Base forte'!$F$1/'Acido - Base forte'!$F$2,NA()),NA())","v":23.839003875883275},3.1622776601683615E-4,3.5000000000000018,{"$f":"IF(Calcoli!$B$13=3,B156^Calcoli!$B$13+Calcoli!$B$9*B156^2+Calcoli!$B$9*Calcoli!$B$10*B156+Calcoli!$B$9*Calcoli!$B$10*Calcoli!$B$11,IF(Calcoli!$B$13=2,B156^Calcoli!$B$13+Calcoli!$B$9*B156+Calcoli!$B$9*Calcoli!$B$10,B156^Calcoli!$B$13+Calcoli!$B$9))","v":2.4721732451262698E-6},{"$f":"(Calcoli!$B$9*B156^(Calcoli!$B$13-1))/D156","v":0.95936166682571322},{"$f":"IF(Calcoli!$B$13>=2, (Calcoli!$B$9*Calcoli!$B$10*B156^(Calcoli!$B$13-2))/D156,NA())","v":1.8809361395554197E-4},{"$f":"IF(Calcoli!$B$13>=3,(Calcoli!$B$9*Calcoli!$B$10*Calcoli!$B$11*B156^(Calcoli!$B$13-3))/D156,NA())","v":{"$error":"#N/A"}},{"$f":"IF(Calcoli!$B$13=3,(E156+F156*2+G156*3),IF(Calcoli!$B$13=2,(E156+F156*2),E156))","v":0.95973785405362433},0.95356015503533098,{"$f":"(B156-(Calcoli!$B$8/B156))/'Acido - Base forte'!$F$1","v":3.1622773439405954E-3},{"$f":"(B156-(Calcoli!$B$8/B156))/'Acido - Base forte'!$F$2","v":3.1622773439405954E-3}]
[{"$f":"IF((I157*'Acido - Base forte'!$F$3*'Acido - Base forte'!$F$1)/'Acido - Base forte'!$F$2>0,IF((I157*'Acido - Base forte'!$F$3*'Acido - Base forte'!$F$1)/'Acido - Base forte'!$F$2<1.8*Calcoli!$B$13*('Acido - Base forte'!$F$1*'Acido - Base forte'!$F$3/'Acido - Base forte'!$F$2),I157*'Acido - Base forte'!$F$3*'Acido - Base forte'!$F$1/'Acido - Base forte'!$F$2,NA()),NA())","v":23.96206130725384},2.8183829312644393E-4,{"$f":"C156+0.05","v":3.5500000000000016},{"$f":"IF(Calcoli!$B$13=3,B157^Calcoli!$B$13+Calcoli!$B$9*B157^2+Calcoli!$B$9*Calcoli!$B$10*B157+Calcoli!$B$9*Calcoli!$B$10*Calcoli!$B$11,IF(Calcoli!$B$13=2,B157^Calcoli!$B$13+Calcoli!$B$9*B157+Calcoli!$B$9*Calcoli!$B$10,B157^Calcoli!$B$13+Calcoli!$B$9))","v":2.1936850219207566E-6},{"$f":"(Calcoli!$B$9*B157^(Calcoli!$B$13-1))/D157","v":0.96357826092896881},{"$f":"IF(Calcoli!$B$13>=2, (Calcoli!$B$9*Calcoli!$B$10*B157^(Calcoli!$B$13-2))/D157,NA())","v":2.1197209050224231E-4},{"$f":"IF(Calcoli!$B$13>=3,(Calcoli!$B$9*Calcoli!$B$10*Calcoli!$B$11*B157^(Calcoli!$B$13-3))/D157,NA())","v":{"$error":"#N/A"}},{"$f":"IF(Calcoli!$B$13=3,(E157+F157*2+G157*3),IF(Calcoli!$B$13=2,(E157+F157*2),E157))","v":0.96400220510997325},0.95848245229015361,{"$f":"(B157-(Calcoli!$B$8/B157))/'Acido - Base forte'!$F$1","v":2.8183825764510496E-3},{"$f":"(B157-(Calcoli!$B$8/B157))/'Acido - Base forte'!$F$2","v":2.8183825764510496E-3}]
[{"$f":"IF((I158*'Acido - Base forte'!$F$3*'Acido - Base forte'!$F$1)/'Acido - Base forte'!$F$2>0,IF((I158*'Acido - Base forte'!$F$3*'Acido - Base forte'!$F$1)/'Acido - Base forte'!$F$2<1.8*Calcoli!$B$13*('Acido - Base forte'!$F$1*'Acido - Base forte'!$F$3/'Acido - Base forte'!$F$2),I158*'Acido - Base forte'!$F$3*'Acido - Base forte'!$F$1/'Acido - Base forte'!$F$2,NA()),NA())","v":24.072735900620305},2.5118864315095687E-4,{"$f":"C157+0.05","v":3.6000000000000014},{"$f":"IF(Calcoli!$B$13=3,B158^Calcoli!$B$13+Calcoli!$B$9*B158^2+Calcoli!$B$9*Calcoli!$B$10*B158+Calcoli!$B$9*Calcoli!$B$10*Calcoli!$B$11,IF(Calcoli!$B$13=2,B158^Calcoli!$B$13+Calcoli!$B$9*B158+Calcoli!$B$9*Calcoli!$B$10,B158^Calcoli!$B$13+Calcoli!$B$9))","v":1.947475558080195E-6},{"$f":"(Calcoli!$B$9*B158^(Calcoli!$B$13-1))/D158","v":0.96736249952698961},{"$f":"IF(Calcoli!$B$13>=2, (Calcoli!$B$9*Calcoli!$B$10*B158^(Calcoli!$B$13-2))/D158,NA())","v":2.3877064750347525E-4},{"$f":"IF(Calcoli!$B$13>=3,(Calcoli!$B$9*Calcoli!$B$10*Calcoli!$B$11*B158^(Calcoli!$B$13-3))/D158,NA())","v":{"$error":"#N/A"}},{"$f":"IF(Calcoli!$B$13=3,(E158+F158*2+G158*3),IF(Calcoli!$B$13=2,(E158+F158*2),E158))","v":0.96784004082199659},0.96290943602481216,{"$f":"(B158-(Calcoli!$B$8/B158))/'Acido - Base forte'!$F$1","v":2.5118860334023981E-3},{"$f":"(B158-(Calcoli!$B$8/B158))/'Acido - Base forte'!$F$2","v":2.5118860334023981E-3}]
[{"$f":"IF((I159*'Acido - Base forte'!$F$3*'Acido - Base forte'!$F$1)/'Acido - Base forte'!$F$2>0,IF((I159*'Acido - Base forte'!$F$3*'Acido - Base forte'!$F$1)/'Acido - Base forte'!$F$2<1.8*Calcoli!$B$13*('Acido - Base forte'!$F$1*'Acido - Base forte'!$F$3/'Acido - Base forte'!$F$2),I159*'Acido - Base forte'!$F$3*'Acido - Base forte'!$F$1/'Acido - Base forte'!$F$2,NA()),NA())","v":24.172222029015078},2.2387211385683302E-4,3.6500000000000012,{"$f":"IF(Calcoli!$B$13=3,B159^Calcoli!$B$13+Calcoli!$B$9*B159^2+Calcoli!$B$9*Calcoli!$B$10*B159+Calcoli!$B$9*Calcoli!$B$10*Calcoli!$B$11,IF(Calcoli!$B$13=2,B159^Calcoli!$B$13+Calcoli!$B$9*B159+Calcoli!$B$9*Calcoli!$B$10,B159^Calcoli!$B$13+Calcoli!$B$9))","v":1.7296245772889744E-6},{"$f":"(Calcoli!$B$9*B159^(Calcoli!$B$13-1))/D159","v":0.9707545070607102},{"$f":"IF(Calcoli!$B$13>=2, (Calcoli!$B$9*Calcoli!$B$10*B159^(Calcoli!$B$13-2))/D159,NA())","v":2.6884446839258277E-4},{"$f":"IF(Calcoli!$B$13>=3,(Calcoli!$B$9*Calcoli!$B$10*Calcoli!$B$11*B159^(Calcoli!$B$13-3))/D159,NA())","v":{"$error":"#N/A"}},{"$f":"IF(Calcoli!$B$13=3,(E159+F159*2+G159*3),IF(Calcoli!$B$13=2,(E159+F159*2),E159))","v":0.97129219599749539},0.96688888116060312,{"$f":"(B159-(Calcoli!$B$8/B159))/'Acido - Base forte'!$F$1","v":2.2387206918847379E-3},{"$f":"(B159-(Calcoli!$B$8/B159))/'Acido - Base forte'!$F$2","v":2.2387206918847379E-3}]
[{"$f":"IF((I160*'Acido - Base forte'!$F$3*'Acido - Base forte'!$F$1)/'Acido - Base forte'!$F$2>0,IF((I160*'Acido - Base forte'!$F$3*'Acido - Base forte'!$F$1)/'Acido - Base forte'!$F$2<1.8*Calcoli!$B$13*('Acido - Base forte'!$F$1*'Acido - Base forte'!$F$3/'Acido - Base forte'!$F$2),I160*'Acido - Base forte'!$F$3*'Acido - Base forte'!$F$1/'Acido - Base forte'!$F$2,NA()),NA())","v":24.261618708329582},1.9952623149688723E-4,3.7000000000000011,{"$f":"IF(Calcoli!$B$13=3,B160^Calcoli!$B$13+Calcoli!$B$9*B160^2+Calcoli!$B$9*Calcoli!$B$10*B160+Calcoli!$B$9*Calcoli!$B$10*Calcoli!$B$11,IF(Calcoli!$B$13=2,B160^Calcoli!$B$13+Calcoli!$B$9*B160+Calcoli!$B$9*Calcoli!$B$10,B160^Calcoli!$B$13+Calcoli!$B$9))","v":1.5367224532820034E-6},{"$f":"(Calcoli!$B$9*B160^(Calcoli!$B$13-1))/D160","v":0.97379115729757715},{"$f":"IF(Calcoli!$B$13>=2, (Calcoli!$B$9*Calcoli!$B$10*B160^(Calcoli!$B$13-2))/D160,NA())","v":3.025920516791382E-4},{"$f":"IF(Calcoli!$B$13>=3,(Calcoli!$B$9*Calcoli!$B$10*Calcoli!$B$11*B160^(Calcoli!$B$13-3))/D160,NA())","v":{"$error":"#N/A"}},{"$f":"IF(Calcoli!$B$13=3,(E160+F160*2+G160*3),IF(Calcoli!$B$13=2,(E160+F160*2),E160))","v":0.97439634140093545},0.9704647483331833,{"$f":"(B160-(Calcoli!$B$8/B160))/'Acido - Base forte'!$F$1","v":1.9952618137816388E-3},{"$f":"(B160-(Calcoli!$B$8/B160))/'Acido - Base forte'!$F$2","v":1.9952618137816388E-3}]
[{"$f":"IF((I161*'Acido - Base forte'!$F$3*'Acido - Base forte'!$F$1)/'Acido - Base forte'!$F$2>0,IF((I161*'Acido - Base forte'!$F$3*'Acido - Base forte'!$F$1)/'Acido - Base forte'!$F$2<1.8*Calcoli!$B$13*('Acido - Base forte'!$F$1*'Acido - Base forte'!$F$3/'Acido - Base forte'!$F$2),I161*'Acido - Base forte'!$F$3*'Acido - Base forte'!$F$1/'Acido - Base forte'!$F$2,NA()),NA())","v":24.34193417390528},1.778279410038917E-4,3.7500000000000009,{"$f":"IF(Calcoli!$B$13=3,B161^Calcoli!$B$13+Calcoli!$B$9*B161^2+Calcoli!$B$9*Calcoli!$B$10*B161+Calcoli!$B$9*Calcoli!$B$10*Calcoli!$B$11,IF(Calcoli!$B$13=2,B161^Calcoli!$B$13+Calcoli!$B$9*B161+Calcoli!$B$9*Calcoli!$B$10,B161^Calcoli!$B$13+Calcoli!$B$9))","v":1.3657973341308712E-6},{"$f":"(Calcoli!$B$9*B161^(Calcoli!$B$13-1))/D161","v":0.97650619473342093},{"$f":"IF(Calcoli!$B$13>=2, (Calcoli!$B$9*Calcoli!$B$10*B161^(Calcoli!$B$13-2))/D161,NA())","v":3.4046046831384685E-4},{"$f":"IF(Calcoli!$B$13>=3,(Calcoli!$B$9*Calcoli!$B$10*Calcoli!$B$11*B161^(Calcoli!$B$13-3))/D161,NA())","v":{"$error":"#N/A"}},{"$f":"IF(Calcoli!$B$13=3,(E161+F161*2+G161*3),IF(Calcoli!$B$13=2,(E161+F161*2),E161))","v":0.97718711567004868},0.97367736695621099,{"$f":"(B161-(Calcoli!$B$8/B161))/'Acido - Base forte'!$F$1","v":1.7782788476975917E-3},{"$f":"(B161-(Calcoli!$B$8/B161))/'Acido - Base forte'!$F$2","v":1.7782788476975917E-3}]
[{"$f":"IF((I162*'Acido - Base forte'!$F$3*'Acido - Base forte'!$F$1)/'Acido - Base forte'!$F$2>0,IF((I162*'Acido - Base forte'!$F$3*'Acido - Base forte'!$F$1)/'Acido - Base forte'!$F$2<1.8*Calcoli!$B$13*('Acido - Base forte'!$F$1*'Acido - Base forte'!$F$3/'Acido - Base forte'!$F$2),I162*'Acido - Base forte'!$F$3*'Acido - Base forte'!$F$1/'Acido - Base forte'!$F$2,NA()),NA())","v":24.414091057204857},{"$f":"10^-C162","v":1.584893192461109E-4},3.8000000000000007,{"$f":"IF(Calcoli!$B$13=3,B162^Calcoli!$B$13+Calcoli!$B$9*B162^2+Calcoli!$B$9*Calcoli!$B$10*B162+Calcoli!$B$9*Calcoli!$B$10*Calcoli!$B$11,IF(Calcoli!$B$13=2,B162^Calcoli!$B$13+Calcoli!$B$9*B162+Calcoli!$B$9*Calcoli!$B$10,B162^Calcoli!$B$13+Calcoli!$B$9))","v":1.2142537586609272E-6},{"$f":"(Calcoli!$B$9*B162^(Calcoli!$B$13-1))/D162","v":0.97893038079346006},{"$f":"IF(Calcoli!$B$13>=2, (Calcoli!$B$9*Calcoli!$B$10*B162^(Calcoli!$B$13-2))/D162,NA())","v":3.8295125436778516E-4},{"$f":"IF(Calcoli!$B$13>=3,(Calcoli!$B$9*Calcoli!$B$10*Calcoli!$B$11*B162^(Calcoli!$B$13-3))/D162,NA())","v":{"$error":"#N/A"}},{"$f":"IF(Calcoli!$B$13=3,(E162+F162*2+G162*3),IF(Calcoli!$B$13=2,(E162+F162*2),E162))","v":0.9796962833021956},{"$f":"(H162-J162)/(1+K162)","v":0.97656364228819426},{"$f":"(B162-(Calcoli!$B$8/B162))/'Acido - Base forte'!$F$1","v":1.5848925615037646E-3},{"$f":"(B162-(Calcoli!$B$8/B162))/'Acido - Base forte'!$F$2","v":1.5848925615037646E-3}]
[{"$f":"IF((I163*'Acido - Base forte'!$F$3*'Acido - Base forte'!$F$1)/'Acido - Base forte'!$F$2>0,IF((I163*'Acido - Base forte'!$F$3*'Acido - Base forte'!$F$1)/'Acido - Base forte'!$F$2<1.8*Calcoli!$B$13*('Acido - Base forte'!$F$1*'Acido - Base forte'!$F$3/'Acido - Base forte'!$F$2),I163*'Acido - Base forte'!$F$3*'Acido - Base forte'!$F$1/'Acido - Base forte'!$F$2,NA()),NA())","v":24.478931928603227},1.4125375446227511E-4,3.8500000000000005,{"$f":"IF(Calcoli!$B$13=3,B163^Calcoli!$B$13+Calcoli!$B$9*B163^2+Calcoli!$B$9*Calcoli!$B$10*B163+Calcoli!$B$9*Calcoli!$B$10*Calcoli!$B$11,IF(Calcoli!$B$13=2,B163^Calcoli!$B$13+Calcoli!$B$9*B163+Calcoli!$B$9*Calcoli!$B$10,B163^Calcoli!$B$13+Calcoli!$B$9))","v":1.0798207816167519E-6},{"$f":"(Calcoli!$B$9*B163^(Calcoli!$B$13-1))/D163","v":0.98109165567352896},{"$f":"IF(Calcoli!$B$13>=2, (Calcoli!$B$9*Calcoli!$B$10*B163^(Calcoli!$B$13-2))/D163,NA())","v":4.3062701507168896E-4},{"$f":"IF(Calcoli!$B$13>=3,(Calcoli!$B$9*Calcoli!$B$10*Calcoli!$B$11*B163^(Calcoli!$B$13-3))/D163,NA())","v":{"$error":"#N/A"}},{"$f":"IF(Calcoli!$B$13=3,(E163+F163*2+G163*3),IF(Calcoli!$B$13=2,(E163+F163*2),E163))","v":0.98195290970367233},0.97915727714412903,{"$f":"(B163-(Calcoli!$B$8/B163))/'Acido - Base forte'!$F$1","v":1.4125368366769665E-3},{"$f":"(B163-(Calcoli!$B$8/B163))/'Acido - Base forte'!$F$2","v":1.4125368366769665E-3}]
[{"$f":"IF((I164*'Acido - Base forte'!$F$3*'Acido - Base forte'!$F$1)/'Acido - Base forte'!$F$2>0,IF((I164*'Acido - Base forte'!$F$3*'Acido - Base forte'!$F$1)/'Acido - Base forte'!$F$2<1.8*Calcoli!$B$13*('Acido - Base forte'!$F$1*'Acido - Base forte'!$F$3/'Acido - Base forte'!$F$2),I164*'Acido - Base forte'!$F$3*'Acido - Base forte'!$F$1/'Acido - Base forte'!$F$2,NA()),NA())","v":24.537225021224369},1.2589254117941647E-4,3.9000000000000004,{"$f":"IF(Calcoli!$B$13=3,B164^Calcoli!$B$13+Calcoli!$B$9*B164^2+Calcoli!$B$9*Calcoli!$B$10*B164+Calcoli!$B$9*Calcoli!$B$10*Calcoli!$B$11,IF(Calcoli!$B$13=2,B164^Calcoli!$B$13+Calcoli!$B$9*B164+Calcoli!$B$9*Calcoli!$B$10,B164^Calcoli!$B$13+Calcoli!$B$9))","v":9.6050799077023451E-7},{"$f":"(Calcoli!$B$9*B164^(Calcoli!$B$13-1))/D164","v":0.98301530848116236},{"$f":"IF(Calcoli!$B$13>=2, (Calcoli!$B$9*Calcoli!$B$10*B164^(Calcoli!$B$13-2))/D164,NA())","v":4.8411882510952873E-4},{"$f":"IF(Calcoli!$B$13>=3,(Calcoli!$B$9*Calcoli!$B$10*Calcoli!$B$11*B164^(Calcoli!$B$13-3))/D164,NA())","v":{"$error":"#N/A"}},{"$f":"IF(Calcoli!$B$13=3,(E164+F164*2+G164*3),IF(Calcoli!$B$13=2,(E164+F164*2),E164))","v":0.98398354613138139},0.98148900084897472,{"$f":"(B164-(Calcoli!$B$8/B164))/'Acido - Base forte'!$F$1","v":1.25892461746593E-3},{"$f":"(B164-(Calcoli!$B$8/B164))/'Acido - Base forte'!$F$2","v":1.25892461746593E-3}]
[{"$f":"IF((I165*'Acido - Base forte'!$F$3*'Acido - Base forte'!$F$1)/'Acido - Base forte'!$F$2>0,IF((I165*'Acido - Base forte'!$F$3*'Acido - Base forte'!$F$1)/'Acido - Base forte'!$F$2<1.8*Calcoli!$B$13*('Acido - Base forte'!$F$1*'Acido - Base forte'!$F$3/'Acido - Base forte'!$F$2),I165*'Acido - Base forte'!$F$3*'Acido - Base forte'!$F$1/'Acido - Base forte'!$F$2,NA()),NA())","v":24.589669992791563},1.1220184543019618E-4,3.95,{"$f":"IF(Calcoli!$B$13=3,B165^Calcoli!$B$13+Calcoli!$B$9*B165^2+Calcoli!$B$9*Calcoli!$B$10*B165+Calcoli!$B$9*Calcoli!$B$10*Calcoli!$B$11,IF(Calcoli!$B$13=2,B165^Calcoli!$B$13+Calcoli!$B$9*B165+Calcoli!$B$9*Calcoli!$B$10,B165^Calcoli!$B$13+Calcoli!$B$9))","v":8.5456809484441289E-7},{"$f":"(Calcoli!$B$9*B165^(Calcoli!$B$13-1))/D165","v":0.98472414989899859},{"$f":"IF(Calcoli!$B$13>=2, (Calcoli!$B$9*Calcoli!$B$10*B165^(Calcoli!$B$13-2))/D165,NA())","v":5.4413451988827213E-4},{"$f":"IF(Calcoli!$B$13>=3,(Calcoli!$B$9*Calcoli!$B$10*Calcoli!$B$11*B165^(Calcoli!$B$13-3))/D165,NA())","v":{"$error":"#N/A"}},{"$f":"IF(Calcoli!$B$13=3,(E165+F165*2+G165*3),IF(Calcoli!$B$13=2,(E165+F165*2),E165))","v":0.98581241893877514},0.98358679971166252,{"$f":"(B165-(Calcoli!$B$8/B165))/'Acido - Base forte'!$F$1","v":1.1220175630510237E-3},{"$f":"(B165-(Calcoli!$B$8/B165))/'Acido - Base forte'!$F$2","v":1.1220175630510237E-3}]
[{"$f":"IF((I166*'Acido - Base forte'!$F$3*'Acido - Base forte'!$F$1)/'Acido - Base forte'!$F$2>0,IF((I166*'Acido - Base forte'!$F$3*'Acido - Base forte'!$F$1)/'Acido - Base forte'!$F$2<1.8*Calcoli!$B$13*('Acido - Base forte'!$F$1*'Acido - Base forte'!$F$3/'Acido - Base forte'!$F$2),I166*'Acido - Base forte'!$F$3*'Acido - Base forte'!$F$1/'Acido - Base forte'!$F$2,NA()),NA())","v":24.636903617967018},1E-4,4,{"$f":"IF(Calcoli!$B$13=3,B166^Calcoli!$B$13+Calcoli!$B$9*B166^2+Calcoli!$B$9*Calcoli!$B$10*B166+Calcoli!$B$9*Calcoli!$B$10*Calcoli!$B$11,IF(Calcoli!$B$13=2,B166^Calcoli!$B$13+Calcoli!$B$9*B166+Calcoli!$B$9*Calcoli!$B$10,B166^Calcoli!$B$13+Calcoli!$B$9))","v":7.6046500000000005E-7},{"$f":"(Calcoli!$B$9*B166^(Calcoli!$B$13-1))/D166","v":0.9862386829111135},{"$f":"IF(Calcoli!$B$13>=2, (Calcoli!$B$9*Calcoli!$B$10*B166^(Calcoli!$B$13-2))/D166,NA())","v":6.1146798340489038E-4},{"$f":"IF(Calcoli!$B$13>=3,(Calcoli!$B$9*Calcoli!$B$10*Calcoli!$B$11*B166^(Calcoli!$B$13-3))/D166,NA())","v":{"$error":"#N/A"}},{"$f":"IF(Calcoli!$B$13=3,(E166+F166*2+G166*3),IF(Calcoli!$B$13=2,(E166+F166*2),E166))","v":0.98746161887792328},0.98547614471868072,{"$f":"(B166-(Calcoli!$B$8/B166))/'Acido - Base forte'!$F$1","v":9.9999900000000011E-4},{"$f":"(B166-(Calcoli!$B$8/B166))/'Acido - Base forte'!$F$2","v":9.9999900000000011E-4}]
[{"$f":"IF((I167*'Acido - Base forte'!$F$3*'Acido - Base forte'!$F$1)/'Acido - Base forte'!$F$2>0,IF((I167*'Acido - Base forte'!$F$3*'Acido - Base forte'!$F$1)/'Acido - Base forte'!$F$2<1.8*Calcoli!$B$13*('Acido - Base forte'!$F$1*'Acido - Base forte'!$F$3/'Acido - Base forte'!$F$2),I167*'Acido - Base forte'!$F$3*'Acido - Base forte'!$F$1/'Acido - Base forte'!$F$2,NA()),NA())","v":24.679505333171818},8.912509381337452E-5,4.05,{"$f":"IF(Calcoli!$B$13=3,B167^Calcoli!$B$13+Calcoli!$B$9*B167^2+Calcoli!$B$9*Calcoli!$B$10*B167+Calcoli!$B$9*Calcoli!$B$10*Calcoli!$B$11,IF(Calcoli!$B$13=2,B167^Calcoli!$B$13+Calcoli!$B$9*B167+Calcoli!$B$9*Calcoli!$B$10,B167^Calcoli!$B$13+Calcoli!$B$9))","v":6.7684648594755171E-7},{"$f":"(Calcoli!$B$9*B167^(Calcoli!$B$13-1))/D167","v":0.98757726822579028},{"$f":"IF(Calcoli!$B$13>=2, (Calcoli!$B$9*Calcoli!$B$10*B167^(Calcoli!$B$13-2))/D167,NA())","v":6.8700955039904343E-4},{"$f":"IF(Calcoli!$B$13>=3,(Calcoli!$B$9*Calcoli!$B$10*Calcoli!$B$11*B167^(Calcoli!$B$13-3))/D167,NA())","v":{"$error":"#N/A"}},{"$f":"IF(Calcoli!$B$13=3,(E167+F167*2+G167*3),IF(Calcoli!$B$13=2,(E167+F167*2),E167))","v":0.98895128732658832},0.98718021332687278,{"$f":"(B167-(Calcoli!$B$8/B167))/'Acido - Base forte'!$F$1","v":8.912498161152909E-4},{"$f":"(B167-(Calcoli!$B$8/B167))/'Acido - Base forte'!$F$2","v":8.912498161152909E-4}]
[{"$f":"IF((I168*'Acido - Base forte'!$F$3*'Acido - Base forte'!$F$1)/'Acido - Base forte'!$F$2>0,IF((I168*'Acido - Base forte'!$F$3*'Acido - Base forte'!$F$1)/'Acido - Base forte'!$F$2<1.8*Calcoli!$B$13*('Acido - Base forte'!$F$1*'Acido - Base forte'!$F$3/'Acido - Base forte'!$F$2),I168*'Acido - Base forte'!$F$3*'Acido - Base forte'!$F$1/'Acido - Base forte'!$F$2,NA()),NA())","v":24.718002580049951},7.9432823472428153E-5,4.0999999999999996,{"$f":"IF(Calcoli!$B$13=3,B168^Calcoli!$B$13+Calcoli!$B$9*B168^2+Calcoli!$B$9*Calcoli!$B$10*B168+Calcoli!$B$9*Calcoli!$B$10*Calcoli!$B$11,IF(Calcoli!$B$13=2,B168^Calcoli!$B$13+Calcoli!$B$9*B168+Calcoli!$B$9*Calcoli!$B$10,B168^Calcoli!$B$13+Calcoli!$B$9))","v":6.025207494880131E-7},{"$f":"(Calcoli!$B$9*B168^(Calcoli!$B$13-1))/D168","v":0.98875628191965403},{"$f":"IF(Calcoli!$B$13>=2, (Calcoli!$B$9*Calcoli!$B$10*B168^(Calcoli!$B$13-2))/D168,NA())","v":7.7175765381545748E-4},{"$f":"IF(Calcoli!$B$13>=3,(Calcoli!$B$9*Calcoli!$B$10*Calcoli!$B$11*B168^(Calcoli!$B$13-3))/D168,NA())","v":{"$error":"#N/A"}},{"$f":"IF(Calcoli!$B$13=3,(E168+F168*2+G168*3),IF(Calcoli!$B$13=2,(E168+F168*2),E168))","v":0.99029979722728489},0.9887201032019981,{"$f":"(B168-(Calcoli!$B$8/B168))/'Acido - Base forte'!$F$1","v":7.943269757988697E-4},{"$f":"(B168-(Calcoli!$B$8/B168))/'Acido - Base forte'!$F$2","v":7.943269757988697E-4}]
[{"$f":"IF((I169*'Acido - Base forte'!$F$3*'Acido - Base forte'!$F$1)/'Acido - Base forte'!$F$2>0,IF((I169*'Acido - Base forte'!$F$3*'Acido - Base forte'!$F$1)/'Acido - Base forte'!$F$2<1.8*Calcoli!$B$13*('Acido - Base forte'!$F$1*'Acido - Base forte'!$F$3/'Acido - Base forte'!$F$2),I169*'Acido - Base forte'!$F$3*'Acido - Base forte'!$F$1/'Acido - Base forte'!$F$2,NA()),NA())","v":24.752875913263328},7.0794578438413826E-5,4.1499999999999995,{"$f":"IF(Calcoli!$B$13=3,B169^Calcoli!$B$13+Calcoli!$B$9*B169^2+Calcoli!$B$9*Calcoli!$B$10*B169+Calcoli!$B$9*Calcoli!$B$10*Calcoli!$B$11,IF(Calcoli!$B$13=2,B169^Calcoli!$B$13+Calcoli!$B$9*B169+Calcoli!$B$9*Calcoli!$B$10,B169^Calcoli!$B$13+Calcoli!$B$9))","v":5.3643621062437649E-7},{"$f":"(Calcoli!$B$9*B169^(Calcoli!$B$13-1))/D169","v":0.98979026354336141},{"$f":"IF(Calcoli!$B$13>=2, (Calcoli!$B$9*Calcoli!$B$10*B169^(Calcoli!$B$13-2))/D169,NA())","v":8.6683186330536966E-4},{"$f":"IF(Calcoli!$B$13>=3,(Calcoli!$B$9*Calcoli!$B$10*Calcoli!$B$11*B169^(Calcoli!$B$13-3))/D169,NA())","v":{"$error":"#N/A"}},{"$f":"IF(Calcoli!$B$13=3,(E169+F169*2+G169*3),IF(Calcoli!$B$13=2,(E169+F169*2),E169))","v":0.99152392726997218},0.99011503653053312,{"$f":"(B169-(Calcoli!$B$8/B169))/'Acido - Base forte'!$F$1","v":7.0794437184659362E-4},{"$f":"(B169-(Calcoli!$B$8/B169))/'Acido - Base forte'!$F$2","v":7.0794437184659362E-4}]
[{"$f":"IF((I170*'Acido - Base forte'!$F$3*'Acido - Base forte'!$F$1)/'Acido - Base forte'!$F$2>0,IF((I170*'Acido - Base forte'!$F$3*'Acido - Base forte'!$F$1)/'Acido - Base forte'!$F$2<1.8*Calcoli!$B$13*('Acido - Base forte'!$F$1*'Acido - Base forte'!$F$3/'Acido - Base forte'!$F$2),I170*'Acido - Base forte'!$F$3*'Acido - Base forte'!$F$1/'Acido - Base forte'!$F$2,NA()),NA())","v":24.784563853858142},6.3095734448019388E-5,4.1999999999999993,{"$f":"IF(Calcoli!$B$13=3,B170^Calcoli!$B$13+Calcoli!$B$9*B170^2+Calcoli!$B$9*Calcoli!$B$10*B170+Calcoli!$B$9*Calcoli!$B$10*Calcoli!$B$11,IF(Calcoli!$B$13=2,B170^Calcoli!$B$13+Calcoli!$B$9*B170+Calcoli!$B$9*Calcoli!$B$10,B170^Calcoli!$B$13+Calcoli!$B$9))","v":4.7766408006568045E-7},{"$f":"(Calcoli!$B$9*B170^(Calcoli!$B$13-1))/D170","v":0.99069205349306633},{"$f":"IF(Calcoli!$B$13>=2, (Calcoli!$B$9*Calcoli!$B$10*B170^(Calcoli!$B$13-2))/D170,NA())","v":9.7348747667201792E-4},{"$f":"IF(Calcoli!$B$13>=3,(Calcoli!$B$9*Calcoli!$B$10*Calcoli!$B$11*B170^(Calcoli!$B$13-3))/D170,NA())","v":{"$error":"#N/A"}},{"$f":"IF(Calcoli!$B$13=3,(E170+F170*2+G170*3),IF(Calcoli!$B$13=2,(E170+F170*2),E170))","v":0.99263902844641039},0.99138255415432563,{"$f":"(B170-(Calcoli!$B$8/B170))/'Acido - Base forte'!$F$1","v":6.3095575958700136E-4},{"$f":"(B170-(Calcoli!$B$8/B170))/'Acido - Base forte'!$F$2","v":6.3095575958700136E-4}]
[{"$f":"IF((I171*'Acido - Base forte'!$F$3*'Acido - Base forte'!$F$1)/'Acido - Base forte'!$F$2>0,IF((I171*'Acido - Base forte'!$F$3*'Acido - Base forte'!$F$1)/'Acido - Base forte'!$F$2<1.8*Calcoli!$B$13*('Acido - Base forte'!$F$1*'Acido - Base forte'!$F$3/'Acido - Base forte'!$F$2),I171*'Acido - Base forte'!$F$3*'Acido - Base forte'!$F$1/'Acido - Base forte'!$F$2,NA()),NA())","v":24.813467481664677},5.6234132519034995E-5,4.2499999999999991,{"$f":"IF(Calcoli!$B$13=3,B171^Calcoli!$B$13+Calcoli!$B$9*B171^2+Calcoli!$B$9*Calcoli!$B$10*B171+Calcoli!$B$9*Calcoli!$B$10*Calcoli!$B$11,IF(Calcoli!$B$13=2,B171^Calcoli!$B$13+Calcoli!$B$9*B171+Calcoli!$B$9*Calcoli!$B$10,B171^Calcoli!$B$13+Calcoli!$B$9))","v":4.253832715529309E-7},{"$f":"(Calcoli!$B$9*B171^(Calcoli!$B$13-1))/D171","v":0.99147291888812061},{"$f":"IF(Calcoli!$B$13>=2, (Calcoli!$B$9*Calcoli!$B$10*B171^(Calcoli!$B$13-2))/D171,NA())","v":1.0931318439073585E-3},{"$f":"IF(Calcoli!$B$13>=3,(Calcoli!$B$9*Calcoli!$B$10*Calcoli!$B$11*B171^(Calcoli!$B$13-3))/D171,NA())","v":{"$error":"#N/A"}},{"$f":"IF(Calcoli!$B$13=3,(E171+F171*2+G171*3),IF(Calcoli!$B$13=2,(E171+F171*2),E171))","v":0.99365918257593533},0.99253869926658711,{"$f":"(B171-(Calcoli!$B$8/B171))/'Acido - Base forte'!$F$1","v":5.6233954691093985E-4},{"$f":"(B171-(Calcoli!$B$8/B171))/'Acido - Base forte'!$F$2","v":5.6233954691093985E-4}]
[{"$f":"IF((I172*'Acido - Base forte'!$F$3*'Acido - Base forte'!$F$1)/'Acido - Base forte'!$F$2>0,IF((I172*'Acido - Base forte'!$F$3*'Acido - Base forte'!$F$1)/'Acido - Base forte'!$F$2<1.8*Calcoli!$B$13*('Acido - Base forte'!$F$1*'Acido - Base forte'!$F$3/'Acido - Base forte'!$F$2),I172*'Acido - Base forte'!$F$3*'Acido - Base forte'!$F$1/'Acido - Base forte'!$F$2,NA()),NA())","v":24.839954769660075},5.0118723362727333E-5,4.2999999999999989,{"$f":"IF(Calcoli!$B$13=3,B172^Calcoli!$B$13+Calcoli!$B$9*B172^2+Calcoli!$B$9*Calcoli!$B$10*B172+Calcoli!$B$9*Calcoli!$B$10*Calcoli!$B$11,IF(Calcoli!$B$13=2,B172^Calcoli!$B$13+Calcoli!$B$9*B172+Calcoli!$B$9*Calcoli!$B$10,B172^Calcoli!$B$13+Calcoli!$B$9))","v":3.7886731165196459E-7},{"$f":"(Calcoli!$B$9*B172^(Calcoli!$B$13-1))/D172","v":0.99214266752513014},{"$f":"IF(Calcoli!$B$13>=2, (Calcoli!$B$9*Calcoli!$B$10*B172^(Calcoli!$B$13-2))/D172,NA())","v":1.2273426228630636E-3},{"$f":"IF(Calcoli!$B$13>=3,(Calcoli!$B$9*Calcoli!$B$10*Calcoli!$B$11*B172^(Calcoli!$B$13-3))/D172,NA())","v":{"$error":"#N/A"}},{"$f":"IF(Calcoli!$B$13=3,(E172+F172*2+G172*3),IF(Calcoli!$B$13=2,(E172+F172*2),E172))","v":0.99459735277085626},0.99359819078640299,{"$f":"(B172-(Calcoli!$B$8/B172))/'Acido - Base forte'!$F$1","v":5.0118523836495833E-4},{"$f":"(B172-(Calcoli!$B$8/B172))/'Acido - Base forte'!$F$2","v":5.0118523836495833E-4}]
[{"$f":"IF((I173*'Acido - Base forte'!$F$3*'Acido - Base forte'!$F$1)/'Acido - Base forte'!$F$2>0,IF((I173*'Acido - Base forte'!$F$3*'Acido - Base forte'!$F$1)/'Acido - Base forte'!$F$2<1.8*Calcoli!$B$13*('Acido - Base forte'!$F$1*'Acido - Base forte'!$F$3/'Acido - Base forte'!$F$2),I173*'Acido - Base forte'!$F$3*'Acido - Base forte'!$F$1/'Acido - Base forte'!$F$2,NA()),NA())","v":24.864364670446299},4.4668359215096423E-5,4.3499999999999988,{"$f":"IF(Calcoli!$B$13=3,B173^Calcoli!$B$13+Calcoli!$B$9*B173^2+Calcoli!$B$9*Calcoli!$B$10*B173+Calcoli!$B$9*Calcoli!$B$10*Calcoli!$B$11,IF(Calcoli!$B$13=2,B173^Calcoli!$B$13+Calcoli!$B$9*B173+Calcoli!$B$9*Calcoli!$B$10,B173^Calcoli!$B$13+Calcoli!$B$9))","v":3.3747295642819209E-7},{"$f":"(Calcoli!$B$9*B173^(Calcoli!$B$13-1))/D173","v":0.99270974972036785},{"$f":"IF(Calcoli!$B$13>=2, (Calcoli!$B$9*Calcoli!$B$10*B173^(Calcoli!$B$13-2))/D173,NA())","v":1.377888186720358E-3},{"$f":"IF(Calcoli!$B$13>=3,(Calcoli!$B$9*Calcoli!$B$10*Calcoli!$B$11*B173^(Calcoli!$B$13-3))/D173,NA())","v":{"$error":"#N/A"}},{"$f":"IF(Calcoli!$B$13=3,(E173+F173*2+G173*3),IF(Calcoli!$B$13=2,(E173+F173*2),E173))","v":0.99546552609380856},0.99457458681785194,{"$f":"(B173-(Calcoli!$B$8/B173))/'Acido - Base forte'!$F$1","v":4.4668135342982565E-4},{"$f":"(B173-(Calcoli!$B$8/B173))/'Acido - Base forte'!$F$2","v":4.4668135342982565E-4}]
[{"$f":"IF((I174*'Acido - Base forte'!$F$3*'Acido - Base forte'!$F$1)/'Acido - Base forte'!$F$2>0,IF((I174*'Acido - Base forte'!$F$3*'Acido - Base forte'!$F$1)/'Acido - Base forte'!$F$2<1.8*Calcoli!$B$13*('Acido - Base forte'!$F$1*'Acido - Base forte'!$F$3/'Acido - Base forte'!$F$2),I174*'Acido - Base forte'!$F$3*'Acido - Base forte'!$F$1/'Acido - Base forte'!$F$2,NA()),NA())","v":24.887010970414369},3.9810717055349837E-5,4.3999999999999986,{"$f":"IF(Calcoli!$B$13=3,B174^Calcoli!$B$13+Calcoli!$B$9*B174^2+Calcoli!$B$9*Calcoli!$B$10*B174+Calcoli!$B$9*Calcoli!$B$10*Calcoli!$B$11,IF(Calcoli!$B$13=2,B174^Calcoli!$B$13+Calcoli!$B$9*B174+Calcoli!$B$9*Calcoli!$B$10,B174^Calcoli!$B$13+Calcoli!$B$9))","v":3.0063027110758493E-7},{"$f":"(Calcoli!$B$9*B174^(Calcoli!$B$13-1))/D174","v":0.99318134802290892},{"$f":"IF(Calcoli!$B$13>=2, (Calcoli!$B$9*Calcoli!$B$10*B174^(Calcoli!$B$13-2))/D174,NA())","v":1.546750426318822E-3},{"$f":"IF(Calcoli!$B$13>=3,(Calcoli!$B$9*Calcoli!$B$10*Calcoli!$B$11*B174^(Calcoli!$B$13-3))/D174,NA())","v":{"$error":"#N/A"}},{"$f":"IF(Calcoli!$B$13=3,(E174+F174*2+G174*3),IF(Calcoli!$B$13=2,(E174+F174*2),E174))","v":0.99627484887554651},0.99548043881657478,{"$f":"(B174-(Calcoli!$B$8/B174))/'Acido - Base forte'!$F$1","v":3.9810465866706689E-4},{"$f":"(B174-(Calcoli!$B$8/B174))/'Acido - Base forte'!$F$2","v":3.9810465866706689E-4}]
[{"$f":"IF((I175*'Acido - Base forte'!$F$3*'Acido - Base forte'!$F$1)/'Acido - Base forte'!$F$2>0,IF((I175*'Acido - Base forte'!$F$3*'Acido - Base forte'!$F$1)/'Acido - Base forte'!$F$2<1.8*Calcoli!$B$13*('Acido - Base forte'!$F$1*'Acido - Base forte'!$F$3/'Acido - Base forte'!$F$2),I175*'Acido - Base forte'!$F$3*'Acido - Base forte'!$F$1/'Acido - Base forte'!$F$2,NA()),NA())","v":24.90818593115371},3.5481338923357669E-5,4.4499999999999984,{"$f":"IF(Calcoli!$B$13=3,B175^Calcoli!$B$13+Calcoli!$B$9*B175^2+Calcoli!$B$9*Calcoli!$B$10*B175+Calcoli!$B$9*Calcoli!$B$10*Calcoli!$B$11,IF(Calcoli!$B$13=2,B175^Calcoli!$B$13+Calcoli!$B$9*B175+Calcoli!$B$9*Calcoli!$B$10,B175^Calcoli!$B$13+Calcoli!$B$9))","v":2.6783396733697673E-7},{"$f":"(Calcoli!$B$9*B175^(Calcoli!$B$13-1))/D175","v":0.99356345489358622},{"$f":"IF(Calcoli!$B$13>=2, (Calcoli!$B$9*Calcoli!$B$10*B175^(Calcoli!$B$13-2))/D175,NA())","v":1.7361502150881325E-3},{"$f":"IF(Calcoli!$B$13>=3,(Calcoli!$B$9*Calcoli!$B$10*Calcoli!$B$11*B175^(Calcoli!$B$13-3))/D175,NA())","v":{"$error":"#N/A"}},{"$f":"IF(Calcoli!$B$13=3,(E175+F175*2+G175*3),IF(Calcoli!$B$13=2,(E175+F175*2),E175))","v":0.99703575532376243},0.99632743724614836,{"$f":"(B175-(Calcoli!$B$8/B175))/'Acido - Base forte'!$F$1","v":3.548105708506454E-4},{"$f":"(B175-(Calcoli!$B$8/B175))/'Acido - Base forte'!$F$2","v":3.548105708506454E-4}]
[{"$f":"IF((I176*'Acido - Base forte'!$F$3*'Acido - Base forte'!$F$1)/'Acido - Base forte'!$F$2>0,IF((I176*'Acido - Base forte'!$F$3*'Acido - Base forte'!$F$1)/'Acido - Base forte'!$F$2<1.8*Calcoli!$B$13*('Acido - Base forte'!$F$1*'Acido - Base forte'!$F$3/'Acido - Base forte'!$F$2),I176*'Acido - Base forte'!$F$3*'Acido - Base forte'!$F$1/'Acido - Base forte'!$F$2,NA()),NA())","v":24.928163740535869},3.1622776601683917E-5,4.4999999999999982,{"$f":"IF(Calcoli!$B$13=3,B176^Calcoli!$B$13+Calcoli!$B$9*B176^2+Calcoli!$B$9*Calcoli!$B$10*B176+Calcoli!$B$9*Calcoli!$B$10*Calcoli!$B$11,IF(Calcoli!$B$13=2,B176^Calcoli!$B$13+Calcoli!$B$9*B176+Calcoli!$B$9*Calcoli!$B$10,B176^Calcoli!$B$13+Calcoli!$B$9))","v":2.3863582451262939E-7},{"$f":"(Calcoli!$B$9*B176^(Calcoli!$B$13-1))/D176","v":0.99386093851167556},{"$f":"IF(Calcoli!$B$13>=2, (Calcoli!$B$9*Calcoli!$B$10*B176^(Calcoli!$B$13-2))/D176,NA())","v":1.9485758307650522E-3},{"$f":"IF(Calcoli!$B$13>=3,(Calcoli!$B$9*Calcoli!$B$10*Calcoli!$B$11*B176^(Calcoli!$B$13-3))/D176,NA())","v":{"$error":"#N/A"}},{"$f":"IF(Calcoli!$B$13=3,(E176+F176*2+G176*3),IF(Calcoli!$B$13=2,(E176+F176*2),E176))","v":0.99775809017320571},0.99712654962143477,{"$f":"(B176-(Calcoli!$B$8/B176))/'Acido - Base forte'!$F$1","v":3.1622460373917897E-4},{"$f":"(B176-(Calcoli!$B$8/B176))/'Acido - Base forte'!$F$2","v":3.1622460373917897E-4}]
[{"$f":"IF((I177*'Acido - Base forte'!$F$3*'Acido - Base forte'!$F$1)/'Acido - Base forte'!$F$2>0,IF((I177*'Acido - Base forte'!$F$3*'Acido - Base forte'!$F$1)/'Acido - Base forte'!$F$2<1.8*Calcoli!$B$13*('Acido - Base forte'!$F$1*'Acido - Base forte'!$F$3/'Acido - Base forte'!$F$2),I177*'Acido - Base forte'!$F$3*'Acido - Base forte'!$F$1/'Acido - Base forte'!$F$2,NA()),NA())","v":24.947203797910113},2.8183829312644661E-5,4.549999999999998,{"$f":"IF(Calcoli!$B$13=3,B177^Calcoli!$B$13+Calcoli!$B$9*B177^2+Calcoli!$B$9*Calcoli!$B$10*B177+Calcoli!$B$9*Calcoli!$B$10*Calcoli!$B$11,IF(Calcoli!$B$13=2,B177^Calcoli!$B$13+Calcoli!$B$9*B177+Calcoli!$B$9*Calcoli!$B$10,B177^Calcoli!$B$13+Calcoli!$B$9))","v":2.1263804807955923E-7},{"$f":"(Calcoli!$B$9*B177^(Calcoli!$B$13-1))/D177","v":0.99407759690188136},{"$f":"IF(Calcoli!$B$13>=2, (Calcoli!$B$9*Calcoli!$B$10*B177^(Calcoli!$B$13-2))/D177,NA())","v":2.1868146561711227E-3},{"$f":"IF(Calcoli!$B$13>=3,(Calcoli!$B$9*Calcoli!$B$10*Calcoli!$B$11*B177^(Calcoli!$B$13-3))/D177,NA())","v":{"$error":"#N/A"}},{"$f":"IF(Calcoli!$B$13=3,(E177+F177*2+G177*3),IF(Calcoli!$B$13=2,(E177+F177*2),E177))","v":0.99845122621422355},0.99788815191640445,{"$f":"(B177-(Calcoli!$B$8/B177))/'Acido - Base forte'!$F$1","v":2.8183474499255426E-4},{"$f":"(B177-(Calcoli!$B$8/B177))/'Acido - Base forte'!$F$2","v":2.8183474499255426E-4}]
[{"$f":"IF((I178*'Acido - Base forte'!$F$3*'Acido - Base forte'!$F$1)/'Acido - Base forte'!$F$2>0,IF((I178*'Acido - Base forte'!$F$3*'Acido - Base forte'!$F$1)/'Acido - Base forte'!$F$2<1.8*Calcoli!$B$13*('Acido - Base forte'!$F$1*'Acido - Base forte'!$F$3/'Acido - Base forte'!$F$2),I178*'Acido - Base forte'!$F$3*'Acido - Base forte'!$F$1/'Acido - Base forte'!$F$2,NA()),NA())","v":24.96555385920324},2.5118864315095879E-5,4.5999999999999979,{"$f":"IF(Calcoli!$B$13=3,B178^Calcoli!$B$13+Calcoli!$B$9*B178^2+Calcoli!$B$9*Calcoli!$B$10*B178+Calcoli!$B$9*Calcoli!$B$10*Calcoli!$B$11,IF(Calcoli!$B$13=2,B178^Calcoli!$B$13+Calcoli!$B$9*B178+Calcoli!$B$9*Calcoli!$B$10,B178^Calcoli!$B$13+Calcoli!$B$9))","v":1.894874397076993E-7},{"$f":"(Calcoli!$B$9*B178^(Calcoli!$B$13-1))/D178","v":0.99421620057682547},{"$f":"IF(Calcoli!$B$13>=2, (Calcoli!$B$9*Calcoli!$B$10*B178^(Calcoli!$B$13-2))/D178,NA())","v":2.4539885108865399E-3},{"$f":"IF(Calcoli!$B$13>=3,(Calcoli!$B$9*Calcoli!$B$10*Calcoli!$B$11*B178^(Calcoli!$B$13-3))/D178,NA())","v":{"$error":"#N/A"}},{"$f":"IF(Calcoli!$B$13=3,(E178+F178*2+G178*3),IF(Calcoli!$B$13=2,(E178+F178*2),E178))","v":0.99912417759859851},0.99862215436812951,{"$f":"(B178-(Calcoli!$B$8/B178))/'Acido - Base forte'!$F$1","v":2.5118466207925324E-4},{"$f":"(B178-(Calcoli!$B$8/B178))/'Acido - Base forte'!$F$2","v":2.5118466207925324E-4}]
[{"$f":"IF((I179*'Acido - Base forte'!$F$3*'Acido - Base forte'!$F$1)/'Acido - Base forte'!$F$2>0,IF((I179*'Acido - Base forte'!$F$3*'Acido - Base forte'!$F$1)/'Acido - Base forte'!$F$2<1.8*Calcoli!$B$13*('Acido - Base forte'!$F$1*'Acido - Base forte'!$F$3/'Acido - Base forte'!$F$2),I179*'Acido - Base forte'!$F$3*'Acido - Base forte'!$F$1/'Acido - Base forte'!$F$2,NA()),NA())","v":24.983453068580459},2.2387211385683474E-5,4.6499999999999977,{"$f":"IF(Calcoli!$B$13=3,B179^Calcoli!$B$13+Calcoli!$B$9*B179^2+Calcoli!$B$9*Calcoli!$B$10*B179+Calcoli!$B$9*Calcoli!$B$10*Calcoli!$B$11,IF(Calcoli!$B$13=2,B179^Calcoli!$B$13+Calcoli!$B$9*B179+Calcoli!$B$9*Calcoli!$B$10,B179^Calcoli!$B$13+Calcoli!$B$9))","v":1.6887027262625332E-7},{"$f":"(Calcoli!$B$9*B179^(Calcoli!$B$13-1))/D179","v":0.99427852387160132},{"$f":"IF(Calcoli!$B$13>=2, (Calcoli!$B$9*Calcoli!$B$10*B179^(Calcoli!$B$13-2))/D179,NA())","v":2.7535929963774398E-3},{"$f":"IF(Calcoli!$B$13>=3,(Calcoli!$B$9*Calcoli!$B$10*Calcoli!$B$11*B179^(Calcoli!$B$13-3))/D179,NA())","v":{"$error":"#N/A"}},{"$f":"IF(Calcoli!$B$13=3,(E179+F179*2+G179*3),IF(Calcoli!$B$13=2,(E179+F179*2),E179))","v":0.99978570986435622},0.99933812274321843,{"$f":"(B179-(Calcoli!$B$8/B179))/'Acido - Base forte'!$F$1","v":2.2386764702091324E-4},{"$f":"(B179-(Calcoli!$B$8/B179))/'Acido - Base forte'!$F$2","v":2.2386764702091324E-4}]
[{"$f":"IF((I180*'Acido - Base forte'!$F$3*'Acido - Base forte'!$F$1)/'Acido - Base forte'!$F$2>0,IF((I180*'Acido - Base forte'!$F$3*'Acido - Base forte'!$F$1)/'Acido - Base forte'!$F$2<1.8*Calcoli!$B$13*('Acido - Base forte'!$F$1*'Acido - Base forte'!$F$3/'Acido - Base forte'!$F$2),I180*'Acido - Base forte'!$F$3*'Acido - Base forte'!$F$1/'Acido - Base forte'!$F$2,NA()),NA())","v":25.001134903825768},1.9952623149688878E-5,4.6999999999999975,{"$f":"IF(Calcoli!$B$13=3,B180^Calcoli!$B$13+Calcoli!$B$9*B180^2+Calcoli!$B$9*Calcoli!$B$10*B180+Calcoli!$B$9*Calcoli!$B$10*Calcoli!$B$11,IF(Calcoli!$B$13=2,B180^Calcoli!$B$13+Calcoli!$B$9*B180+Calcoli!$B$9*Calcoli!$B$10,B180^Calcoli!$B$13+Calcoli!$B$9))","v":1.5050778079322005E-7},{"$f":"(Calcoli!$B$9*B180^(Calcoli!$B$13-1))/D180","v":0.99426536511265617},{"$f":"IF(Calcoli!$B$13>=2, (Calcoli!$B$9*Calcoli!$B$10*B180^(Calcoli!$B$13-2))/D180,NA())","v":3.0895412685597642E-3},{"$f":"IF(Calcoli!$B$13>=3,(Calcoli!$B$9*Calcoli!$B$10*Calcoli!$B$11*B180^(Calcoli!$B$13-3))/D180,NA())","v":{"$error":"#N/A"}},{"$f":"IF(Calcoli!$B$13=3,(E180+F180*2+G180*3),IF(Calcoli!$B$13=2,(E180+F180*2),E180))","v":1.0004444476497758},1.0000453961530307,{"$f":"(B180-(Calcoli!$B$8/B180))/'Acido - Base forte'!$F$1","v":1.9952121962455249E-4},{"$f":"(B180-(Calcoli!$B$8/B180))/'Acido - Base forte'!$F$2","v":1.9952121962455249E-4}]
[{"$f":"IF((I181*'Acido - Base forte'!$F$3*'Acido - Base forte'!$F$1)/'Acido - Base forte'!$F$2>0,IF((I181*'Acido - Base forte'!$F$3*'Acido - Base forte'!$F$1)/'Acido - Base forte'!$F$2<1.8*Calcoli!$B$13*('Acido - Base forte'!$F$1*'Acido - Base forte'!$F$3/'Acido - Base forte'!$F$2),I181*'Acido - Base forte'!$F$3*'Acido - Base forte'!$F$1/'Acido - Base forte'!$F$2,NA()),NA())","v":25.018830062830595},1.7782794100389307E-5,4.7499999999999973,{"$f":"IF(Calcoli!$B$13=3,B181^Calcoli!$B$13+Calcoli!$B$9*B181^2+Calcoli!$B$9*Calcoli!$B$10*B181+Calcoli!$B$9*Calcoli!$B$10*Calcoli!$B$11,IF(Calcoli!$B$13=2,B181^Calcoli!$B$13+Calcoli!$B$9*B181+Calcoli!$B$9*Calcoli!$B$10,B181^Calcoli!$B$13+Calcoli!$B$9))","v":1.3415218351893661E-7},{"$f":"(Calcoli!$B$9*B181^(Calcoli!$B$13-1))/D181","v":0.99417655571810692},{"$f":"IF(Calcoli!$B$13>=2, (Calcoli!$B$9*Calcoli!$B$10*B181^(Calcoli!$B$13-2))/D181,NA())","v":3.4662126832573073E-3},{"$f":"IF(Calcoli!$B$13>=3,(Calcoli!$B$9*Calcoli!$B$10*Calcoli!$B$11*B181^(Calcoli!$B$13-3))/D181,NA())","v":{"$error":"#N/A"}},{"$f":"IF(Calcoli!$B$13=3,(E181+F181*2+G181*3),IF(Calcoli!$B$13=2,(E181+F181*2),E181))","v":1.0011089810846214},1.0007532025132237,{"$f":"(B181-(Calcoli!$B$8/B181))/'Acido - Base forte'!$F$1","v":1.7782231759064116E-4},{"$f":"(B181-(Calcoli!$B$8/B181))/'Acido - Base forte'!$F$2","v":1.7782231759064116E-4}]
[{"$f":"IF((I182*'Acido - Base forte'!$F$3*'Acido - Base forte'!$F$1)/'Acido - Base forte'!$F$2>0,IF((I182*'Acido - Base forte'!$F$3*'Acido - Base forte'!$F$1)/'Acido - Base forte'!$F$2<1.8*Calcoli!$B$13*('Acido - Base forte'!$F$1*'Acido - Base forte'!$F$3/'Acido - Base forte'!$F$2),I182*'Acido - Base forte'!$F$3*'Acido - Base forte'!$F$1/'Acido - Base forte'!$F$2,NA()),NA())","v":25.036769318603049},1.5848931924611216E-5,4.7999999999999972,{"$f":"IF(Calcoli!$B$13=3,B182^Calcoli!$B$13+Calcoli!$B$9*B182^2+Calcoli!$B$9*Calcoli!$B$10*B182+Calcoli!$B$9*Calcoli!$B$10*Calcoli!$B$11,IF(Calcoli!$B$13=2,B182^Calcoli!$B$13+Calcoli!$B$9*B182+Calcoli!$B$9*Calcoli!$B$10,B182^Calcoli!$B$13+Calcoli!$B$9))","v":1.1958317807773508E-7},{"$f":"(Calcoli!$B$9*B182^(Calcoli!$B$13-1))/D182","v":0.99401095827470476},{"$f":"IF(Calcoli!$B$13>=2, (Calcoli!$B$9*Calcoli!$B$10*B182^(Calcoli!$B$13-2))/D182,NA())","v":3.8885067906267437E-3},{"$f":"IF(Calcoli!$B$13>=3,(Calcoli!$B$9*Calcoli!$B$10*Calcoli!$B$11*B182^(Calcoli!$B$13-3))/D182,NA())","v":{"$error":"#N/A"}},{"$f":"IF(Calcoli!$B$13=3,(E182+F182*2+G182*3),IF(Calcoli!$B$13=2,(E182+F182*2),E182))","v":1.0017879718559581},1.0014707727441219,{"$f":"(B182-(Calcoli!$B$8/B182))/'Acido - Base forte'!$F$1","v":1.5848300967266735E-4},{"$f":"(B182-(Calcoli!$B$8/B182))/'Acido - Base forte'!$F$2","v":1.5848300967266735E-4}]
[{"$f":"IF((I183*'Acido - Base forte'!$F$3*'Acido - Base forte'!$F$1)/'Acido - Base forte'!$F$2>0,IF((I183*'Acido - Base forte'!$F$3*'Acido - Base forte'!$F$1)/'Acido - Base forte'!$F$2<1.8*Calcoli!$B$13*('Acido - Base forte'!$F$1*'Acido - Base forte'!$F$3/'Acido - Base forte'!$F$2),I183*'Acido - Base forte'!$F$3*'Acido - Base forte'!$F$1/'Acido - Base forte'!$F$2,NA()),NA())","v":25.055186370061531},1.4125375446227621E-5,4.849999999999997,{"$f":"IF(Calcoli!$B$13=3,B183^Calcoli!$B$13+Calcoli!$B$9*B183^2+Calcoli!$B$9*Calcoli!$B$10*B183+Calcoli!$B$9*Calcoli!$B$10*Calcoli!$B$11,IF(Calcoli!$B$13=2,B183^Calcoli!$B$13+Calcoli!$B$9*B183+Calcoli!$B$9*Calcoli!$B$10,B183^Calcoli!$B$13+Calcoli!$B$9))","v":1.0660484207820404E-7},{"$f":"(Calcoli!$B$9*B183^(Calcoli!$B$13-1))/D183","v":0.99376645358182325},{"$f":"IF(Calcoli!$B$13>=2, (Calcoli!$B$9*Calcoli!$B$10*B183^(Calcoli!$B$13-2))/D183,NA())","v":4.3619031831488627E-3},{"$f":"IF(Calcoli!$B$13>=3,(Calcoli!$B$9*Calcoli!$B$10*Calcoli!$B$11*B183^(Calcoli!$B$13-3))/D183,NA())","v":{"$error":"#N/A"}},{"$f":"IF(Calcoli!$B$13=3,(E183+F183*2+G183*3),IF(Calcoli!$B$13=2,(E183+F183*2),E183))","v":1.0024902599481209},1.0022074548024611,{"$f":"(B183-(Calcoli!$B$8/B183))/'Acido - Base forte'!$F$1","v":1.4124667500443235E-4},{"$f":"(B183-(Calcoli!$B$8/B183))/'Acido - Base forte'!$F$2","v":1.4124667500443235E-4}]
[{"$f":"IF((I184*'Acido - Base forte'!$F$3*'Acido - Base forte'!$F$1)/'Acido - Base forte'!$F$2>0,IF((I184*'Acido - Base forte'!$F$3*'Acido - Base forte'!$F$1)/'Acido - Base forte'!$F$2<1.8*Calcoli!$B$13*('Acido - Base forte'!$F$1*'Acido - Base forte'!$F$3/'Acido - Base forte'!$F$2),I184*'Acido - Base forte'!$F$3*'Acido - Base forte'!$F$1/'Acido - Base forte'!$F$2,NA()),NA())","v":25.0743207155666},1.2589254117941746E-5,4.8999999999999968,{"$f":"IF(Calcoli!$B$13=3,B184^Calcoli!$B$13+Calcoli!$B$9*B184^2+Calcoli!$B$9*Calcoli!$B$10*B184+Calcoli!$B$9*Calcoli!$B$10*Calcoli!$B$11,IF(Calcoli!$B$13=2,B184^Calcoli!$B$13+Calcoli!$B$9*B184+Calcoli!$B$9*Calcoli!$B$10,B184^Calcoli!$B$13+Calcoli!$B$9))","v":9.5042895203809206E-8},{"$f":"(Calcoli!$B$9*B184^(Calcoli!$B$13-1))/D184","v":0.99343991659861464},{"$f":"IF(Calcoli!$B$13>=2, (Calcoli!$B$9*Calcoli!$B$10*B184^(Calcoli!$B$13-2))/D184,NA())","v":4.8925277265897448E-3},{"$f":"IF(Calcoli!$B$13>=3,(Calcoli!$B$9*Calcoli!$B$10*Calcoli!$B$11*B184^(Calcoli!$B$13-3))/D184,NA())","v":{"$error":"#N/A"}},{"$f":"IF(Calcoli!$B$13=3,(E184+F184*2+G184*3),IF(Calcoli!$B$13=2,(E184+F184*2),E184))","v":1.0032249720517941},1.002972828622664,{"$f":"(B184-(Calcoli!$B$8/B184))/'Acido - Base forte'!$F$1","v":1.2588459789707022E-4},{"$f":"(B184-(Calcoli!$B$8/B184))/'Acido - Base forte'!$F$2","v":1.2588459789707022E-4}]
[{"$f":"IF((I185*'Acido - Base forte'!$F$3*'Acido - Base forte'!$F$1)/'Acido - Base forte'!$F$2>0,IF((I185*'Acido - Base forte'!$F$3*'Acido - Base forte'!$F$1)/'Acido - Base forte'!$F$2<1.8*Calcoli!$B$13*('Acido - Base forte'!$F$1*'Acido - Base forte'!$F$3/'Acido - Base forte'!$F$2),I185*'Acido - Base forte'!$F$3*'Acido - Base forte'!$F$1/'Acido - Base forte'!$F$2,NA()),NA())","v":25.094420575659395},1.1220184543019706E-5,4.9499999999999966,{"$f":"IF(Calcoli!$B$13=3,B185^Calcoli!$B$13+Calcoli!$B$9*B185^2+Calcoli!$B$9*Calcoli!$B$10*B185+Calcoli!$B$9*Calcoli!$B$10*Calcoli!$B$11,IF(Calcoli!$B$13=2,B185^Calcoli!$B$13+Calcoli!$B$9*B185+Calcoli!$B$9*Calcoli!$B$10,B185^Calcoli!$B$13+Calcoli!$B$9))","v":8.4742276613827215E-8},{"$f":"(Calcoli!$B$9*B185^(Calcoli!$B$13-1))/D185","v":0.99302718118050881},{"$f":"IF(Calcoli!$B$13>=2, (Calcoli!$B$9*Calcoli!$B$10*B185^(Calcoli!$B$13-2))/D185,NA())","v":5.4872257222804768E-3},{"$f":"IF(Calcoli!$B$13>=3,(Calcoli!$B$9*Calcoli!$B$10*Calcoli!$B$11*B185^(Calcoli!$B$13-3))/D185,NA())","v":{"$error":"#N/A"}},{"$f":"IF(Calcoli!$B$13=3,(E185+F185*2+G185*3),IF(Calcoli!$B$13=2,(E185+F185*2),E185))","v":1.0040016326250698},1.0037768230263757,{"$f":"(B185-(Calcoli!$B$8/B185))/'Acido - Base forte'!$F$1","v":1.1219293292081571E-4},{"$f":"(B185-(Calcoli!$B$8/B185))/'Acido - Base forte'!$F$2","v":1.1219293292081571E-4}]
[{"$f":"IF((I186*'Acido - Base forte'!$F$3*'Acido - Base forte'!$F$1)/'Acido - Base forte'!$F$2>0,IF((I186*'Acido - Base forte'!$F$3*'Acido - Base forte'!$F$1)/'Acido - Base forte'!$F$2<1.8*Calcoli!$B$13*('Acido - Base forte'!$F$1*'Acido - Base forte'!$F$3/'Acido - Base forte'!$F$2),I186*'Acido - Base forte'!$F$3*'Acido - Base forte'!$F$1/'Acido - Base forte'!$F$2,NA()),NA())","v":25.115745890771379},1.0000000000000069E-5,4.9999999999999964,{"$f":"IF(Calcoli!$B$13=3,B186^Calcoli!$B$13+Calcoli!$B$9*B186^2+Calcoli!$B$9*Calcoli!$B$10*B186+Calcoli!$B$9*Calcoli!$B$10*Calcoli!$B$11,IF(Calcoli!$B$13=2,B186^Calcoli!$B$13+Calcoli!$B$9*B186+Calcoli!$B$9*Calcoli!$B$10,B186^Calcoli!$B$13+Calcoli!$B$9))","v":7.5565000000000518E-8},{"$f":"(Calcoli!$B$9*B186^(Calcoli!$B$13-1))/D186","v":0.99252299344934825},{"$f":"IF(Calcoli!$B$13>=2, (Calcoli!$B$9*Calcoli!$B$10*B186^(Calcoli!$B$13-2))/D186,NA())","v":6.1536425593859169E-3},{"$f":"IF(Calcoli!$B$13>=3,(Calcoli!$B$9*Calcoli!$B$10*Calcoli!$B$11*B186^(Calcoli!$B$13-3))/D186,NA())","v":{"$error":"#N/A"}},{"$f":"IF(Calcoli!$B$13=3,(E186+F186*2+G186*3),IF(Calcoli!$B$13=2,(E186+F186*2),E186))","v":1.00483027856812},1.0046298356308552,{"$f":"(B186-(Calcoli!$B$8/B186))/'Acido - Base forte'!$F$1","v":9.9990000000000674E-5},{"$f":"(B186-(Calcoli!$B$8/B186))/'Acido - Base forte'!$F$2","v":9.9990000000000674E-5}]
[{"$f":"IF((I187*'Acido - Base forte'!$F$3*'Acido - Base forte'!$F$1)/'Acido - Base forte'!$F$2>0,IF((I187*'Acido - Base forte'!$F$3*'Acido - Base forte'!$F$1)/'Acido - Base forte'!$F$2<1.8*Calcoli!$B$13*('Acido - Base forte'!$F$1*'Acido - Base forte'!$F$3/'Acido - Base forte'!$F$2),I187*'Acido - Base forte'!$F$3*'Acido - Base forte'!$F$1/'Acido - Base forte'!$F$2,NA()),NA())","v":25.138571418683998},8.9125093813375204E-6,5.0499999999999963,{"$f":"IF(Calcoli!$B$13=3,B187^Calcoli!$B$13+Calcoli!$B$9*B187^2+Calcoli!$B$9*Calcoli!$B$10*B187+Calcoli!$B$9*Calcoli!$B$10*Calcoli!$B$11,IF(Calcoli!$B$13=2,B187^Calcoli!$B$13+Calcoli!$B$9*B187+Calcoli!$B$9*Calcoli!$B$10,B187^Calcoli!$B$13+Calcoli!$B$9))","v":6.7388253183503824E-8},{"$f":"(Calcoli!$B$9*B187^(Calcoli!$B$13-1))/D187","v":0.99192095361205035},{"$f":"IF(Calcoli!$B$13>=2, (Calcoli!$B$9*Calcoli!$B$10*B187^(Calcoli!$B$13-2))/D187,NA())","v":6.9003124140013883E-3},{"$f":"IF(Calcoli!$B$13>=3,(Calcoli!$B$9*Calcoli!$B$10*Calcoli!$B$11*B187^(Calcoli!$B$13-3))/D187,NA())","v":{"$error":"#N/A"}},{"$f":"IF(Calcoli!$B$13=3,(E187+F187*2+G187*3),IF(Calcoli!$B$13=2,(E187+F187*2),E187))","v":1.0057215784400531},1.0055428567473599,{"$f":"(B187-(Calcoli!$B$8/B187))/'Acido - Base forte'!$F$1","v":8.9113873628832171E-5},{"$f":"(B187-(Calcoli!$B$8/B187))/'Acido - Base forte'!$F$2","v":8.9113873628832171E-5}]
[{"$f":"IF((I188*'Acido - Base forte'!$F$3*'Acido - Base forte'!$F$1)/'Acido - Base forte'!$F$2>0,IF((I188*'Acido - Base forte'!$F$3*'Acido - Base forte'!$F$1)/'Acido - Base forte'!$F$2<1.8*Calcoli!$B$13*('Acido - Base forte'!$F$1*'Acido - Base forte'!$F$3/'Acido - Base forte'!$F$2),I188*'Acido - Base forte'!$F$3*'Acido - Base forte'!$F$1/'Acido - Base forte'!$F$2,NA()),NA())","v":25.163189955147242},7.9432823472428776E-6,5.0999999999999961,{"$f":"IF(Calcoli!$B$13=3,B188^Calcoli!$B$13+Calcoli!$B$9*B188^2+Calcoli!$B$9*Calcoli!$B$10*B188+Calcoli!$B$9*Calcoli!$B$10*Calcoli!$B$11,IF(Calcoli!$B$13=2,B188^Calcoli!$B$13+Calcoli!$B$9*B188+Calcoli!$B$9*Calcoli!$B$10,B188^Calcoli!$B$13+Calcoli!$B$9))","v":6.0102713338769593E-8},{"$f":"(Calcoli!$B$9*B188^(Calcoli!$B$13-1))/D188","v":0.9912134460307741},{"$f":"IF(Calcoli!$B$13>=2, (Calcoli!$B$9*Calcoli!$B$10*B188^(Calcoli!$B$13-2))/D188,NA())","v":7.7367555334652274E-3},{"$f":"IF(Calcoli!$B$13>=3,(Calcoli!$B$9*Calcoli!$B$10*Calcoli!$B$11*B188^(Calcoli!$B$13-3))/D188,NA())","v":{"$error":"#N/A"}},{"$f":"IF(Calcoli!$B$13=3,(E188+F188*2+G188*3),IF(Calcoli!$B$13=2,(E188+F188*2),E188))","v":1.0066869570977046},1.0065275982058897,{"$f":"(B188-(Calcoli!$B$8/B188))/'Acido - Base forte'!$F$1","v":7.9420234218310838E-5},{"$f":"(B188-(Calcoli!$B$8/B188))/'Acido - Base forte'!$F$2","v":7.9420234218310838E-5}]
[{"$f":"IF((I189*'Acido - Base forte'!$F$3*'Acido - Base forte'!$F$1)/'Acido - Base forte'!$F$2>0,IF((I189*'Acido - Base forte'!$F$3*'Acido - Base forte'!$F$1)/'Acido - Base forte'!$F$2<1.8*Calcoli!$B$13*('Acido - Base forte'!$F$1*'Acido - Base forte'!$F$3/'Acido - Base forte'!$F$2),I189*'Acido - Base forte'!$F$3*'Acido - Base forte'!$F$1/'Acido - Base forte'!$F$2,NA()),NA())","v":25.18991569918721},7.0794578438414377E-6,5.1499999999999959,{"$f":"IF(Calcoli!$B$13=3,B189^Calcoli!$B$13+Calcoli!$B$9*B189^2+Calcoli!$B$9*Calcoli!$B$10*B189+Calcoli!$B$9*Calcoli!$B$10*Calcoli!$B$11,IF(Calcoli!$B$13=2,B189^Calcoli!$B$13+Calcoli!$B$9*B189+Calcoli!$B$9*Calcoli!$B$10,B189^Calcoli!$B$13+Calcoli!$B$9))","v":5.3611052552173512E-8},{"$f":"(Calcoli!$B$9*B189^(Calcoli!$B$13-1))/D189","v":0.99039155735915796},{"$f":"IF(Calcoli!$B$13>=2, (Calcoli!$B$9*Calcoli!$B$10*B189^(Calcoli!$B$13-2))/D189,NA())","v":8.6735846036126336E-3},{"$f":"IF(Calcoli!$B$13>=3,(Calcoli!$B$9*Calcoli!$B$10*Calcoli!$B$11*B189^(Calcoli!$B$13-3))/D189,NA())","v":{"$error":"#N/A"}},{"$f":"IF(Calcoli!$B$13=3,(E189+F189*2+G189*3),IF(Calcoli!$B$13=2,(E189+F189*2),E189))","v":1.0077387265663833},1.0075966279674884,{"$f":"(B189-(Calcoli!$B$8/B189))/'Acido - Base forte'!$F$1","v":7.0780453062968147E-5},{"$f":"(B189-(Calcoli!$B$8/B189))/'Acido - Base forte'!$F$2","v":7.0780453062968147E-5}]
[{"$f":"IF((I190*'Acido - Base forte'!$F$3*'Acido - Base forte'!$F$1)/'Acido - Base forte'!$F$2>0,IF((I190*'Acido - Base forte'!$F$3*'Acido - Base forte'!$F$1)/'Acido - Base forte'!$F$2<1.8*Calcoli!$B$13*('Acido - Base forte'!$F$1*'Acido - Base forte'!$F$3/'Acido - Base forte'!$F$2),I190*'Acido - Base forte'!$F$3*'Acido - Base forte'!$F$1/'Acido - Base forte'!$F$2,NA()),NA())","v":25.219087782073117},6.3095734448019881E-6,5.1999999999999957,{"$f":"IF(Calcoli!$B$13=3,B190^Calcoli!$B$13+Calcoli!$B$9*B190^2+Calcoli!$B$9*Calcoli!$B$10*B190+Calcoli!$B$9*Calcoli!$B$10*Calcoli!$B$11,IF(Calcoli!$B$13=2,B190^Calcoli!$B$13+Calcoli!$B$9*B190+Calcoli!$B$9*Calcoli!$B$10,B190^Calcoli!$B$13+Calcoli!$B$9))","v":4.7826611553070256E-8},{"$f":"(Calcoli!$B$9*B190^(Calcoli!$B$13-1))/D190","v":0.98944498260147096},{"$f":"IF(Calcoli!$B$13>=2, (Calcoli!$B$9*Calcoli!$B$10*B190^(Calcoli!$B$13-2))/D190,NA())","v":9.7226206268871476E-3},{"$f":"IF(Calcoli!$B$13>=3,(Calcoli!$B$9*Calcoli!$B$10*Calcoli!$B$11*B190^(Calcoli!$B$13-3))/D190,NA())","v":{"$error":"#N/A"}},{"$f":"IF(Calcoli!$B$13=3,(E190+F190*2+G190*3),IF(Calcoli!$B$13=2,(E190+F190*2),E190))","v":1.0088902238552453},1.0087635112829245,{"$f":"(B190-(Calcoli!$B$8/B190))/'Acido - Base forte'!$F$1","v":6.3079885516095262E-5},{"$f":"(B190-(Calcoli!$B$8/B190))/'Acido - Base forte'!$F$2","v":6.3079885516095262E-5}]
[{"$f":"IF((I191*'Acido - Base forte'!$F$3*'Acido - Base forte'!$F$1)/'Acido - Base forte'!$F$2>0,IF((I191*'Acido - Base forte'!$F$3*'Acido - Base forte'!$F$1)/'Acido - Base forte'!$F$2<1.8*Calcoli!$B$13*('Acido - Base forte'!$F$1*'Acido - Base forte'!$F$3/'Acido - Base forte'!$F$2),I191*'Acido - Base forte'!$F$3*'Acido - Base forte'!$F$1/'Acido - Base forte'!$F$2,NA()),NA())","v":25.251073975468017},5.6234132519035429E-6,5.2499999999999956,{"$f":"IF(Calcoli!$B$13=3,B191^Calcoli!$B$13+Calcoli!$B$9*B191^2+Calcoli!$B$9*Calcoli!$B$10*B191+Calcoli!$B$9*Calcoli!$B$10*Calcoli!$B$11,IF(Calcoli!$B$13=2,B191^Calcoli!$B$13+Calcoli!$B$9*B191+Calcoli!$B$9*Calcoli!$B$10,B191^Calcoli!$B$13+Calcoli!$B$9))","v":4.2672222165878252E-8},{"$f":"(Calcoli!$B$9*B191^(Calcoli!$B$13-1))/D191","v":0.98836191903315518},{"$f":"IF(Calcoli!$B$13>=2, (Calcoli!$B$9*Calcoli!$B$10*B191^(Calcoli!$B$13-2))/D191,NA())","v":1.0897018631755843E-2},{"$f":"IF(Calcoli!$B$13>=3,(Calcoli!$B$9*Calcoli!$B$10*Calcoli!$B$11*B191^(Calcoli!$B$13-3))/D191,NA())","v":{"$error":"#N/A"}},{"$f":"IF(Calcoli!$B$13=3,(E191+F191*2+G191*3),IF(Calcoli!$B$13=2,(E191+F191*2),E191))","v":1.0101559562966669},1.0100429590187208,{"$f":"(B191-(Calcoli!$B$8/B191))/'Acido - Base forte'!$F$1","v":5.6216349724935038E-5},{"$f":"(B191-(Calcoli!$B$8/B191))/'Acido - Base forte'!$F$2","v":5.6216349724935038E-5}]
[{"$f":"IF((I192*'Acido - Base forte'!$F$3*'Acido - Base forte'!$F$1)/'Acido - Base forte'!$F$2>0,IF((I192*'Acido - Base forte'!$F$3*'Acido - Base forte'!$F$1)/'Acido - Base forte'!$F$2<1.8*Calcoli!$B$13*('Acido - Base forte'!$F$1*'Acido - Base forte'!$F$3/'Acido - Base forte'!$F$2),I192*'Acido - Base forte'!$F$3*'Acido - Base forte'!$F$1/'Acido - Base forte'!$F$2,NA()),NA())","v":25.286274589694358},5.0118723362727724E-6,5.2999999999999954,{"$f":"IF(Calcoli!$B$13=3,B192^Calcoli!$B$13+Calcoli!$B$9*B192^2+Calcoli!$B$9*Calcoli!$B$10*B192+Calcoli!$B$9*Calcoli!$B$10*Calcoli!$B$11,IF(Calcoli!$B$13=2,B192^Calcoli!$B$13+Calcoli!$B$9*B192+Calcoli!$B$9*Calcoli!$B$10,B192^Calcoli!$B$13+Calcoli!$B$9))","v":3.8079161386360892E-8},{"$f":"(Calcoli!$B$9*B192^(Calcoli!$B$13-1))/D192","v":0.98712894805265727},{"$f":"IF(Calcoli!$B$13>=2, (Calcoli!$B$9*Calcoli!$B$10*B192^(Calcoli!$B$13-2))/D192,NA())","v":1.2211403378398785E-2},{"$f":"IF(Calcoli!$B$13>=3,(Calcoli!$B$9*Calcoli!$B$10*Calcoli!$B$11*B192^(Calcoli!$B$13-3))/D192,NA())","v":{"$error":"#N/A"}},{"$f":"IF(Calcoli!$B$13=3,(E192+F192*2+G192*3),IF(Calcoli!$B$13=2,(E192+F192*2),E192))","v":1.0115517548094548},1.0114509835877743,{"$f":"(B192-(Calcoli!$B$8/B192))/'Acido - Base forte'!$F$1","v":5.0098770739578036E-5},{"$f":"(B192-(Calcoli!$B$8/B192))/'Acido - Base forte'!$F$2","v":5.0098770739578036E-5}]
[{"$f":"IF((I193*'Acido - Base forte'!$F$3*'Acido - Base forte'!$F$1)/'Acido - Base forte'!$F$2>0,IF((I193*'Acido - Base forte'!$F$3*'Acido - Base forte'!$F$1)/'Acido - Base forte'!$F$2<1.8*Calcoli!$B$13*('Acido - Base forte'!$F$1*'Acido - Base forte'!$F$3/'Acido - Base forte'!$F$2),I193*'Acido - Base forte'!$F$3*'Acido - Base forte'!$F$1/'Acido - Base forte'!$F$2,NA()),NA())","v":25.325126566996985},4.466835921509677E-6,5.3499999999999952,{"$f":"IF(Calcoli!$B$13=3,B193^Calcoli!$B$13+Calcoli!$B$9*B193^2+Calcoli!$B$9*Calcoli!$B$10*B193+Calcoli!$B$9*Calcoli!$B$10*Calcoli!$B$11,IF(Calcoli!$B$13=2,B193^Calcoli!$B$13+Calcoli!$B$9*B193+Calcoli!$B$9*Calcoli!$B$10,B193^Calcoli!$B$13+Calcoli!$B$9))","v":3.3986222034472258E-8},{"$f":"(Calcoli!$B$9*B193^(Calcoli!$B$13-1))/D193","v":0.98573090522807161},{"$f":"IF(Calcoli!$B$13>=2, (Calcoli!$B$9*Calcoli!$B$10*B193^(Calcoli!$B$13-2))/D193,NA())","v":1.3682015009739831E-2},{"$f":"IF(Calcoli!$B$13>=3,(Calcoli!$B$9*Calcoli!$B$10*Calcoli!$B$11*B193^(Calcoli!$B$13-3))/D193,NA())","v":{"$error":"#N/A"}},{"$f":"IF(Calcoli!$B$13=3,(E193+F193*2+G193*3),IF(Calcoli!$B$13=2,(E193+F193*2),E193))","v":1.0130949352475513},1.0130050626798794,{"$f":"(B193-(Calcoli!$B$8/B193))/'Acido - Base forte'!$F$1","v":4.4645972003711084E-5},{"$f":"(B193-(Calcoli!$B$8/B193))/'Acido - Base forte'!$F$2","v":4.4645972003711084E-5}]
[{"$f":"IF((I194*'Acido - Base forte'!$F$3*'Acido - Base forte'!$F$1)/'Acido - Base forte'!$F$2>0,IF((I194*'Acido - Base forte'!$F$3*'Acido - Base forte'!$F$1)/'Acido - Base forte'!$F$2<1.8*Calcoli!$B$13*('Acido - Base forte'!$F$1*'Acido - Base forte'!$F$3/'Acido - Base forte'!$F$2),I194*'Acido - Base forte'!$F$3*'Acido - Base forte'!$F$1/'Acido - Base forte'!$F$2,NA()),NA())","v":25.368107766810759},3.9810717055350149E-6,5.399999999999995,{"$f":"IF(Calcoli!$B$13=3,B194^Calcoli!$B$13+Calcoli!$B$9*B194^2+Calcoli!$B$9*Calcoli!$B$10*B194+Calcoli!$B$9*Calcoli!$B$10*Calcoli!$B$11,IF(Calcoli!$B$13=2,B194^Calcoli!$B$13+Calcoli!$B$9*B194+Calcoli!$B$9*Calcoli!$B$10,B194^Calcoli!$B$13+Calcoli!$B$9))","v":3.0338886723437216E-8},{"$f":"(Calcoli!$B$9*B194^(Calcoli!$B$13-1))/D194","v":0.98415073907266526},{"$f":"IF(Calcoli!$B$13>=2, (Calcoli!$B$9*Calcoli!$B$10*B194^(Calcoli!$B$13-2))/D194,NA())","v":1.5326864305827708E-2},{"$f":"IF(Calcoli!$B$13>=3,(Calcoli!$B$9*Calcoli!$B$10*Calcoli!$B$11*B194^(Calcoli!$B$13-3))/D194,NA())","v":{"$error":"#N/A"}},{"$f":"IF(Calcoli!$B$13=3,(E194+F194*2+G194*3),IF(Calcoli!$B$13=2,(E194+F194*2),E194))","v":1.0148044676843206},1.0147243106724304,{"$f":"(B194-(Calcoli!$B$8/B194))/'Acido - Base forte'!$F$1","v":3.9785598191035049E-5},{"$f":"(B194-(Calcoli!$B$8/B194))/'Acido - Base forte'!$F$2","v":3.9785598191035049E-5}]
[{"$f":"IF((I195*'Acido - Base forte'!$F$3*'Acido - Base forte'!$F$1)/'Acido - Base forte'!$F$2>0,IF((I195*'Acido - Base forte'!$F$3*'Acido - Base forte'!$F$1)/'Acido - Base forte'!$F$2<1.8*Calcoli!$B$13*('Acido - Base forte'!$F$1*'Acido - Base forte'!$F$3/'Acido - Base forte'!$F$2),I195*'Acido - Base forte'!$F$3*'Acido - Base forte'!$F$1/'Acido - Base forte'!$F$2,NA()),NA())","v":25.41574142990719},3.548133892335794E-6,5.4499999999999948,{"$f":"IF(Calcoli!$B$13=3,B195^Calcoli!$B$13+Calcoli!$B$9*B195^2+Calcoli!$B$9*Calcoli!$B$10*B195+Calcoli!$B$9*Calcoli!$B$10*Calcoli!$B$11,IF(Calcoli!$B$13=2,B195^Calcoli!$B$13+Calcoli!$B$9*B195+Calcoli!$B$9*Calcoli!$B$10,B195^Calcoli!$B$13+Calcoli!$B$9))","v":2.7088593446636395E-8},{"$f":"(Calcoli!$B$9*B195^(Calcoli!$B$13-1))/D195","v":0.98236935944796189},{"$f":"IF(Calcoli!$B$13>=2, (Calcoli!$B$9*Calcoli!$B$10*B195^(Calcoli!$B$13-2))/D195,NA())","v":1.7165896816164861E-2},{"$f":"IF(Calcoli!$B$13>=3,(Calcoli!$B$9*Calcoli!$B$10*Calcoli!$B$11*B195^(Calcoli!$B$13-3))/D195,NA())","v":{"$error":"#N/A"}},{"$f":"IF(Calcoli!$B$13=3,(E195+F195*2+G195*3),IF(Calcoli!$B$13=2,(E195+F195*2),E195))","v":1.0167011530802916},1.0166296571962876,{"$f":"(B195-(Calcoli!$B$8/B195))/'Acido - Base forte'!$F$1","v":3.5453155094045294E-5},{"$f":"(B195-(Calcoli!$B$8/B195))/'Acido - Base forte'!$F$2","v":3.5453155094045294E-5}]
[{"$f":"IF((I196*'Acido - Base forte'!$F$3*'Acido - Base forte'!$F$1)/'Acido - Base forte'!$F$2>0,IF((I196*'Acido - Base forte'!$F$3*'Acido - Base forte'!$F$1)/'Acido - Base forte'!$F$2<1.8*Calcoli!$B$13*('Acido - Base forte'!$F$1*'Acido - Base forte'!$F$3/'Acido - Base forte'!$F$2),I196*'Acido - Base forte'!$F$3*'Acido - Base forte'!$F$1/'Acido - Base forte'!$F$2,NA()),NA())","v":25.468600795407337},3.1622776601684165E-6,5.4999999999999947,{"$f":"IF(Calcoli!$B$13=3,B196^Calcoli!$B$13+Calcoli!$B$9*B196^2+Calcoli!$B$9*Calcoli!$B$10*B196+Calcoli!$B$9*Calcoli!$B$10*Calcoli!$B$11,IF(Calcoli!$B$13=2,B196^Calcoli!$B$13+Calcoli!$B$9*B196+Calcoli!$B$9*Calcoli!$B$10,B196^Calcoli!$B$13+Calcoli!$B$9))","v":2.4192082451263124E-8},{"$f":"(Calcoli!$B$9*B196^(Calcoli!$B$13-1))/D196","v":0.98036547697136334},{"$f":"IF(Calcoli!$B$13>=2, (Calcoli!$B$9*Calcoli!$B$10*B196^(Calcoli!$B$13-2))/D196,NA())","v":1.9221164649086308E-2},{"$f":"IF(Calcoli!$B$13>=3,(Calcoli!$B$9*Calcoli!$B$10*Calcoli!$B$11*B196^(Calcoli!$B$13-3))/D196,NA())","v":{"$error":"#N/A"}},{"$f":"IF(Calcoli!$B$13=3,(E196+F196*2+G196*3),IF(Calcoli!$B$13=2,(E196+F196*2),E196))","v":1.018807806269536},1.0187440318162935,{"$f":"(B196-(Calcoli!$B$8/B196))/'Acido - Base forte'!$F$1","v":3.1591153825082483E-5},{"$f":"(B196-(Calcoli!$B$8/B196))/'Acido - Base forte'!$F$2","v":3.1591153825082483E-5}]
[{"$f":"IF((I197*'Acido - Base forte'!$F$3*'Acido - Base forte'!$F$1)/'Acido - Base forte'!$F$2>0,IF((I197*'Acido - Base forte'!$F$3*'Acido - Base forte'!$F$1)/'Acido - Base forte'!$F$2<1.8*Calcoli!$B$13*('Acido - Base forte'!$F$1*'Acido - Base forte'!$F$3/'Acido - Base forte'!$F$2),I197*'Acido - Base forte'!$F$3*'Acido - Base forte'!$F$1/'Acido - Base forte'!$F$2,NA()),NA())","v":25.527313828450893},2.8183829312644882E-6,5.5499999999999945,{"$f":"IF(Calcoli!$B$13=3,B197^Calcoli!$B$13+Calcoli!$B$9*B197^2+Calcoli!$B$9*Calcoli!$B$10*B197+Calcoli!$B$9*Calcoli!$B$10*Calcoli!$B$11,IF(Calcoli!$B$13=2,B197^Calcoli!$B$13+Calcoli!$B$9*B197+Calcoli!$B$9*Calcoli!$B$10,B197^Calcoli!$B$13+Calcoli!$B$9))","v":2.1610815266830904E-8},{"$f":"(Calcoli!$B$9*B197^(Calcoli!$B$13-1))/D197","v":0.97811543541935986},{"$f":"IF(Calcoli!$B$13>=2, (Calcoli!$B$9*Calcoli!$B$10*B197^(Calcoli!$B$13-2))/D197,NA())","v":2.1517004067574421E-2},{"$f":"IF(Calcoli!$B$13>=3,(Calcoli!$B$9*Calcoli!$B$10*Calcoli!$B$11*B197^(Calcoli!$B$13-3))/D197,NA())","v":{"$error":"#N/A"}},{"$f":"IF(Calcoli!$B$13=3,(E197+F197*2+G197*3),IF(Calcoli!$B$13=2,(E197+F197*2),E197))","v":1.0211494435545088},1.0210925531380357,{"$f":"(B197-(Calcoli!$B$8/B197))/'Acido - Base forte'!$F$1","v":2.8148347973721522E-5},{"$f":"(B197-(Calcoli!$B$8/B197))/'Acido - Base forte'!$F$2","v":2.8148347973721522E-5}]
[{"$f":"IF((I198*'Acido - Base forte'!$F$3*'Acido - Base forte'!$F$1)/'Acido - Base forte'!$F$2>0,IF((I198*'Acido - Base forte'!$F$3*'Acido - Base forte'!$F$1)/'Acido - Base forte'!$F$2<1.8*Calcoli!$B$13*('Acido - Base forte'!$F$1*'Acido - Base forte'!$F$3/'Acido - Base forte'!$F$2),I198*'Acido - Base forte'!$F$3*'Acido - Base forte'!$F$1/'Acido - Base forte'!$F$2,NA()),NA())","v":25.592567996197282},2.5118864315096119E-6,5.5999999999999943,{"$f":"IF(Calcoli!$B$13=3,B198^Calcoli!$B$13+Calcoli!$B$9*B198^2+Calcoli!$B$9*Calcoli!$B$10*B198+Calcoli!$B$9*Calcoli!$B$10*Calcoli!$B$11,IF(Calcoli!$B$13=2,B198^Calcoli!$B$13+Calcoli!$B$9*B198+Calcoli!$B$9*Calcoli!$B$10,B198^Calcoli!$B$13+Calcoli!$B$9))","v":1.9310457809766891E-8},{"$f":"(Calcoli!$B$9*B198^(Calcoli!$B$13-1))/D198","v":0.97559303989124369},{"$f":"IF(Calcoli!$B$13>=2, (Calcoli!$B$9*Calcoli!$B$10*B198^(Calcoli!$B$13-2))/D198,NA())","v":2.4080216252812564E-2},{"$f":"IF(Calcoli!$B$13>=3,(Calcoli!$B$9*Calcoli!$B$10*Calcoli!$B$11*B198^(Calcoli!$B$13-3))/D198,NA())","v":{"$error":"#N/A"}},{"$f":"IF(Calcoli!$B$13=3,(E198+F198*2+G198*3),IF(Calcoli!$B$13=2,(E198+F198*2),E198))","v":1.0237534723968689},1.0237027198478912,{"$f":"(B198-(Calcoli!$B$8/B198))/'Acido - Base forte'!$F$1","v":2.5079053598040772E-5},{"$f":"(B198-(Calcoli!$B$8/B198))/'Acido - Base forte'!$F$2","v":2.5079053598040772E-5}]
[{"$f":"IF((I199*'Acido - Base forte'!$F$3*'Acido - Base forte'!$F$1)/'Acido - Base forte'!$F$2>0,IF((I199*'Acido - Base forte'!$F$3*'Acido - Base forte'!$F$1)/'Acido - Base forte'!$F$2<1.8*Calcoli!$B$13*('Acido - Base forte'!$F$1*'Acido - Base forte'!$F$3/'Acido - Base forte'!$F$2),I199*'Acido - Base forte'!$F$3*'Acido - Base forte'!$F$1/'Acido - Base forte'!$F$2,NA()),NA())","v":25.665115005166477},2.2387211385683689E-6,5.6499999999999941,{"$f":"IF(Calcoli!$B$13=3,B199^Calcoli!$B$13+Calcoli!$B$9*B199^2+Calcoli!$B$9*Calcoli!$B$10*B199+Calcoli!$B$9*Calcoli!$B$10*Calcoli!$B$11,IF(Calcoli!$B$13=2,B199^Calcoli!$B$13+Calcoli!$B$9*B199+Calcoli!$B$9*Calcoli!$B$10,B199^Calcoli!$B$13+Calcoli!$B$9))","v":1.726042041159904E-8},{"$f":"(Calcoli!$B$9*B199^(Calcoli!$B$13-1))/D199","v":0.97276938445714656},{"$f":"IF(Calcoli!$B$13>=2, (Calcoli!$B$9*Calcoli!$B$10*B199^(Calcoli!$B$13-2))/D199,NA())","v":2.6940247624995216E-2},{"$f":"IF(Calcoli!$B$13>=3,(Calcoli!$B$9*Calcoli!$B$10*Calcoli!$B$11*B199^(Calcoli!$B$13-3))/D199,NA())","v":{"$error":"#N/A"}},{"$f":"IF(Calcoli!$B$13=3,(E199+F199*2+G199*3),IF(Calcoli!$B$13=2,(E199+F199*2),E199))","v":1.0266498797071371},1.0266046002066591,{"$f":"(B199-(Calcoli!$B$8/B199))/'Acido - Base forte'!$F$1","v":2.2342543026468593E-5},{"$f":"(B199-(Calcoli!$B$8/B199))/'Acido - Base forte'!$F$2","v":2.2342543026468593E-5}]
[{"$f":"IF((I200*'Acido - Base forte'!$F$3*'Acido - Base forte'!$F$1)/'Acido - Base forte'!$F$2>0,IF((I200*'Acido - Base forte'!$F$3*'Acido - Base forte'!$F$1)/'Acido - Base forte'!$F$2<1.8*Calcoli!$B$13*('Acido - Base forte'!$F$1*'Acido - Base forte'!$F$3/'Acido - Base forte'!$F$2),I200*'Acido - Base forte'!$F$3*'Acido - Base forte'!$F$1/'Acido - Base forte'!$F$2,NA()),NA())","v":25.745775383075237},1.9952623149689033E-6,5.699999999999994,{"$f":"IF(Calcoli!$B$13=3,B200^Calcoli!$B$13+Calcoli!$B$9*B200^2+Calcoli!$B$9*Calcoli!$B$10*B200+Calcoli!$B$9*Calcoli!$B$10*Calcoli!$B$11,IF(Calcoli!$B$13=2,B200^Calcoli!$B$13+Calcoli!$B$9*B200+Calcoli!$B$9*Calcoli!$B$10,B200^Calcoli!$B$13+Calcoli!$B$9))","v":1.5433448433972312E-8},{"$f":"(Calcoli!$B$9*B200^(Calcoli!$B$13-1))/D200","v":0.96961268418319202},{"$f":"IF(Calcoli!$B$13>=2, (Calcoli!$B$9*Calcoli!$B$10*B200^(Calcoli!$B$13-2))/D200,NA())","v":3.01293649302923E-2},{"$f":"IF(Calcoli!$B$13>=3,(Calcoli!$B$9*Calcoli!$B$10*Calcoli!$B$11*B200^(Calcoli!$B$13-3))/D200,NA())","v":{"$error":"#N/A"}},{"$f":"IF(Calcoli!$B$13=3,(E200+F200*2+G200*3),IF(Calcoli!$B$13=2,(E200+F200*2),E200))","v":1.0298714140437766},1.0298310153230095,{"$f":"(B200-(Calcoli!$B$8/B200))/'Acido - Base forte'!$F$1","v":1.9902504426326304E-5},{"$f":"(B200-(Calcoli!$B$8/B200))/'Acido - Base forte'!$F$2","v":1.9902504426326304E-5}]
[{"$f":"IF((I201*'Acido - Base forte'!$F$3*'Acido - Base forte'!$F$1)/'Acido - Base forte'!$F$2>0,IF((I201*'Acido - Base forte'!$F$3*'Acido - Base forte'!$F$1)/'Acido - Base forte'!$F$2<1.8*Calcoli!$B$13*('Acido - Base forte'!$F$1*'Acido - Base forte'!$F$3/'Acido - Base forte'!$F$2),I201*'Acido - Base forte'!$F$3*'Acido - Base forte'!$F$1/'Acido - Base forte'!$F$2,NA()),NA())","v":25.835442752714926},1.7782794100389447E-6,5.7499999999999938,{"$f":"IF(Calcoli!$B$13=3,B201^Calcoli!$B$13+Calcoli!$B$9*B201^2+Calcoli!$B$9*Calcoli!$B$10*B201+Calcoli!$B$9*Calcoli!$B$10*Calcoli!$B$11,IF(Calcoli!$B$13=2,B201^Calcoli!$B$13+Calcoli!$B$9*B201+Calcoli!$B$9*Calcoli!$B$10,B201^Calcoli!$B$13+Calcoli!$B$9))","v":1.3805257852952253E-8},{"$f":"(Calcoli!$B$9*B201^(Calcoli!$B$13-1))/D201","v":0.96608811782823367},{"$f":"IF(Calcoli!$B$13>=2, (Calcoli!$B$9*Calcoli!$B$10*B201^(Calcoli!$B$13-2))/D201,NA())","v":3.3682818890670686E-2},{"$f":"IF(Calcoli!$B$13>=3,(Calcoli!$B$9*Calcoli!$B$10*Calcoli!$B$11*B201^(Calcoli!$B$13-3))/D201,NA())","v":{"$error":"#N/A"}},{"$f":"IF(Calcoli!$B$13=3,(E201+F201*2+G201*3),IF(Calcoli!$B$13=2,(E201+F201*2),E201))","v":1.0334537556095751},1.0334177101085971,{"$f":"(B201-(Calcoli!$B$8/B201))/'Acido - Base forte'!$F$1","v":1.7726559967870412E-5},{"$f":"(B201-(Calcoli!$B$8/B201))/'Acido - Base forte'!$F$2","v":1.7726559967870412E-5}]
[{"$f":"IF((I202*'Acido - Base forte'!$F$3*'Acido - Base forte'!$F$1)/'Acido - Base forte'!$F$2>0,IF((I202*'Acido - Base forte'!$F$3*'Acido - Base forte'!$F$1)/'Acido - Base forte'!$F$2<1.8*Calcoli!$B$13*('Acido - Base forte'!$F$1*'Acido - Base forte'!$F$3/'Acido - Base forte'!$F$2),I202*'Acido - Base forte'!$F$3*'Acido - Base forte'!$F$1/'Acido - Base forte'!$F$2,NA()),NA())","v":25.935087603621682},1.5848931924611338E-6,5.7999999999999936,{"$f":"IF(Calcoli!$B$13=3,B202^Calcoli!$B$13+Calcoli!$B$9*B202^2+Calcoli!$B$9*Calcoli!$B$10*B202+Calcoli!$B$9*Calcoli!$B$10*Calcoli!$B$11,IF(Calcoli!$B$13=2,B202^Calcoli!$B$13+Calcoli!$B$9*B202+Calcoli!$B$9*Calcoli!$B$10,B202^Calcoli!$B$13+Calcoli!$B$9))","v":1.2354210829890013E-8},{"$f":"(Calcoli!$B$9*B202^(Calcoli!$B$13-1))/D202","v":0.96215768915806399},{"$f":"IF(Calcoli!$B$13>=2, (Calcoli!$B$9*Calcoli!$B$10*B202^(Calcoli!$B$13-2))/D202,NA())","v":3.7638988552386538E-2},{"$f":"IF(Calcoli!$B$13>=3,(Calcoli!$B$9*Calcoli!$B$10*Calcoli!$B$11*B202^(Calcoli!$B$13-3))/D202,NA())","v":{"$error":"#N/A"}},{"$f":"IF(Calcoli!$B$13=3,(E202+F202*2+G202*3),IF(Calcoli!$B$13=2,(E202+F202*2),E202))","v":1.037435666262837},1.0374035041448673,{"$f":"(B202-(Calcoli!$B$8/B202))/'Acido - Base forte'!$F$1","v":1.5785836190163317E-5},{"$f":"(B202-(Calcoli!$B$8/B202))/'Acido - Base forte'!$F$2","v":1.5785836190163317E-5}]
[{"$f":"IF((I203*'Acido - Base forte'!$F$3*'Acido - Base forte'!$F$1)/'Acido - Base forte'!$F$2>0,IF((I203*'Acido - Base forte'!$F$3*'Acido - Base forte'!$F$1)/'Acido - Base forte'!$F$2<1.8*Calcoli!$B$13*('Acido - Base forte'!$F$1*'Acido - Base forte'!$F$3/'Acido - Base forte'!$F$2),I203*'Acido - Base forte'!$F$3*'Acido - Base forte'!$F$1/'Acido - Base forte'!$F$2,NA()),NA())","v":26.045760319129368},1.412537544622773E-6,5.8499999999999934,{"$f":"IF(Calcoli!$B$13=3,B203^Calcoli!$B$13+Calcoli!$B$9*B203^2+Calcoli!$B$9*Calcoli!$B$10*B203+Calcoli!$B$9*Calcoli!$B$10*Calcoli!$B$11,IF(Calcoli!$B$13=2,B203^Calcoli!$B$13+Calcoli!$B$9*B203+Calcoli!$B$9*Calcoli!$B$10,B203^Calcoli!$B$13+Calcoli!$B$9))","v":1.1061026846985765E-8},{"$f":"(Calcoli!$B$9*B203^(Calcoli!$B$13-1))/D203","v":0.95778011673100416},{"$f":"IF(Calcoli!$B$13>=2, (Calcoli!$B$9*Calcoli!$B$10*B203^(Calcoli!$B$13-2))/D203,NA())","v":4.2039496552412479E-2},{"$f":"IF(Calcoli!$B$13>=3,(Calcoli!$B$9*Calcoli!$B$10*Calcoli!$B$11*B203^(Calcoli!$B$13-3))/D203,NA())","v":{"$error":"#N/A"}},{"$f":"IF(Calcoli!$B$13=3,(E203+F203*2+G203*3),IF(Calcoli!$B$13=2,(E203+F203*2),E203))","v":1.0418591098358292},1.0418304127651747,{"$f":"(B203-(Calcoli!$B$8/B203))/'Acido - Base forte'!$F$1","v":1.4054580867789316E-5},{"$f":"(B203-(Calcoli!$B$8/B203))/'Acido - Base forte'!$F$2","v":1.4054580867789316E-5}]
[{"$f":"IF((I204*'Acido - Base forte'!$F$3*'Acido - Base forte'!$F$1)/'Acido - Base forte'!$F$2>0,IF((I204*'Acido - Base forte'!$F$3*'Acido - Base forte'!$F$1)/'Acido - Base forte'!$F$2<1.8*Calcoli!$B$13*('Acido - Base forte'!$F$1*'Acido - Base forte'!$F$3/'Acido - Base forte'!$F$2),I204*'Acido - Base forte'!$F$3*'Acido - Base forte'!$F$1/'Acido - Base forte'!$F$2,NA()),NA())","v":26.168593162102677},1.2589254117941843E-6,5.8999999999999932,{"$f":"IF(Calcoli!$B$13=3,B204^Calcoli!$B$13+Calcoli!$B$9*B204^2+Calcoli!$B$9*Calcoli!$B$10*B204+Calcoli!$B$9*Calcoli!$B$10*Calcoli!$B$11,IF(Calcoli!$B$13=2,B204^Calcoli!$B$13+Calcoli!$B$9*B204+Calcoli!$B$9*Calcoli!$B$10,B204^Calcoli!$B$13+Calcoli!$B$9))","v":9.9085254816488431E-9},{"$f":"(Calcoli!$B$9*B204^(Calcoli!$B$13-1))/D204","v":0.95291076416399167},{"$f":"IF(Calcoli!$B$13>=2, (Calcoli!$B$9*Calcoli!$B$10*B204^(Calcoli!$B$13-2))/D204,NA())","v":4.6929283359184636E-2},{"$f":"IF(Calcoli!$B$13>=3,(Calcoli!$B$9*Calcoli!$B$10*Calcoli!$B$11*B204^(Calcoli!$B$13-3))/D204,NA())","v":{"$error":"#N/A"}},{"$f":"IF(Calcoli!$B$13=3,(E204+F204*2+G204*3),IF(Calcoli!$B$13=2,(E204+F204*2),E204))","v":1.0467693308823609},1.0467437264841071,{"$f":"(B204-(Calcoli!$B$8/B204))/'Acido - Base forte'!$F$1","v":1.2509821294469416E-5},{"$f":"(B204-(Calcoli!$B$8/B204))/'Acido - Base forte'!$F$2","v":1.2509821294469416E-5}]
[{"$f":"IF((I205*'Acido - Base forte'!$F$3*'Acido - Base forte'!$F$1)/'Acido - Base forte'!$F$2>0,IF((I205*'Acido - Base forte'!$F$3*'Acido - Base forte'!$F$1)/'Acido - Base forte'!$F$2<1.8*Calcoli!$B$13*('Acido - Base forte'!$F$1*'Acido - Base forte'!$F$3/'Acido - Base forte'!$F$2),I205*'Acido - Base forte'!$F$3*'Acido - Base forte'!$F$1/'Acido - Base forte'!$F$2,NA()),NA())","v":26.304800863058233},1.1220184543019794E-6,5.9499999999999931,{"$f":"IF(Calcoli!$B$13=3,B205^Calcoli!$B$13+Calcoli!$B$9*B205^2+Calcoli!$B$9*Calcoli!$B$10*B205+Calcoli!$B$9*Calcoli!$B$10*Calcoli!$B$11,IF(Calcoli!$B$13=2,B205^Calcoli!$B$13+Calcoli!$B$9*B205+Calcoli!$B$9*Calcoli!$B$10,B205^Calcoli!$B$13+Calcoli!$B$9))","v":8.881397332676638E-9},{"$f":"(Calcoli!$B$9*B205^(Calcoli!$B$13-1))/D205","v":0.9475016252570615},{"$f":"IF(Calcoli!$B$13>=2, (Calcoli!$B$9*Calcoli!$B$10*B205^(Calcoli!$B$13-2))/D205,NA())","v":5.2356626168402746E-2},{"$f":"IF(Calcoli!$B$13>=3,(Calcoli!$B$9*Calcoli!$B$10*Calcoli!$B$11*B205^(Calcoli!$B$13-3))/D205,NA())","v":{"$error":"#N/A"}},{"$f":"IF(Calcoli!$B$13=3,(E205+F205*2+G205*3),IF(Calcoli!$B$13=2,(E205+F205*2),E205))","v":1.0522148775938669},1.0521920345223292,{"$f":"(B205-(Calcoli!$B$8/B205))/'Acido - Base forte'!$F$1","v":1.1131059449206419E-5},{"$f":"(B205-(Calcoli!$B$8/B205))/'Acido - Base forte'!$F$2","v":1.1131059449206419E-5}]
[{"$f":"IF((I206*'Acido - Base forte'!$F$3*'Acido - Base forte'!$F$1)/'Acido - Base forte'!$F$2>0,IF((I206*'Acido - Base forte'!$F$3*'Acido - Base forte'!$F$1)/'Acido - Base forte'!$F$2<1.8*Calcoli!$B$13*('Acido - Base forte'!$F$1*'Acido - Base forte'!$F$3/'Acido - Base forte'!$F$2),I206*'Acido - Base forte'!$F$3*'Acido - Base forte'!$F$1/'Acido - Base forte'!$F$2,NA()),NA())","v":26.455679391184255},1.0000000000000146E-6,5.9999999999999929,{"$f":"IF(Calcoli!$B$13=3,B206^Calcoli!$B$13+Calcoli!$B$9*B206^2+Calcoli!$B$9*Calcoli!$B$10*B206+Calcoli!$B$9*Calcoli!$B$10*Calcoli!$B$11,IF(Calcoli!$B$13=2,B206^Calcoli!$B$13+Calcoli!$B$9*B206+Calcoli!$B$9*Calcoli!$B$10,B206^Calcoli!$B$13+Calcoli!$B$9))","v":7.9660000000001075E-9},{"$f":"(Calcoli!$B$9*B206^(Calcoli!$B$13-1))/D206","v":0.94150138086869284},{"$f":"IF(Calcoli!$B$13>=2, (Calcoli!$B$9*Calcoli!$B$10*B206^(Calcoli!$B$13-2))/D206,NA())","v":5.8373085613858115E-2},{"$f":"IF(Calcoli!$B$13>=3,(Calcoli!$B$9*Calcoli!$B$10*Calcoli!$B$11*B206^(Calcoli!$B$13-3))/D206,NA())","v":{"$error":"#N/A"}},{"$f":"IF(Calcoli!$B$13=3,(E206+F206*2+G206*3),IF(Calcoli!$B$13=2,(E206+F206*2),E206))","v":1.058247552096409},1.05822717564737,{"$f":"(B206-(Calcoli!$B$8/B206))/'Acido - Base forte'!$F$1","v":9.9000000000001458E-6},{"$f":"(B206-(Calcoli!$B$8/B206))/'Acido - Base forte'!$F$2","v":9.9000000000001458E-6}]
[{"$f":"IF((I207*'Acido - Base forte'!$F$3*'Acido - Base forte'!$F$1)/'Acido - Base forte'!$F$2>0,IF((I207*'Acido - Base forte'!$F$3*'Acido - Base forte'!$F$1)/'Acido - Base forte'!$F$2<1.8*Calcoli!$B$13*('Acido - Base forte'!$F$1*'Acido - Base forte'!$F$3/'Acido - Base forte'!$F$2),I207*'Acido - Base forte'!$F$3*'Acido - Base forte'!$F$1/'Acido - Base forte'!$F$2,NA()),NA())","v":26.622602424799151},8.9125093813375916E-7,6.0499999999999927,{"$f":"IF(Calcoli!$B$13=3,B207^Calcoli!$B$13+Calcoli!$B$9*B207^2+Calcoli!$B$9*Calcoli!$B$10*B207+Calcoli!$B$9*Calcoli!$B$10*Calcoli!$B$11,IF(Calcoli!$B$13=2,B207^Calcoli!$B$13+Calcoli!$B$9*B207+Calcoli!$B$9*Calcoli!$B$10,B207^Calcoli!$B$13+Calcoli!$B$9))","v":7.1501763642379177E-9},{"$f":"(Calcoli!$B$9*B207^(Calcoli!$B$13-1))/D207","v":0.93485554698141071},{"$f":"IF(Calcoli!$B$13>=2, (Calcoli!$B$9*Calcoli!$B$10*B207^(Calcoli!$B$13-2))/D207,NA())","v":6.5033360900820347E-2},{"$f":"IF(Calcoli!$B$13>=3,(Calcoli!$B$9*Calcoli!$B$10*Calcoli!$B$11*B207^(Calcoli!$B$13-3))/D207,NA())","v":{"$error":"#N/A"}},{"$f":"IF(Calcoli!$B$13=3,(E207+F207*2+G207*3),IF(Calcoli!$B$13=2,(E207+F207*2),E207))","v":1.0649222687830515},1.0649040969919661,{"$f":"(B207-(Calcoli!$B$8/B207))/'Acido - Base forte'!$F$1","v":8.8003075359073969E-6},{"$f":"(B207-(Calcoli!$B$8/B207))/'Acido - Base forte'!$F$2","v":8.8003075359073969E-6}]
[{"$f":"IF((I208*'Acido - Base forte'!$F$3*'Acido - Base forte'!$F$1)/'Acido - Base forte'!$F$2>0,IF((I208*'Acido - Base forte'!$F$3*'Acido - Base forte'!$F$1)/'Acido - Base forte'!$F$2<1.8*Calcoli!$B$13*('Acido - Base forte'!$F$1*'Acido - Base forte'!$F$3/'Acido - Base forte'!$F$2),I208*'Acido - Base forte'!$F$3*'Acido - Base forte'!$F$1/'Acido - Base forte'!$F$2,NA()),NA())","v":26.807014977345496},7.9432823472429395E-7,6.0999999999999925,{"$f":"IF(Calcoli!$B$13=3,B208^Calcoli!$B$13+Calcoli!$B$9*B208^2+Calcoli!$B$9*Calcoli!$B$10*B208+Calcoli!$B$9*Calcoli!$B$10*Calcoli!$B$11,IF(Calcoli!$B$13=2,B208^Calcoli!$B$13+Calcoli!$B$9*B208+Calcoli!$B$9*Calcoli!$B$10,B208^Calcoli!$B$13+Calcoli!$B$9))","v":6.423092717776685E-9},{"$f":"(Calcoli!$B$9*B208^(Calcoli!$B$13-1))/D208","v":0.92750673580411025},{"$f":"IF(Calcoli!$B$13>=2, (Calcoli!$B$9*Calcoli!$B$10*B208^(Calcoli!$B$13-2))/D208,NA())","v":7.239503155747018E-2},{"$f":"IF(Calcoli!$B$13>=3,(Calcoli!$B$9*Calcoli!$B$10*Calcoli!$B$11*B208^(Calcoli!$B$13-3))/D208,NA())","v":{"$error":"#N/A"}},{"$f":"IF(Calcoli!$B$13=3,(E208+F208*2+G208*3),IF(Calcoli!$B$13=2,(E208+F208*2),E208))","v":1.0722967989190506},1.0722805990938198,{"$f":"(B208-(Calcoli!$B$8/B208))/'Acido - Base forte'!$F$1","v":7.8173898060635245E-6},{"$f":"(B208-(Calcoli!$B$8/B208))/'Acido - Base forte'!$F$2","v":7.8173898060635245E-6}]
[{"$f":"IF((I209*'Acido - Base forte'!$F$3*'Acido - Base forte'!$F$1)/'Acido - Base forte'!$F$2>0,IF((I209*'Acido - Base forte'!$F$3*'Acido - Base forte'!$F$1)/'Acido - Base forte'!$F$2<1.8*Calcoli!$B$13*('Acido - Base forte'!$F$1*'Acido - Base forte'!$F$3/'Acido - Base forte'!$F$2),I209*'Acido - Base forte'!$F$3*'Acido - Base forte'!$F$1/'Acido - Base forte'!$F$2,NA()),NA())","v":27.010423584190864},7.0794578438414923E-7,6.1499999999999924,{"$f":"IF(Calcoli!$B$13=3,B209^Calcoli!$B$13+Calcoli!$B$9*B209^2+Calcoli!$B$9*Calcoli!$B$10*B209+Calcoli!$B$9*Calcoli!$B$10*Calcoli!$B$11,IF(Calcoli!$B$13=2,B209^Calcoli!$B$13+Calcoli!$B$9*B209+Calcoli!$B$9*Calcoli!$B$10,B209^Calcoli!$B$13+Calcoli!$B$9))","v":5.7750945701147461E-9},{"$f":"(Calcoli!$B$9*B209^(Calcoli!$B$13-1))/D209","v":0.91939505378101916},{"$f":"IF(Calcoli!$B$13>=2, (Calcoli!$B$9*Calcoli!$B$10*B209^(Calcoli!$B$13-2))/D209,NA())","v":8.0518161971979765E-2},{"$f":"IF(Calcoli!$B$13>=3,(Calcoli!$B$9*Calcoli!$B$10*Calcoli!$B$11*B209^(Calcoli!$B$13-3))/D209,NA())","v":{"$error":"#N/A"}},{"$f":"IF(Calcoli!$B$13=3,(E209+F209*2+G209*3),IF(Calcoli!$B$13=2,(E209+F209*2),E209))","v":1.0804313777249788},1.0804169433676345,{"$f":"(B209-(Calcoli!$B$8/B209))/'Acido - Base forte'!$F$1","v":6.938204089379219E-6},{"$f":"(B209-(Calcoli!$B$8/B209))/'Acido - Base forte'!$F$2","v":6.938204089379219E-6}]
[{"$f":"IF((I210*'Acido - Base forte'!$F$3*'Acido - Base forte'!$F$1)/'Acido - Base forte'!$F$2>0,IF((I210*'Acido - Base forte'!$F$3*'Acido - Base forte'!$F$1)/'Acido - Base forte'!$F$2<1.8*Calcoli!$B$13*('Acido - Base forte'!$F$1*'Acido - Base forte'!$F$3/'Acido - Base forte'!$F$2),I210*'Acido - Base forte'!$F$3*'Acido - Base forte'!$F$1/'Acido - Base forte'!$F$2,NA()),NA())","v":27.234382422463359},6.3095734448020376E-7,6.1999999999999922,{"$f":"IF(Calcoli!$B$13=3,B210^Calcoli!$B$13+Calcoli!$B$9*B210^2+Calcoli!$B$9*Calcoli!$B$10*B210+Calcoli!$B$9*Calcoli!$B$10*Calcoli!$B$11,IF(Calcoli!$B$13=2,B210^Calcoli!$B$13+Calcoli!$B$9*B210+Calcoli!$B$9*Calcoli!$B$10,B210^Calcoli!$B$13+Calcoli!$B$9))","v":5.1975781907720823E-9},{"$f":"(Calcoli!$B$9*B210^(Calcoli!$B$13-1))/D210","v":0.9104586616903938},{"$f":"IF(Calcoli!$B$13>=2, (Calcoli!$B$9*Calcoli!$B$10*B210^(Calcoli!$B$13-2))/D210,NA())","v":8.946474356568089E-2},{"$f":"IF(Calcoli!$B$13>=3,(Calcoli!$B$9*Calcoli!$B$10*Calcoli!$B$11*B210^(Calcoli!$B$13-3))/D210,NA())","v":{"$error":"#N/A"}},{"$f":"IF(Calcoli!$B$13=3,(E210+F210*2+G210*3),IF(Calcoli!$B$13=2,(E210+F210*2),E210))","v":1.0893881488217556},1.0893752968985344,{"$f":"(B210-(Calcoli!$B$8/B210))/'Acido - Base forte'!$F$1","v":6.1510841255559291E-6},{"$f":"(B210-(Calcoli!$B$8/B210))/'Acido - Base forte'!$F$2","v":6.1510841255559291E-6}]
[{"$f":"IF((I211*'Acido - Base forte'!$F$3*'Acido - Base forte'!$F$1)/'Acido - Base forte'!$F$2>0,IF((I211*'Acido - Base forte'!$F$3*'Acido - Base forte'!$F$1)/'Acido - Base forte'!$F$2<1.8*Calcoli!$B$13*('Acido - Base forte'!$F$1*'Acido - Base forte'!$F$3/'Acido - Base forte'!$F$2),I211*'Acido - Base forte'!$F$3*'Acido - Base forte'!$F$1/'Acido - Base forte'!$F$2,NA()),NA())","v":27.4804747312755},5.6234132519035867E-7,6.249999999999992,{"$f":"IF(Calcoli!$B$13=3,B211^Calcoli!$B$13+Calcoli!$B$9*B211^2+Calcoli!$B$9*Calcoli!$B$10*B211+Calcoli!$B$9*Calcoli!$B$10*Calcoli!$B$11,IF(Calcoli!$B$13=2,B211^Calcoli!$B$13+Calcoli!$B$9*B211+Calcoli!$B$9*Calcoli!$B$10,B211^Calcoli!$B$13+Calcoli!$B$9))","v":4.6828761666937074E-9},{"$f":"(Calcoli!$B$9*B211^(Calcoli!$B$13-1))/D211","v":0.90063452220336015},{"$f":"IF(Calcoli!$B$13>=2, (Calcoli!$B$9*Calcoli!$B$10*B211^(Calcoli!$B$13-2))/D211,NA())","v":9.9297949261875976E-2},{"$f":"IF(Calcoli!$B$13>=3,(Calcoli!$B$9*Calcoli!$B$10*Calcoli!$B$11*B211^(Calcoli!$B$13-3))/D211,NA())","v":{"$error":"#N/A"}},{"$f":"IF(Calcoli!$B$13=3,(E211+F211*2+G211*3),IF(Calcoli!$B$13=2,(E211+F211*2),E211))","v":1.0992304207271122},1.09921898925102,{"$f":"(B211-(Calcoli!$B$8/B211))/'Acido - Base forte'!$F$1","v":5.4455853108996975E-6},{"$f":"(B211-(Calcoli!$B$8/B211))/'Acido - Base forte'!$F$2","v":5.4455853108996975E-6}]
[{"$f":"IF((I212*'Acido - Base forte'!$F$3*'Acido - Base forte'!$F$1)/'Acido - Base forte'!$F$2>0,IF((I212*'Acido - Base forte'!$F$3*'Acido - Base forte'!$F$1)/'Acido - Base forte'!$F$2<1.8*Calcoli!$B$13*('Acido - Base forte'!$F$1*'Acido - Base forte'!$F$3/'Acido - Base forte'!$F$2),I212*'Acido - Base forte'!$F$3*'Acido - Base forte'!$F$1/'Acido - Base forte'!$F$2,NA()),NA())","v":27.750288935519762},5.0118723362728107E-7,6.2999999999999918,{"$f":"IF(Calcoli!$B$13=3,B212^Calcoli!$B$13+Calcoli!$B$9*B212^2+Calcoli!$B$9*Calcoli!$B$10*B212+Calcoli!$B$9*Calcoli!$B$10*Calcoli!$B$11,IF(Calcoli!$B$13=2,B212^Calcoli!$B$13+Calcoli!$B$9*B212+Calcoli!$B$9*Calcoli!$B$10,B212^Calcoli!$B$13+Calcoli!$B$9))","v":4.2241554408477588E-9},{"$f":"(Calcoli!$B$9*B212^(Calcoli!$B$13-1))/D212","v":0.88985935883321132},{"$f":"IF(Calcoli!$B$13>=2, (Calcoli!$B$9*Calcoli!$B$10*B212^(Calcoli!$B$13-2))/D212,NA())","v":0.1100811763467392},{"$f":"IF(Calcoli!$B$13>=3,(Calcoli!$B$9*Calcoli!$B$10*Calcoli!$B$11*B212^(Calcoli!$B$13-3))/D212,NA())","v":{"$error":"#N/A"}},{"$f":"IF(Calcoli!$B$13=3,(E212+F212*2+G212*3),IF(Calcoli!$B$13=2,(E212+F212*2),E212))","v":1.1100217115266897},1.1100115574207905,{"$f":"(B212-(Calcoli!$B$8/B212))/'Acido - Base forte'!$F$1","v":4.8123461047759262E-6},{"$f":"(B212-(Calcoli!$B$8/B212))/'Acido - Base forte'!$F$2","v":4.8123461047759262E-6}]
[{"$f":"IF((I213*'Acido - Base forte'!$F$3*'Acido - Base forte'!$F$1)/'Acido - Base forte'!$F$2>0,IF((I213*'Acido - Base forte'!$F$3*'Acido - Base forte'!$F$1)/'Acido - Base forte'!$F$2<1.8*Calcoli!$B$13*('Acido - Base forte'!$F$1*'Acido - Base forte'!$F$3/'Acido - Base forte'!$F$2),I213*'Acido - Base forte'!$F$3*'Acido - Base forte'!$F$1/'Acido - Base forte'!$F$2,NA()),NA())","v":28.045388967196018},4.4668359215097116E-7,6.3499999999999917,{"$f":"IF(Calcoli!$B$13=3,B213^Calcoli!$B$13+Calcoli!$B$9*B213^2+Calcoli!$B$9*Calcoli!$B$10*B213+Calcoli!$B$9*Calcoli!$B$10*Calcoli!$B$11,IF(Calcoli!$B$13=2,B213^Calcoli!$B$13+Calcoli!$B$9*B213+Calcoli!$B$9*Calcoli!$B$10,B213^Calcoli!$B$13+Calcoli!$B$9))","v":3.8153264673637804E-9},{"$f":"(Calcoli!$B$9*B213^(Calcoli!$B$13-1))/D213","v":0.87807084656822854},{"$f":"IF(Calcoli!$B$13>=2, (Calcoli!$B$9*Calcoli!$B$10*B213^(Calcoli!$B$13-2))/D213,NA())","v":0.12187685745311702},{"$f":"IF(Calcoli!$B$13>=3,(Calcoli!$B$9*Calcoli!$B$10*Calcoli!$B$11*B213^(Calcoli!$B$13-3))/D213,NA())","v":{"$error":"#N/A"}},{"$f":"IF(Calcoli!$B$13=3,(E213+F213*2+G213*3),IF(Calcoli!$B$13=2,(E213+F213*2),E213))","v":1.1218245614744626},1.1218155586878407,{"$f":"(B213-(Calcoli!$B$8/B213))/'Acido - Base forte'!$F$1","v":4.2429638076528815E-6},{"$f":"(B213-(Calcoli!$B$8/B213))/'Acido - Base forte'!$F$2","v":4.2429638076528815E-6}]
[{"$f":"IF((I214*'Acido - Base forte'!$F$3*'Acido - Base forte'!$F$1)/'Acido - Base forte'!$F$2>0,IF((I214*'Acido - Base forte'!$F$3*'Acido - Base forte'!$F$1)/'Acido - Base forte'!$F$2<1.8*Calcoli!$B$13*('Acido - Base forte'!$F$1*'Acido - Base forte'!$F$3/'Acido - Base forte'!$F$2),I214*'Acido - Base forte'!$F$3*'Acido - Base forte'!$F$1/'Acido - Base forte'!$F$2,NA()),NA())","v":28.367278438930459},3.9810717055350465E-7,6.3999999999999915,{"$f":"IF(Calcoli!$B$13=3,B214^Calcoli!$B$13+Calcoli!$B$9*B214^2+Calcoli!$B$9*Calcoli!$B$10*B214+Calcoli!$B$9*Calcoli!$B$10*Calcoli!$B$11,IF(Calcoli!$B$13=2,B214^Calcoli!$B$13+Calcoli!$B$9*B214+Calcoli!$B$9*Calcoli!$B$10,B214^Calcoli!$B$13+Calcoli!$B$9))","v":3.4509622684705309E-9},{"$f":"(Calcoli!$B$9*B214^(Calcoli!$B$13-1))/D214","v":0.86520904804751608},{"$f":"IF(Calcoli!$B$13>=2, (Calcoli!$B$9*Calcoli!$B$10*B214^(Calcoli!$B$13-2))/D214,NA())","v":0.13474502582900982},{"$f":"IF(Calcoli!$B$13>=3,(Calcoli!$B$9*Calcoli!$B$10*Calcoli!$B$11*B214^(Calcoli!$B$13-3))/D214,NA())","v":{"$error":"#N/A"}},{"$f":"IF(Calcoli!$B$13=3,(E214+F214*2+G214*3),IF(Calcoli!$B$13=2,(E214+F214*2),E214))","v":1.1346990997055357},1.1346911375572182,{"$f":"(B214-(Calcoli!$B$8/B214))/'Acido - Base forte'!$F$1","v":3.7298830623840933E-6},{"$f":"(B214-(Calcoli!$B$8/B214))/'Acido - Base forte'!$F$2","v":3.7298830623840933E-6}]
[{"$f":"IF((I215*'Acido - Base forte'!$F$3*'Acido - Base forte'!$F$1)/'Acido - Base forte'!$F$2>0,IF((I215*'Acido - Base forte'!$F$3*'Acido - Base forte'!$F$1)/'Acido - Base forte'!$F$2<1.8*Calcoli!$B$13*('Acido - Base forte'!$F$1*'Acido - Base forte'!$F$3/'Acido - Base forte'!$F$2),I215*'Acido - Base forte'!$F$3*'Acido - Base forte'!$F$1/'Acido - Base forte'!$F$2,NA()),NA())","v":28.71735856903727},3.548133892335822E-7,6.4499999999999913,{"$f":"IF(Calcoli!$B$13=3,B215^Calcoli!$B$13+Calcoli!$B$9*B215^2+Calcoli!$B$9*Calcoli!$B$10*B215+Calcoli!$B$9*Calcoli!$B$10*Calcoli!$B$11,IF(Calcoli!$B$13=2,B215^Calcoli!$B$13+Calcoli!$B$9*B215+Calcoli!$B$9*Calcoli!$B$10,B215^Calcoli!$B$13+Calcoli!$B$9))","v":3.1262263117930457E-9},{"$f":"(Calcoli!$B$9*B215^(Calcoli!$B$13-1))/D215","v":0.85121809934661885},{"$f":"IF(Calcoli!$B$13>=2, (Calcoli!$B$9*Calcoli!$B$10*B215^(Calcoli!$B$13-2))/D215,NA())","v":0.14874163084287378},{"$f":"IF(Calcoli!$B$13>=3,(Calcoli!$B$9*Calcoli!$B$10*Calcoli!$B$11*B215^(Calcoli!$B$13-3))/D215,NA())","v":{"$error":"#N/A"}},{"$f":"IF(Calcoli!$B$13=3,(E215+F215*2+G215*3),IF(Calcoli!$B$13=2,(E215+F215*2),E215))","v":1.1487013610323664},1.1486943427614908,{"$f":"(B215-(Calcoli!$B$8/B215))/'Acido - Base forte'!$F$1","v":3.2662955992093821E-6},{"$f":"(B215-(Calcoli!$B$8/B215))/'Acido - Base forte'!$F$2","v":3.2662955992093821E-6}]
[{"$f":"IF((I216*'Acido - Base forte'!$F$3*'Acido - Base forte'!$F$1)/'Acido - Base forte'!$F$2>0,IF((I216*'Acido - Base forte'!$F$3*'Acido - Base forte'!$F$1)/'Acido - Base forte'!$F$2<1.8*Calcoli!$B$13*('Acido - Base forte'!$F$1*'Acido - Base forte'!$F$3/'Acido - Base forte'!$F$2),I216*'Acido - Base forte'!$F$3*'Acido - Base forte'!$F$1/'Acido - Base forte'!$F$2,NA()),NA())","v":29.096880096885187},3.1622776601684411E-7,6.4999999999999911,{"$f":"IF(Calcoli!$B$13=3,B216^Calcoli!$B$13+Calcoli!$B$9*B216^2+Calcoli!$B$9*Calcoli!$B$10*B216+Calcoli!$B$9*Calcoli!$B$10*Calcoli!$B$11,IF(Calcoli!$B$13=2,B216^Calcoli!$B$13+Calcoli!$B$9*B216+Calcoli!$B$9*Calcoli!$B$10,B216^Calcoli!$B$13+Calcoli!$B$9))","v":2.8368082451263309E-9},{"$f":"(Calcoli!$B$9*B216^(Calcoli!$B$13-1))/D216","v":0.8360481358586549},{"$f":"IF(Calcoli!$B$13>=2, (Calcoli!$B$9*Calcoli!$B$10*B216^(Calcoli!$B$13-2))/D216,NA())","v":0.16391661325677381},{"$f":"IF(Calcoli!$B$13>=3,(Calcoli!$B$9*Calcoli!$B$10*Calcoli!$B$11*B216^(Calcoli!$B$13-3))/D216,NA())","v":{"$error":"#N/A"}},{"$f":"IF(Calcoli!$B$13=3,(E216+F216*2+G216*3),IF(Calcoli!$B$13=2,(E216+F216*2),E216))","v":1.1638813623722024},1.1638752038754074,{"$f":"(B216-(Calcoli!$B$8/B216))/'Acido - Base forte'!$F$1","v":2.8460498941516095E-6},{"$f":"(B216-(Calcoli!$B$8/B216))/'Acido - Base forte'!$F$2","v":2.8460498941516095E-6}]
[{"$f":"IF((I217*'Acido - Base forte'!$F$3*'Acido - Base forte'!$F$1)/'Acido - Base forte'!$F$2>0,IF((I217*'Acido - Base forte'!$F$3*'Acido - Base forte'!$F$1)/'Acido - Base forte'!$F$2<1.8*Calcoli!$B$13*('Acido - Base forte'!$F$1*'Acido - Base forte'!$F$3/'Acido - Base forte'!$F$2),I217*'Acido - Base forte'!$F$3*'Acido - Base forte'!$F$1/'Acido - Base forte'!$F$2,NA()),NA())","v":29.506889865633035},2.81838293126451E-7,6.5499999999999909,{"$f":"IF(Calcoli!$B$13=3,B217^Calcoli!$B$13+Calcoli!$B$9*B217^2+Calcoli!$B$9*Calcoli!$B$10*B217+Calcoli!$B$9*Calcoli!$B$10*Calcoli!$B$11,IF(Calcoli!$B$13=2,B217^Calcoli!$B$13+Calcoli!$B$9*B217+Calcoli!$B$9*Calcoli!$B$10,B217^Calcoli!$B$13+Calcoli!$B$9))","v":2.5788666312718546E-9},{"$f":"(Calcoli!$B$9*B217^(Calcoli!$B$13-1))/D217","v":0.819657431220434},{"$f":"IF(Calcoli!$B$13>=2, (Calcoli!$B$9*Calcoli!$B$10*B217^(Calcoli!$B$13-2))/D217,NA())","v":0.18031176733271764},{"$f":"IF(Calcoli!$B$13>=3,(Calcoli!$B$9*Calcoli!$B$10*Calcoli!$B$11*B217^(Calcoli!$B$13-3))/D217,NA())","v":{"$error":"#N/A"}},{"$f":"IF(Calcoli!$B$13=3,(E217+F217*2+G217*3),IF(Calcoli!$B$13=2,(E217+F217*2),E217))","v":1.1802809658858693},1.1802755946253214,{"$f":"(B217-(Calcoli!$B$8/B217))/'Acido - Base forte'!$F$1","v":2.4635695420309415E-6},{"$f":"(B217-(Calcoli!$B$8/B217))/'Acido - Base forte'!$F$2","v":2.4635695420309415E-6}]
[{"$f":"IF((I218*'Acido - Base forte'!$F$3*'Acido - Base forte'!$F$1)/'Acido - Base forte'!$F$2>0,IF((I218*'Acido - Base forte'!$F$3*'Acido - Base forte'!$F$1)/'Acido - Base forte'!$F$2<1.8*Calcoli!$B$13*('Acido - Base forte'!$F$1*'Acido - Base forte'!$F$3/'Acido - Base forte'!$F$2),I218*'Acido - Base forte'!$F$3*'Acido - Base forte'!$F$1/'Acido - Base forte'!$F$2,NA()),NA())","v":29.948173280385344},2.5118864315096315E-7,6.5999999999999908,{"$f":"IF(Calcoli!$B$13=3,B218^Calcoli!$B$13+Calcoli!$B$9*B218^2+Calcoli!$B$9*Calcoli!$B$10*B218+Calcoli!$B$9*Calcoli!$B$10*Calcoli!$B$11,IF(Calcoli!$B$13=2,B218^Calcoli!$B$13+Calcoli!$B$9*B218+Calcoli!$B$9*Calcoli!$B$10,B218^Calcoli!$B$13+Calcoli!$B$9))","v":2.3489779193666718E-9},{"$f":"(Calcoli!$B$9*B218^(Calcoli!$B$13-1))/D218","v":0.80201470098968075},{"$f":"IF(Calcoli!$B$13>=2, (Calcoli!$B$9*Calcoli!$B$10*B218^(Calcoli!$B$13-2))/D218,NA())","v":0.19795843807904873},{"$f":"IF(Calcoli!$B$13>=3,(Calcoli!$B$9*Calcoli!$B$10*Calcoli!$B$11*B218^(Calcoli!$B$13-3))/D218,NA())","v":{"$error":"#N/A"}},{"$f":"IF(Calcoli!$B$13=3,(E218+F218*2+G218*3),IF(Calcoli!$B$13=2,(E218+F218*2),E218))","v":1.1979315771477781},1.1979269312154137,{"$f":"(B218-(Calcoli!$B$8/B218))/'Acido - Base forte'!$F$1","v":2.1137792609561424E-6},{"$f":"(B218-(Calcoli!$B$8/B218))/'Acido - Base forte'!$F$2","v":2.1137792609561424E-6}]
[{"$f":"IF((I219*'Acido - Base forte'!$F$3*'Acido - Base forte'!$F$1)/'Acido - Base forte'!$F$2>0,IF((I219*'Acido - Base forte'!$F$3*'Acido - Base forte'!$F$1)/'Acido - Base forte'!$F$2<1.8*Calcoli!$B$13*('Acido - Base forte'!$F$1*'Acido - Base forte'!$F$3/'Acido - Base forte'!$F$2),I219*'Acido - Base forte'!$F$3*'Acido - Base forte'!$F$1/'Acido - Base forte'!$F$2,NA()),NA())","v":30.421194452941453},2.2387211385683864E-7,6.6499999999999906,{"$f":"IF(Calcoli!$B$13=3,B219^Calcoli!$B$13+Calcoli!$B$9*B219^2+Calcoli!$B$9*Calcoli!$B$10*B219+Calcoli!$B$9*Calcoli!$B$10*Calcoli!$B$11,IF(Calcoli!$B$13=2,B219^Calcoli!$B$13+Calcoli!$B$9*B219+Calcoli!$B$9*Calcoli!$B$10,B219^Calcoli!$B$13+Calcoli!$B$9))","v":2.1440909726496524E-9},{"$f":"(Calcoli!$B$9*B219^(Calcoli!$B$13-1))/D219","v":0.78310149865112444},{"$f":"IF(Calcoli!$B$13>=2, (Calcoli!$B$9*Calcoli!$B$10*B219^(Calcoli!$B$13-2))/D219,NA())","v":0.21687512607049331},{"$f":"IF(Calcoli!$B$13>=3,(Calcoli!$B$9*Calcoli!$B$10*Calcoli!$B$11*B219^(Calcoli!$B$13-3))/D219,NA())","v":{"$error":"#N/A"}},{"$f":"IF(Calcoli!$B$13=3,(E219+F219*2+G219*3),IF(Calcoli!$B$13=2,(E219+F219*2),E219))","v":1.2168517507921111},1.2168477781176581,{"$f":"(B219-(Calcoli!$B$8/B219))/'Acido - Base forte'!$F$1","v":1.7920375464174326E-6},{"$f":"(B219-(Calcoli!$B$8/B219))/'Acido - Base forte'!$F$2","v":1.7920375464174326E-6}]
[{"$f":"IF((I220*'Acido - Base forte'!$F$3*'Acido - Base forte'!$F$1)/'Acido - Base forte'!$F$2>0,IF((I220*'Acido - Base forte'!$F$3*'Acido - Base forte'!$F$1)/'Acido - Base forte'!$F$2<1.8*Calcoli!$B$13*('Acido - Base forte'!$F$1*'Acido - Base forte'!$F$3/'Acido - Base forte'!$F$2),I220*'Acido - Base forte'!$F$3*'Acido - Base forte'!$F$1/'Acido - Base forte'!$F$2,NA()),NA())","v":30.926036481303182},1.9952623149689221E-7,6.6999999999999904,{"$f":"IF(Calcoli!$B$13=3,B220^Calcoli!$B$13+Calcoli!$B$9*B220^2+Calcoli!$B$9*Calcoli!$B$10*B220+Calcoli!$B$9*Calcoli!$B$10*Calcoli!$B$11,IF(Calcoli!$B$13=2,B220^Calcoli!$B$13+Calcoli!$B$9*B220+Calcoli!$B$9*Calcoli!$B$10,B220^Calcoli!$B$13+Calcoli!$B$9))","v":1.9614865469437469E-9},{"$f":"(Calcoli!$B$9*B220^(Calcoli!$B$13-1))/D220","v":0.76291460604629258},{"$f":"IF(Calcoli!$B$13>=2, (Calcoli!$B$9*Calcoli!$B$10*B220^(Calcoli!$B$13-2))/D220,NA())","v":0.2370650977568676},{"$f":"IF(Calcoli!$B$13>=3,(Calcoli!$B$9*Calcoli!$B$10*Calcoli!$B$11*B220^(Calcoli!$B$13-3))/D220,NA())","v":{"$error":"#N/A"}},{"$f":"IF(Calcoli!$B$13=3,(E220+F220*2+G220*3),IF(Calcoli!$B$13=2,(E220+F220*2),E220))","v":1.2370448015600277},1.2370414592521273,{"$f":"(B220-(Calcoli!$B$8/B220))/'Acido - Base forte'!$F$1","v":1.4940750813416604E-6},{"$f":"(B220-(Calcoli!$B$8/B220))/'Acido - Base forte'!$F$2","v":1.4940750813416604E-6}]
[{"$f":"IF((I221*'Acido - Base forte'!$F$3*'Acido - Base forte'!$F$1)/'Acido - Base forte'!$F$2>0,IF((I221*'Acido - Base forte'!$F$3*'Acido - Base forte'!$F$1)/'Acido - Base forte'!$F$2<1.8*Calcoli!$B$13*('Acido - Base forte'!$F$1*'Acido - Base forte'!$F$3/'Acido - Base forte'!$F$2),I221*'Acido - Base forte'!$F$3*'Acido - Base forte'!$F$1/'Acido - Base forte'!$F$2,NA()),NA())","v":31.462344925324128},1.7782794100389616E-7,6.7499999999999902,{"$f":"IF(Calcoli!$B$13=3,B221^Calcoli!$B$13+Calcoli!$B$9*B221^2+Calcoli!$B$9*Calcoli!$B$10*B221+Calcoli!$B$9*Calcoli!$B$10*Calcoli!$B$11,IF(Calcoli!$B$13=2,B221^Calcoli!$B$13+Calcoli!$B$9*B221+Calcoli!$B$9*Calcoli!$B$10,B221^Calcoli!$B$13+Calcoli!$B$9))","v":1.7987411803058228E-9},{"$f":"(Calcoli!$B$9*B221^(Calcoli!$B$13-1))/D221","v":0.74146829579031659},{"$f":"IF(Calcoli!$B$13>=2, (Calcoli!$B$9*Calcoli!$B$10*B221^(Calcoli!$B$13-2))/D221,NA())","v":0.25851412370563537},{"$f":"IF(Calcoli!$B$13>=3,(Calcoli!$B$9*Calcoli!$B$10*Calcoli!$B$11*B221^(Calcoli!$B$13-3))/D221,NA())","v":{"$error":"#N/A"}},{"$f":"IF(Calcoli!$B$13=3,(E221+F221*2+G221*3),IF(Calcoli!$B$13=2,(E221+F221*2),E221))","v":1.2584965432015873},1.258493797012965,{"$f":"(B221-(Calcoli!$B$8/B221))/'Acido - Base forte'!$F$1","v":1.2159380848486247E-6},{"$f":"(B221-(Calcoli!$B$8/B221))/'Acido - Base forte'!$F$2","v":1.2159380848486247E-6}]
[{"$f":"IF((I222*'Acido - Base forte'!$F$3*'Acido - Base forte'!$F$1)/'Acido - Base forte'!$F$2>0,IF((I222*'Acido - Base forte'!$F$3*'Acido - Base forte'!$F$1)/'Acido - Base forte'!$F$2<1.8*Calcoli!$B$13*('Acido - Base forte'!$F$1*'Acido - Base forte'!$F$3/'Acido - Base forte'!$F$2),I222*'Acido - Base forte'!$F$3*'Acido - Base forte'!$F$1/'Acido - Base forte'!$F$2,NA()),NA())","v":32.029278053550996},1.5848931924611461E-7,{"$f":"C221+0.05","v":6.7999999999999901},{"$f":"IF(Calcoli!$B$13=3,B222^Calcoli!$B$13+Calcoli!$B$9*B222^2+Calcoli!$B$9*Calcoli!$B$10*B222+Calcoli!$B$9*Calcoli!$B$10*Calcoli!$B$11,IF(Calcoli!$B$13=2,B222^Calcoli!$B$13+Calcoli!$B$9*B222+Calcoli!$B$9*Calcoli!$B$10,B222^Calcoli!$B$13+Calcoli!$B$9))","v":1.6536950132101747E-9},{"$f":"(Calcoli!$B$9*B222^(Calcoli!$B$13-1))/D222","v":0.71879632268975513},{"$f":"IF(Calcoli!$B$13>=2, (Calcoli!$B$9*Calcoli!$B$10*B222^(Calcoli!$B$13-2))/D222,NA())","v":0.28118848777159688},{"$f":"IF(Calcoli!$B$13>=3,(Calcoli!$B$9*Calcoli!$B$10*Calcoli!$B$11*B222^(Calcoli!$B$13-3))/D222,NA())","v":{"$error":"#N/A"}},{"$f":"IF(Calcoli!$B$13=3,(E222+F222*2+G222*3),IF(Calcoli!$B$13=2,(E222+F222*2),E222))","v":1.2811732982329489},1.2811711221420399,{"$f":"(B222-(Calcoli!$B$8/B222))/'Acido - Base forte'!$F$1","v":9.539358479809658E-7},{"$f":"(B222-(Calcoli!$B$8/B222))/'Acido - Base forte'!$F$2","v":9.539358479809658E-7}]
[{"$f":"IF((I223*'Acido - Base forte'!$F$3*'Acido - Base forte'!$F$1)/'Acido - Base forte'!$F$2>0,IF((I223*'Acido - Base forte'!$F$3*'Acido - Base forte'!$F$1)/'Acido - Base forte'!$F$2<1.8*Calcoli!$B$13*('Acido - Base forte'!$F$1*'Acido - Base forte'!$F$3/'Acido - Base forte'!$F$2),I223*'Acido - Base forte'!$F$3*'Acido - Base forte'!$F$1/'Acido - Base forte'!$F$2,NA()),NA())","v":32.625467761916433},1.4125375446227841E-7,6.8499999999999899,{"$f":"IF(Calcoli!$B$13=3,B223^Calcoli!$B$13+Calcoli!$B$9*B223^2+Calcoli!$B$9*Calcoli!$B$10*B223+Calcoli!$B$9*Calcoli!$B$10*Calcoli!$B$11,IF(Calcoli!$B$13=2,B223^Calcoli!$B$13+Calcoli!$B$9*B223+Calcoli!$B$9*Calcoli!$B$10,B223^Calcoli!$B$13+Calcoli!$B$9))","v":1.5244231110902377E-9},{"$f":"(Calcoli!$B$9*B223^(Calcoli!$B$13-1))/D223","v":0.69495348814898483},{"$f":"IF(Calcoli!$B$13>=2, (Calcoli!$B$9*Calcoli!$B$10*B223^(Calcoli!$B$13-2))/D223,NA())","v":0.30503342321243154},{"$f":"IF(Calcoli!$B$13>=3,(Calcoli!$B$9*Calcoli!$B$10*Calcoli!$B$11*B223^(Calcoli!$B$13-3))/D223,NA())","v":{"$error":"#N/A"}},{"$f":"IF(Calcoli!$B$13=3,(E223+F223*2+G223*3),IF(Calcoli!$B$13=2,(E223+F223*2),E223))","v":1.305020334573848},1.3050187104766573,{"$f":"(B223-(Calcoli!$B$8/B223))/'Acido - Base forte'!$F$1","v":7.0459176023866103E-7},{"$f":"(B223-(Calcoli!$B$8/B223))/'Acido - Base forte'!$F$2","v":7.0459176023866103E-7}]
[{"$f":"IF((I224*'Acido - Base forte'!$F$3*'Acido - Base forte'!$F$1)/'Acido - Base forte'!$F$2>0,IF((I224*'Acido - Base forte'!$F$3*'Acido - Base forte'!$F$1)/'Acido - Base forte'!$F$2<1.8*Calcoli!$B$13*('Acido - Base forte'!$F$1*'Acido - Base forte'!$F$3/'Acido - Base forte'!$F$2),I224*'Acido - Base forte'!$F$3*'Acido - Base forte'!$F$1/'Acido - Base forte'!$F$2,NA()),NA())","v":33.248995111414629},1.2589254117941942E-7,6.8999999999999897,{"$f":"IF(Calcoli!$B$13=3,B224^Calcoli!$B$13+Calcoli!$B$9*B224^2+Calcoli!$B$9*Calcoli!$B$10*B224+Calcoli!$B$9*Calcoli!$B$10*Calcoli!$B$11,IF(Calcoli!$B$13=2,B224^Calcoli!$B$13+Calcoli!$B$9*B224+Calcoli!$B$9*Calcoli!$B$10,B224^Calcoli!$B$13+Calcoli!$B$9))","v":1.4092099077775702E-9},{"$f":"(Calcoli!$B$9*B224^(Calcoli!$B$13-1))/D224","v":0.67001661969203052},{"$f":"IF(Calcoli!$B$13>=2, (Calcoli!$B$9*Calcoli!$B$10*B224^(Calcoli!$B$13-2))/D224,NA())","v":0.32997213362865147},{"$f":"IF(Calcoli!$B$13>=3,(Calcoli!$B$9*Calcoli!$B$10*Calcoli!$B$11*B224^(Calcoli!$B$13-3))/D224,NA())","v":{"$error":"#N/A"}},{"$f":"IF(Calcoli!$B$13=3,(E224+F224*2+G224*3),IF(Calcoli!$B$13=2,(E224+F224*2),E224))","v":1.3299608869493333},1.3299598044565852,{"$f":"(B224-(Calcoli!$B$8/B224))/'Acido - Base forte'!$F$1","v":4.6459717706992976E-7},{"$f":"(B224-(Calcoli!$B$8/B224))/'Acido - Base forte'!$F$2","v":4.6459717706992976E-7}]
[{"$f":"IF((I225*'Acido - Base forte'!$F$3*'Acido - Base forte'!$F$1)/'Acido - Base forte'!$F$2>0,IF((I225*'Acido - Base forte'!$F$3*'Acido - Base forte'!$F$1)/'Acido - Base forte'!$F$2<1.8*Calcoli!$B$13*('Acido - Base forte'!$F$1*'Acido - Base forte'!$F$3/'Acido - Base forte'!$F$2),I225*'Acido - Base forte'!$F$3*'Acido - Base forte'!$F$1/'Acido - Base forte'!$F$2,NA()),NA())","v":33.897384120297488},1.12201845430199E-7,6.9499999999999895,{"$f":"IF(Calcoli!$B$13=3,B225^Calcoli!$B$13+Calcoli!$B$9*B225^2+Calcoli!$B$9*Calcoli!$B$10*B225+Calcoli!$B$9*Calcoli!$B$10*Calcoli!$B$11,IF(Calcoli!$B$13=2,B225^Calcoli!$B$13+Calcoli!$B$9*B225+Calcoli!$B$9*Calcoli!$B$10,B225^Calcoli!$B$13+Calcoli!$B$9))","v":1.3065264299806105E-9},{"$f":"(Calcoli!$B$9*B225^(Calcoli!$B$13-1))/D225","v":0.64408482018919511},{"$f":"IF(Calcoli!$B$13>=2, (Calcoli!$B$9*Calcoli!$B$10*B225^(Calcoli!$B$13-2))/D225,NA())","v":0.35590554414341302},{"$f":"IF(Calcoli!$B$13>=3,(Calcoli!$B$9*Calcoli!$B$10*Calcoli!$B$11*B225^(Calcoli!$B$13-3))/D225,NA())","v":{"$error":"#N/A"}},{"$f":"IF(Calcoli!$B$13=3,(E225+F225*2+G225*3),IF(Calcoli!$B$13=2,(E225+F225*2),E225))","v":1.3558959084760211},1.3558953648118994,{"$f":"(B225-(Calcoli!$B$8/B225))/'Acido - Base forte'!$F$1","v":2.3076751616826557E-7},{"$f":"(B225-(Calcoli!$B$8/B225))/'Acido - Base forte'!$F$2","v":2.3076751616826557E-7}]
[{"$f":"IF((I226*'Acido - Base forte'!$F$3*'Acido - Base forte'!$F$1)/'Acido - Base forte'!$F$2>0,IF((I226*'Acido - Base forte'!$F$3*'Acido - Base forte'!$F$1)/'Acido - Base forte'!$F$2<1.8*Calcoli!$B$13*('Acido - Base forte'!$F$1*'Acido - Base forte'!$F$3/'Acido - Base forte'!$F$2),I226*'Acido - Base forte'!$F$3*'Acido - Base forte'!$F$1/'Acido - Base forte'!$F$2,NA()),NA())","v":34.567616727434199},{"$f":"10^-C226","v":1.0000000000000242E-7},6.9999999999999893,{"$f":"IF(Calcoli!$B$13=3,B226^Calcoli!$B$13+Calcoli!$B$9*B226^2+Calcoli!$B$9*Calcoli!$B$10*B226+Calcoli!$B$9*Calcoli!$B$10*Calcoli!$B$11,IF(Calcoli!$B$13=2,B226^Calcoli!$B$13+Calcoli!$B$9*B226+Calcoli!$B$9*Calcoli!$B$10,B226^Calcoli!$B$13+Calcoli!$B$9))","v":1.2150100000000181E-9},{"$f":"(Calcoli!$B$9*B226^(Calcoli!$B$13-1))/D226","v":0.61727887013276184},{"$f":"IF(Calcoli!$B$13>=2, (Calcoli!$B$9*Calcoli!$B$10*B226^(Calcoli!$B$13-2))/D226,NA())","v":0.38271289948230308},{"$f":"IF(Calcoli!$B$13>=3,(Calcoli!$B$9*Calcoli!$B$10*Calcoli!$B$11*B226^(Calcoli!$B$13-3))/D226,NA())","v":{"$error":"#N/A"}},{"$f":"IF(Calcoli!$B$13=3,(E226+F226*2+G226*3),IF(Calcoli!$B$13=2,(E226+F226*2),E226))","v":1.3827046690973681},{"$f":"(H226-J226)/(1+K226)","v":1.3827046690973681},{"$f":"(B226-(Calcoli!$B$8/B226))/'Acido - Base forte'!$F$1","v":4.8307347773096816E-20},{"$f":"(B226-(Calcoli!$B$8/B226))/'Acido - Base forte'!$F$2","v":4.8307347773096816E-20}]
[{"$f":"IF((I227*'Acido - Base forte'!$F$3*'Acido - Base forte'!$F$1)/'Acido - Base forte'!$F$2>0,IF((I227*'Acido - Base forte'!$F$3*'Acido - Base forte'!$F$1)/'Acido - Base forte'!$F$2<1.8*Calcoli!$B$13*('Acido - Base forte'!$F$1*'Acido - Base forte'!$F$3/'Acido - Base forte'!$F$2),I227*'Acido - Base forte'!$F$3*'Acido - Base forte'!$F$1/'Acido - Base forte'!$F$2,NA()),NA())","v":35.256170715010107},8.912509381337676E-8,7.0499999999999892,{"$f":"IF(Calcoli!$B$13=3,B227^Calcoli!$B$13+Calcoli!$B$9*B227^2+Calcoli!$B$9*Calcoli!$B$10*B227+Calcoli!$B$9*Calcoli!$B$10*Calcoli!$B$11,IF(Calcoli!$B$13=2,B227^Calcoli!$B$13+Calcoli!$B$9*B227+Calcoli!$B$9*Calcoli!$B$10,B227^Calcoli!$B$13+Calcoli!$B$9))","v":1.1334461468826729E-9},{"$f":"(Calcoli!$B$9*B227^(Calcoli!$B$13-1))/D227","v":0.58973971144437454},{"$f":"IF(Calcoli!$B$13>=2, (Calcoli!$B$9*Calcoli!$B$10*B227^(Calcoli!$B$13-2))/D227,NA())","v":0.41025328047467774},{"$f":"IF(Calcoli!$B$13>=3,(Calcoli!$B$9*Calcoli!$B$10*Calcoli!$B$11*B227^(Calcoli!$B$13-3))/D227,NA())","v":{"$error":"#N/A"}},{"$f":"IF(Calcoli!$B$13=3,(E227+F227*2+G227*3),IF(Calcoli!$B$13=2,(E227+F227*2),E227))","v":1.4102462723937301},1.4102468286004042,{"$f":"(B227-(Calcoli!$B$8/B227))/'Acido - Base forte'!$F$1","v":-2.3076751616816803E-7},{"$f":"(B227-(Calcoli!$B$8/B227))/'Acido - Base forte'!$F$2","v":-2.3076751616816803E-7}]
[{"$f":"IF((I228*'Acido - Base forte'!$F$3*'Acido - Base forte'!$F$1)/'Acido - Base forte'!$F$2>0,IF((I228*'Acido - Base forte'!$F$3*'Acido - Base forte'!$F$1)/'Acido - Base forte'!$F$2<1.8*Calcoli!$B$13*('Acido - Base forte'!$F$1*'Acido - Base forte'!$F$3/'Acido - Base forte'!$F$2),I228*'Acido - Base forte'!$F$3*'Acido - Base forte'!$F$1/'Acido - Base forte'!$F$2,NA()),NA())","v":35.959080898046743},7.9432823472430152E-8,7.099999999999989,{"$f":"IF(Calcoli!$B$13=3,B228^Calcoli!$B$13+Calcoli!$B$9*B228^2+Calcoli!$B$9*Calcoli!$B$10*B228+Calcoli!$B$9*Calcoli!$B$10*Calcoli!$B$11,IF(Calcoli!$B$13=2,B228^Calcoli!$B$13+Calcoli!$B$9*B228+Calcoli!$B$9*Calcoli!$B$10,B228^Calcoli!$B$13+Calcoli!$B$9))","v":1.0607524856166709E-9},{"$f":"(Calcoli!$B$9*B228^(Calcoli!$B$13-1))/D228","v":0.56162600052441802},{"$f":"IF(Calcoli!$B$13>=2, (Calcoli!$B$9*Calcoli!$B$10*B228^(Calcoli!$B$13-2))/D228,NA())","v":0.43836805127038769},{"$f":"IF(Calcoli!$B$13>=3,(Calcoli!$B$9*Calcoli!$B$10*Calcoli!$B$11*B228^(Calcoli!$B$13-3))/D228,NA())","v":{"$error":"#N/A"}},{"$f":"IF(Calcoli!$B$13=3,(E228+F228*2+G228*3),IF(Calcoli!$B$13=2,(E228+F228*2),E228))","v":1.4383621030651934},1.4383632359218697,{"$f":"(B228-(Calcoli!$B$8/B228))/'Acido - Base forte'!$F$1","v":-4.6459717706983394E-7},{"$f":"(B228-(Calcoli!$B$8/B228))/'Acido - Base forte'!$F$2","v":-4.6459717706983394E-7}]
[{"$f":"IF((I229*'Acido - Base forte'!$F$3*'Acido - Base forte'!$F$1)/'Acido - Base forte'!$F$2>0,IF((I229*'Acido - Base forte'!$F$3*'Acido - Base forte'!$F$1)/'Acido - Base forte'!$F$2<1.8*Calcoli!$B$13*('Acido - Base forte'!$F$1*'Acido - Base forte'!$F$3/'Acido - Base forte'!$F$2),I229*'Acido - Base forte'!$F$3*'Acido - Base forte'!$F$1/'Acido - Base forte'!$F$2,NA()),NA())","v":36.672022175847893},7.0794578438415609E-8,7.1499999999999888,{"$f":"IF(Calcoli!$B$13=3,B229^Calcoli!$B$13+Calcoli!$B$9*B229^2+Calcoli!$B$9*Calcoli!$B$10*B229+Calcoli!$B$9*Calcoli!$B$10*Calcoli!$B$11,IF(Calcoli!$B$13=2,B229^Calcoli!$B$13+Calcoli!$B$9*B229+Calcoli!$B$9*Calcoli!$B$10,B229^Calcoli!$B$13+Calcoli!$B$9))","v":9.9596435016045327E-10},{"$f":"(Calcoli!$B$9*B229^(Calcoli!$B$13-1))/D229","v":0.53311078674912171},{"$f":"IF(Calcoli!$B$13>=2, (Calcoli!$B$9*Calcoli!$B$10*B229^(Calcoli!$B$13-2))/D229,NA())","v":0.46688418107042373},{"$f":"IF(Calcoli!$B$13>=3,(Calcoli!$B$9*Calcoli!$B$10*Calcoli!$B$11*B229^(Calcoli!$B$13-3))/D229,NA())","v":{"$error":"#N/A"}},{"$f":"IF(Calcoli!$B$13=3,(E229+F229*2+G229*3),IF(Calcoli!$B$13=2,(E229+F229*2),E229))","v":1.4668791488899693},1.4668808870339158,{"$f":"(B229-(Calcoli!$B$8/B229))/'Acido - Base forte'!$F$1","v":-7.0459176023856203E-7},{"$f":"(B229-(Calcoli!$B$8/B229))/'Acido - Base forte'!$F$2","v":-7.0459176023856203E-7}]
[{"$f":"IF((I230*'Acido - Base forte'!$F$3*'Acido - Base forte'!$F$1)/'Acido - Base forte'!$F$2>0,IF((I230*'Acido - Base forte'!$F$3*'Acido - Base forte'!$F$1)/'Acido - Base forte'!$F$2<1.8*Calcoli!$B$13*('Acido - Base forte'!$F$1*'Acido - Base forte'!$F$3/'Acido - Base forte'!$F$2),I230*'Acido - Base forte'!$F$3*'Acido - Base forte'!$F$1/'Acido - Base forte'!$F$2,NA()),NA())","v":37.390411271312054},6.3095734448020977E-8,7.1999999999999886,{"$f":"IF(Calcoli!$B$13=3,B230^Calcoli!$B$13+Calcoli!$B$9*B230^2+Calcoli!$B$9*Calcoli!$B$10*B230+Calcoli!$B$9*Calcoli!$B$10*Calcoli!$B$11,IF(Calcoli!$B$13=2,B230^Calcoli!$B$13+Calcoli!$B$9*B230+Calcoli!$B$9*Calcoli!$B$10,B230^Calcoli!$B$13+Calcoli!$B$9))","v":9.3822198943186285E-10},{"$f":"(Calcoli!$B$9*B230^(Calcoli!$B$13-1))/D230","v":0.50437744338811852},{"$f":"IF(Calcoli!$B$13>=2, (Calcoli!$B$9*Calcoli!$B$10*B230^(Calcoli!$B$13-2))/D230,NA())","v":0.49561831340318424},{"$f":"IF(Calcoli!$B$13>=3,(Calcoli!$B$9*Calcoli!$B$10*Calcoli!$B$11*B230^(Calcoli!$B$13-3))/D230,NA())","v":{"$error":"#N/A"}},{"$f":"IF(Calcoli!$B$13=3,(E230+F230*2+G230*3),IF(Calcoli!$B$13=2,(E230+F230*2),E230))","v":1.4956140701944869},1.4956164508524823,{"$f":"(B230-(Calcoli!$B$8/B230))/'Acido - Base forte'!$F$1","v":-9.5393584798086225E-7},{"$f":"(B230-(Calcoli!$B$8/B230))/'Acido - Base forte'!$F$2","v":-9.5393584798086225E-7}]
[{"$f":"IF((I231*'Acido - Base forte'!$F$3*'Acido - Base forte'!$F$1)/'Acido - Base forte'!$F$2>0,IF((I231*'Acido - Base forte'!$F$3*'Acido - Base forte'!$F$1)/'Acido - Base forte'!$F$2<1.8*Calcoli!$B$13*('Acido - Base forte'!$F$1*'Acido - Base forte'!$F$3/'Acido - Base forte'!$F$2),I231*'Acido - Base forte'!$F$3*'Acido - Base forte'!$F$1/'Acido - Base forte'!$F$2,NA()),NA())","v":38.109522365396984},5.6234132519036407E-8,7.2499999999999885,{"$f":"IF(Calcoli!$B$13=3,B231^Calcoli!$B$13+Calcoli!$B$9*B231^2+Calcoli!$B$9*Calcoli!$B$10*B231+Calcoli!$B$9*Calcoli!$B$10*Calcoli!$B$11,IF(Calcoli!$B$13=2,B231^Calcoli!$B$13+Calcoli!$B$9*B231+Calcoli!$B$9*Calcoli!$B$10,B231^Calcoli!$B$13+Calcoli!$B$9))","v":8.8675915617043328E-10},{"$f":"(Calcoli!$B$9*B231^(Calcoli!$B$13-1))/D231","v":0.47561504266183458},{"$f":"IF(Calcoli!$B$13>=2, (Calcoli!$B$9*Calcoli!$B$10*B231^(Calcoli!$B$13-2))/D231,NA())","v":0.52438139123158711},{"$f":"IF(Calcoli!$B$13>=3,(Calcoli!$B$9*Calcoli!$B$10*Calcoli!$B$11*B231^(Calcoli!$B$13-3))/D231,NA())","v":{"$error":"#N/A"}},{"$f":"IF(Calcoli!$B$13=3,(E231+F231*2+G231*3),IF(Calcoli!$B$13=2,(E231+F231*2),E231))","v":1.5243778251250089},1.5243808946158794,{"$f":"(B231-(Calcoli!$B$8/B231))/'Acido - Base forte'!$F$1","v":-1.2159380848485112E-6},{"$f":"(B231-(Calcoli!$B$8/B231))/'Acido - Base forte'!$F$2","v":-1.2159380848485112E-6}]
[{"$f":"IF((I232*'Acido - Base forte'!$F$3*'Acido - Base forte'!$F$1)/'Acido - Base forte'!$F$2>0,IF((I232*'Acido - Base forte'!$F$3*'Acido - Base forte'!$F$1)/'Acido - Base forte'!$F$2<1.8*Calcoli!$B$13*('Acido - Base forte'!$F$1*'Acido - Base forte'!$F$3/'Acido - Base forte'!$F$2),I232*'Acido - Base forte'!$F$3*'Acido - Base forte'!$F$1/'Acido - Base forte'!$F$2,NA()),NA())","v":38.824610573307012},5.0118723362728586E-8,7.2999999999999883,{"$f":"IF(Calcoli!$B$13=3,B232^Calcoli!$B$13+Calcoli!$B$9*B232^2+Calcoli!$B$9*Calcoli!$B$10*B232+Calcoli!$B$9*Calcoli!$B$10*Calcoli!$B$11,IF(Calcoli!$B$13=2,B232^Calcoli!$B$13+Calcoli!$B$9*B232+Calcoli!$B$9*Calcoli!$B$10,B232^Calcoli!$B$13+Calcoli!$B$9))","v":8.4089293710689594E-10},{"$f":"(Calcoli!$B$9*B232^(Calcoli!$B$13-1))/D232","v":0.44701341708698461},{"$f":"IF(Calcoli!$B$13>=2, (Calcoli!$B$9*Calcoli!$B$10*B232^(Calcoli!$B$13-2))/D232,NA())","v":0.55298359574744327},{"$f":"IF(Calcoli!$B$13>=3,(Calcoli!$B$9*Calcoli!$B$10*Calcoli!$B$11*B232^(Calcoli!$B$13-3))/D232,NA())","v":{"$error":"#N/A"}},{"$f":"IF(Calcoli!$B$13=3,(E232+F232*2+G232*3),IF(Calcoli!$B$13=2,(E232+F232*2),E232))","v":1.5529806085818711},1.5529844229322805,{"$f":"(B232-(Calcoli!$B$8/B232))/'Acido - Base forte'!$F$1","v":-1.4940750813415395E-6},{"$f":"(B232-(Calcoli!$B$8/B232))/'Acido - Base forte'!$F$2","v":-1.4940750813415395E-6}]
[{"$f":"IF((I233*'Acido - Base forte'!$F$3*'Acido - Base forte'!$F$1)/'Acido - Base forte'!$F$2>0,IF((I233*'Acido - Base forte'!$F$3*'Acido - Base forte'!$F$1)/'Acido - Base forte'!$F$2<1.8*Calcoli!$B$13*('Acido - Base forte'!$F$1*'Acido - Base forte'!$F$3/'Acido - Base forte'!$F$2),I233*'Acido - Base forte'!$F$3*'Acido - Base forte'!$F$1/'Acido - Base forte'!$F$2,NA()),NA())","v":39.53103647740145},4.4668359215097544E-8,7.3499999999999881,{"$f":"IF(Calcoli!$B$13=3,B233^Calcoli!$B$13+Calcoli!$B$9*B233^2+Calcoli!$B$9*Calcoli!$B$10*B233+Calcoli!$B$9*Calcoli!$B$10*Calcoli!$B$11,IF(Calcoli!$B$13=2,B233^Calcoli!$B$13+Calcoli!$B$9*B233+Calcoli!$B$9*Calcoli!$B$10,B233^Calcoli!$B$13+Calcoli!$B$9))","v":8.0001468937554648E-10},{"$f":"(Calcoli!$B$9*B233^(Calcoli!$B$13-1))/D233","v":0.41875817852135511},{"$f":"IF(Calcoli!$B$13>=2, (Calcoli!$B$9*Calcoli!$B$10*B233^(Calcoli!$B$13-2))/D233,NA())","v":0.58123932744654594},{"$f":"IF(Calcoli!$B$13>=3,(Calcoli!$B$9*Calcoli!$B$10*Calcoli!$B$11*B233^(Calcoli!$B$13-3))/D233,NA())","v":{"$error":"#N/A"}},{"$f":"IF(Calcoli!$B$13=3,(E233+F233*2+G233*3),IF(Calcoli!$B$13=2,(E233+F233*2),E233))","v":1.5812368334144469},1.581241459096058,{"$f":"(B233-(Calcoli!$B$8/B233))/'Acido - Base forte'!$F$1","v":-1.7920375464173024E-6},{"$f":"(B233-(Calcoli!$B$8/B233))/'Acido - Base forte'!$F$2","v":-1.7920375464173024E-6}]
[{"$f":"IF((I234*'Acido - Base forte'!$F$3*'Acido - Base forte'!$F$1)/'Acido - Base forte'!$F$2>0,IF((I234*'Acido - Base forte'!$F$3*'Acido - Base forte'!$F$1)/'Acido - Base forte'!$F$2<1.8*Calcoli!$B$13*('Acido - Base forte'!$F$1*'Acido - Base forte'!$F$3/'Acido - Base forte'!$F$2),I234*'Acido - Base forte'!$F$3*'Acido - Base forte'!$F$1/'Acido - Base forte'!$F$2,NA()),NA())","v":40.22438483214524},3.9810717055350702E-8,7.3999999999999879,{"$f":"IF(Calcoli!$B$13=3,B234^Calcoli!$B$13+Calcoli!$B$9*B234^2+Calcoli!$B$9*Calcoli!$B$10*B234+Calcoli!$B$9*Calcoli!$B$10*Calcoli!$B$11,IF(Calcoli!$B$13=2,B234^Calcoli!$B$13+Calcoli!$B$9*B234+Calcoli!$B$9*Calcoli!$B$10,B234^Calcoli!$B$13+Calcoli!$B$9))","v":7.6358196280832265E-10},{"$f":"(Calcoli!$B$9*B234^(Calcoli!$B$13-1))/D234","v":0.39102597030579817},{"$f":"IF(Calcoli!$B$13>=2, (Calcoli!$B$9*Calcoli!$B$10*B234^(Calcoli!$B$13-2))/D234,NA())","v":0.60897195409096661},{"$f":"IF(Calcoli!$B$13>=3,(Calcoli!$B$9*Calcoli!$B$10*Calcoli!$B$11*B234^(Calcoli!$B$13-3))/D234,NA())","v":{"$error":"#N/A"}},{"$f":"IF(Calcoli!$B$13=3,(E234+F234*2+G234*3),IF(Calcoli!$B$13=2,(E234+F234*2),E234))","v":1.6089698784877313},1.60897539328581,{"$f":"(B234-(Calcoli!$B$8/B234))/'Acido - Base forte'!$F$1","v":-2.1137792609560111E-6},{"$f":"(B234-(Calcoli!$B$8/B234))/'Acido - Base forte'!$F$2","v":-2.1137792609560111E-6}]
[{"$f":"IF((I235*'Acido - Base forte'!$F$3*'Acido - Base forte'!$F$1)/'Acido - Base forte'!$F$2>0,IF((I235*'Acido - Base forte'!$F$3*'Acido - Base forte'!$F$1)/'Acido - Base forte'!$F$2<1.8*Calcoli!$B$13*('Acido - Base forte'!$F$1*'Acido - Base forte'!$F$3/'Acido - Base forte'!$F$2),I235*'Acido - Base forte'!$F$3*'Acido - Base forte'!$F$1/'Acido - Base forte'!$F$2,NA()),NA())","v":40.900571102822667},3.5481338923358431E-8,7.4499999999999877,{"$f":"IF(Calcoli!$B$13=3,B235^Calcoli!$B$13+Calcoli!$B$9*B235^2+Calcoli!$B$9*Calcoli!$B$10*B235+Calcoli!$B$9*Calcoli!$B$10*Calcoli!$B$11,IF(Calcoli!$B$13=2,B235^Calcoli!$B$13+Calcoli!$B$9*B235+Calcoli!$B$9*Calcoli!$B$10,B235^Calcoli!$B$13+Calcoli!$B$9))","v":7.3111130085060003E-10},{"$f":"(Calcoli!$B$9*B235^(Calcoli!$B$13-1))/D235","v":0.36398020604467013},{"$f":"IF(Calcoli!$B$13>=2, (Calcoli!$B$9*Calcoli!$B$10*B235^(Calcoli!$B$13-2))/D235,NA())","v":0.63601807202132288},{"$f":"IF(Calcoli!$B$13>=3,(Calcoli!$B$9*Calcoli!$B$10*Calcoli!$B$11*B235^(Calcoli!$B$13-3))/D235,NA())","v":{"$error":"#N/A"}},{"$f":"IF(Calcoli!$B$13=3,(E235+F235*2+G235*3),IF(Calcoli!$B$13=2,(E235+F235*2),E235))","v":1.6360163500873159},1.6360228441129068,{"$f":"(B235-(Calcoli!$B$8/B235))/'Acido - Base forte'!$F$1","v":-2.4635695420307988E-6},{"$f":"(B235-(Calcoli!$B$8/B235))/'Acido - Base forte'!$F$2","v":-2.4635695420307988E-6}]
[{"$f":"IF((I236*'Acido - Base forte'!$F$3*'Acido - Base forte'!$F$1)/'Acido - Base forte'!$F$2>0,IF((I236*'Acido - Base forte'!$F$3*'Acido - Base forte'!$F$1)/'Acido - Base forte'!$F$2<1.8*Calcoli!$B$13*('Acido - Base forte'!$F$1*'Acido - Base forte'!$F$3/'Acido - Base forte'!$F$2),I236*'Acido - Base forte'!$F$3*'Acido - Base forte'!$F$1/'Acido - Base forte'!$F$2,NA()),NA())","v":41.555930615000882},3.1622776601684599E-8,7.4999999999999876,{"$f":"IF(Calcoli!$B$13=3,B236^Calcoli!$B$13+Calcoli!$B$9*B236^2+Calcoli!$B$9*Calcoli!$B$10*B236+Calcoli!$B$9*Calcoli!$B$10*Calcoli!$B$11,IF(Calcoli!$B$13=2,B236^Calcoli!$B$13+Calcoli!$B$9*B236+Calcoli!$B$9*Calcoli!$B$10,B236^Calcoli!$B$13+Calcoli!$B$9))","v":7.0217182451263452E-10},{"$f":"(Calcoli!$B$9*B236^(Calcoli!$B$13-1))/D236","v":0.33776750395425037},{"$f":"IF(Calcoli!$B$13>=2, (Calcoli!$B$9*Calcoli!$B$10*B236^(Calcoli!$B$13-2))/D236,NA())","v":0.66223107189290675},{"$f":"IF(Calcoli!$B$13>=3,(Calcoli!$B$9*Calcoli!$B$10*Calcoli!$B$11*B236^(Calcoli!$B$13-3))/D236,NA())","v":{"$error":"#N/A"}},{"$f":"IF(Calcoli!$B$13=3,(E236+F236*2+G236*3),IF(Calcoli!$B$13=2,(E236+F236*2),E236))","v":1.6622296477400638},1.6622372246000352,{"$f":"(B236-(Calcoli!$B$8/B236))/'Acido - Base forte'!$F$1","v":-2.8460498941514528E-6},{"$f":"(B236-(Calcoli!$B$8/B236))/'Acido - Base forte'!$F$2","v":-2.8460498941514528E-6}]
[{"$f":"IF((I237*'Acido - Base forte'!$F$3*'Acido - Base forte'!$F$1)/'Acido - Base forte'!$F$2>0,IF((I237*'Acido - Base forte'!$F$3*'Acido - Base forte'!$F$1)/'Acido - Base forte'!$F$2<1.8*Calcoli!$B$13*('Acido - Base forte'!$F$1*'Acido - Base forte'!$F$3/'Acido - Base forte'!$F$2),I237*'Acido - Base forte'!$F$3*'Acido - Base forte'!$F$1/'Acido - Base forte'!$F$2,NA()),NA())","v":42.187286622488223},2.8183829312645272E-8,7.5499999999999874,{"$f":"IF(Calcoli!$B$13=3,B237^Calcoli!$B$13+Calcoli!$B$9*B237^2+Calcoli!$B$9*Calcoli!$B$10*B237+Calcoli!$B$9*Calcoli!$B$10*Calcoli!$B$11,IF(Calcoli!$B$13=2,B237^Calcoli!$B$13+Calcoli!$B$9*B237+Calcoli!$B$9*Calcoli!$B$10,B237^Calcoli!$B$13+Calcoli!$B$9))","v":6.7637951417307427E-10},{"$f":"(Calcoli!$B$9*B237^(Calcoli!$B$13-1))/D237","v":0.31251496447710453},{"$f":"IF(Calcoli!$B$13>=2, (Calcoli!$B$9*Calcoli!$B$10*B237^(Calcoli!$B$13-2))/D237,NA())","v":0.68748386114043991},{"$f":"IF(Calcoli!$B$13>=3,(Calcoli!$B$9*Calcoli!$B$10*Calcoli!$B$11*B237^(Calcoli!$B$13-3))/D237,NA())","v":{"$error":"#N/A"}},{"$f":"IF(Calcoli!$B$13=3,(E237+F237*2+G237*3),IF(Calcoli!$B$13=2,(E237+F237*2),E237))","v":1.6874826867579844},1.6874914648995289,{"$f":"(B237-(Calcoli!$B$8/B237))/'Acido - Base forte'!$F$1","v":-3.2662955992092093E-6},{"$f":"(B237-(Calcoli!$B$8/B237))/'Acido - Base forte'!$F$2","v":-3.2662955992092093E-6}]
[{"$f":"IF((I238*'Acido - Base forte'!$F$3*'Acido - Base forte'!$F$1)/'Acido - Base forte'!$F$2>0,IF((I238*'Acido - Base forte'!$F$3*'Acido - Base forte'!$F$1)/'Acido - Base forte'!$F$2<1.8*Calcoli!$B$13*('Acido - Base forte'!$F$1*'Acido - Base forte'!$F$3/'Acido - Base forte'!$F$2),I238*'Acido - Base forte'!$F$3*'Acido - Base forte'!$F$1/'Acido - Base forte'!$F$2,NA()),NA())","v":42.791995347546646},2.5118864315096466E-8,7.5999999999999872,{"$f":"IF(Calcoli!$B$13=3,B238^Calcoli!$B$13+Calcoli!$B$9*B238^2+Calcoli!$B$9*Calcoli!$B$10*B238+Calcoli!$B$9*Calcoli!$B$10*Calcoli!$B$11,IF(Calcoli!$B$13=2,B238^Calcoli!$B$13+Calcoli!$B$9*B238+Calcoli!$B$9*Calcoli!$B$10,B238^Calcoli!$B$13+Calcoli!$B$9))","v":6.5339211332056793E-10},{"$f":"(Calcoli!$B$9*B238^(Calcoli!$B$13-1))/D238","v":0.2883283690184284},{"$f":"IF(Calcoli!$B$13>=2, (Calcoli!$B$9*Calcoli!$B$10*B238^(Calcoli!$B$13-2))/D238,NA())","v":0.71167066531741441},{"$f":"IF(Calcoli!$B$13>=3,(Calcoli!$B$9*Calcoli!$B$10*Calcoli!$B$11*B238^(Calcoli!$B$13-3))/D238,NA())","v":{"$error":"#N/A"}},{"$f":"IF(Calcoli!$B$13=3,(E238+F238*2+G238*3),IF(Calcoli!$B$13=2,(E238+F238*2),E238))","v":1.7116696996532572},1.7116798139018659,{"$f":"(B238-(Calcoli!$B$8/B238))/'Acido - Base forte'!$F$1","v":-3.7298830623839023E-6},{"$f":"(B238-(Calcoli!$B$8/B238))/'Acido - Base forte'!$F$2","v":-3.7298830623839023E-6}]
[{"$f":"IF((I239*'Acido - Base forte'!$F$3*'Acido - Base forte'!$F$1)/'Acido - Base forte'!$F$2>0,IF((I239*'Acido - Base forte'!$F$3*'Acido - Base forte'!$F$1)/'Acido - Base forte'!$F$2<1.8*Calcoli!$B$13*('Acido - Base forte'!$F$1*'Acido - Base forte'!$F$3/'Acido - Base forte'!$F$2),I239*'Acido - Base forte'!$F$3*'Acido - Base forte'!$F$1/'Acido - Base forte'!$F$2,NA()),NA())","v":43.367967797299315},2.2387211385683997E-8,7.649999999999987,{"$f":"IF(Calcoli!$B$13=3,B239^Calcoli!$B$13+Calcoli!$B$9*B239^2+Calcoli!$B$9*Calcoli!$B$10*B239+Calcoli!$B$9*Calcoli!$B$10*Calcoli!$B$11,IF(Calcoli!$B$13=2,B239^Calcoli!$B$13+Calcoli!$B$9*B239+Calcoli!$B$9*Calcoli!$B$10,B239^Calcoli!$B$13+Calcoli!$B$9))","v":6.3290458657986359E-10},{"$f":"(Calcoli!$B$9*B239^(Calcoli!$B$13-1))/D239","v":0.26529130765185704},{"$f":"IF(Calcoli!$B$13>=2, (Calcoli!$B$9*Calcoli!$B$10*B239^(Calcoli!$B$13-2))/D239,NA())","v":0.73470790046379852},{"$f":"IF(Calcoli!$B$13>=3,(Calcoli!$B$9*Calcoli!$B$10*Calcoli!$B$11*B239^(Calcoli!$B$13-3))/D239,NA())","v":{"$error":"#N/A"}},{"$f":"IF(Calcoli!$B$13=3,(E239+F239*2+G239*3),IF(Calcoli!$B$13=2,(E239+F239*2),E239))","v":1.7347071085794541},1.7347187118919727,{"$f":"(B239-(Calcoli!$B$8/B239))/'Acido - Base forte'!$F$1","v":-4.2429638076526715E-6},{"$f":"(B239-(Calcoli!$B$8/B239))/'Acido - Base forte'!$F$2","v":-4.2429638076526715E-6}]
[{"$f":"IF((I240*'Acido - Base forte'!$F$3*'Acido - Base forte'!$F$1)/'Acido - Base forte'!$F$2>0,IF((I240*'Acido - Base forte'!$F$3*'Acido - Base forte'!$F$1)/'Acido - Base forte'!$F$2<1.8*Calcoli!$B$13*('Acido - Base forte'!$F$1*'Acido - Base forte'!$F$3/'Acido - Base forte'!$F$2),I240*'Acido - Base forte'!$F$3*'Acido - Base forte'!$F$1/'Acido - Base forte'!$F$2,NA()),NA())","v":43.91366972698642},1.9952623149689342E-8,7.6999999999999869,{"$f":"IF(Calcoli!$B$13=3,B240^Calcoli!$B$13+Calcoli!$B$9*B240^2+Calcoli!$B$9*Calcoli!$B$10*B240+Calcoli!$B$9*Calcoli!$B$10*Calcoli!$B$11,IF(Calcoli!$B$13=2,B240^Calcoli!$B$13+Calcoli!$B$9*B240+Calcoli!$B$9*Calcoli!$B$10,B240^Calcoli!$B$13+Calcoli!$B$9))","v":6.1464507172984063E-10},{"$f":"(Calcoli!$B$9*B240^(Calcoli!$B$13-1))/D240","v":0.24346518097267764},{"$f":"IF(Calcoli!$B$13>=2, (Calcoli!$B$9*Calcoli!$B$10*B240^(Calcoli!$B$13-2))/D240,NA())","v":0.75653417132478817},{"$f":"IF(Calcoli!$B$13>=3,(Calcoli!$B$9*Calcoli!$B$10*Calcoli!$B$11*B240^(Calcoli!$B$13-3))/D240,NA())","v":{"$error":"#N/A"}},{"$f":"IF(Calcoli!$B$13=3,(E240+F240*2+G240*3),IF(Calcoli!$B$13=2,(E240+F240*2),E240))","v":1.7565335236222539},1.7565467890794568,{"$f":"(B240-(Calcoli!$B$8/B240))/'Acido - Base forte'!$F$1","v":-4.8123461047756916E-6},{"$f":"(B240-(Calcoli!$B$8/B240))/'Acido - Base forte'!$F$2","v":-4.8123461047756916E-6}]
[{"$f":"IF((I241*'Acido - Base forte'!$F$3*'Acido - Base forte'!$F$1)/'Acido - Base forte'!$F$2>0,IF((I241*'Acido - Base forte'!$F$3*'Acido - Base forte'!$F$1)/'Acido - Base forte'!$F$2<1.8*Calcoli!$B$13*('Acido - Base forte'!$F$1*'Acido - Base forte'!$F$3/'Acido - Base forte'!$F$2),I241*'Acido - Base forte'!$F$3*'Acido - Base forte'!$F$1/'Acido - Base forte'!$F$2,NA()),NA())","v":44.428102365331526},1.7782794100389725E-8,7.7499999999999867,{"$f":"IF(Calcoli!$B$13=3,B241^Calcoli!$B$13+Calcoli!$B$9*B241^2+Calcoli!$B$9*Calcoli!$B$10*B241+Calcoli!$B$9*Calcoli!$B$10*Calcoli!$B$11,IF(Calcoli!$B$13=2,B241^Calcoli!$B$13+Calcoli!$B$9*B241+Calcoli!$B$9*Calcoli!$B$10,B241^Calcoli!$B$13+Calcoli!$B$9))","v":5.9837127198068888E-10},{"$f":"(Calcoli!$B$9*B241^(Calcoli!$B$13-1))/D241","v":0.22288997149119014},{"$f":"IF(Calcoli!$B$13>=2, (Calcoli!$B$9*Calcoli!$B$10*B241^(Calcoli!$B$13-2))/D241,NA())","v":0.77710950002794732},{"$f":"IF(Calcoli!$B$13>=3,(Calcoli!$B$9*Calcoli!$B$10*Calcoli!$B$11*B241^(Calcoli!$B$13-3))/D241,NA())","v":{"$error":"#N/A"}},{"$f":"IF(Calcoli!$B$13=3,(E241+F241*2+G241*3),IF(Calcoli!$B$13=2,(E241+F241*2),E241))","v":1.7771089715470847},1.7771240946132609,{"$f":"(B241-(Calcoli!$B$8/B241))/'Acido - Base forte'!$F$1","v":-5.4455853108994358E-6},{"$f":"(B241-(Calcoli!$B$8/B241))/'Acido - Base forte'!$F$2","v":-5.4455853108994358E-6}]
[{"$f":"IF((I242*'Acido - Base forte'!$F$3*'Acido - Base forte'!$F$1)/'Acido - Base forte'!$F$2>0,IF((I242*'Acido - Base forte'!$F$3*'Acido - Base forte'!$F$1)/'Acido - Base forte'!$F$2<1.8*Calcoli!$B$13*('Acido - Base forte'!$F$1*'Acido - Base forte'!$F$3/'Acido - Base forte'!$F$2),I242*'Acido - Base forte'!$F$3*'Acido - Base forte'!$F$1/'Acido - Base forte'!$F$2,NA()),NA())","v":44.910767363072864},1.5848931924611583E-8,7.7999999999999865,{"$f":"IF(Calcoli!$B$13=3,B242^Calcoli!$B$13+Calcoli!$B$9*B242^2+Calcoli!$B$9*Calcoli!$B$10*B242+Calcoli!$B$9*Calcoli!$B$10*Calcoli!$B$11,IF(Calcoli!$B$13=2,B242^Calcoli!$B$13+Calcoli!$B$9*B242+Calcoli!$B$9*Calcoli!$B$10,B242^Calcoli!$B$13+Calcoli!$B$9))","v":5.8386724062323001E-10},{"$f":"(Calcoli!$B$9*B242^(Calcoli!$B$13-1))/D242","v":0.20358564612685959},{"$f":"IF(Calcoli!$B$13>=2, (Calcoli!$B$9*Calcoli!$B$10*B242^(Calcoli!$B$13-2))/D242,NA())","v":0.79641392365780095},{"$f":"IF(Calcoli!$B$13>=3,(Calcoli!$B$9*Calcoli!$B$10*Calcoli!$B$11*B242^(Calcoli!$B$13-3))/D242,NA())","v":{"$error":"#N/A"}},{"$f":"IF(Calcoli!$B$13=3,(E242+F242*2+G242*3),IF(Calcoli!$B$13=2,(E242+F242*2),E242))","v":1.7964134934424614},1.7964306945229147,{"$f":"(B242-(Calcoli!$B$8/B242))/'Acido - Base forte'!$F$1","v":-6.1510841255556377E-6},{"$f":"(B242-(Calcoli!$B$8/B242))/'Acido - Base forte'!$F$2","v":-6.1510841255556377E-6}]
[{"$f":"IF((I243*'Acido - Base forte'!$F$3*'Acido - Base forte'!$F$1)/'Acido - Base forte'!$F$2>0,IF((I243*'Acido - Base forte'!$F$3*'Acido - Base forte'!$F$1)/'Acido - Base forte'!$F$2<1.8*Calcoli!$B$13*('Acido - Base forte'!$F$1*'Acido - Base forte'!$F$3/'Acido - Base forte'!$F$2),I243*'Acido - Base forte'!$F$3*'Acido - Base forte'!$F$1/'Acido - Base forte'!$F$2,NA()),NA())","v":45.361619857829197},1.4125375446227949E-8,7.8499999999999863,{"$f":"IF(Calcoli!$B$13=3,B243^Calcoli!$B$13+Calcoli!$B$9*B243^2+Calcoli!$B$9*Calcoli!$B$10*B243+Calcoli!$B$9*Calcoli!$B$10*Calcoli!$B$11,IF(Calcoli!$B$13=2,B243^Calcoli!$B$13+Calcoli!$B$9*B243+Calcoli!$B$9*Calcoli!$B$10,B243^Calcoli!$B$13+Calcoli!$B$9))","v":5.7094051537294111E-10},{"$f":"(Calcoli!$B$9*B243^(Calcoli!$B$13-1))/D243","v":0.18555403407920507},{"$f":"IF(Calcoli!$B$13>=2, (Calcoli!$B$9*Calcoli!$B$10*B243^(Calcoli!$B$13-2))/D243,NA())","v":0.81444561645140867},{"$f":"IF(Calcoli!$B$13>=3,(Calcoli!$B$9*Calcoli!$B$10*Calcoli!$B$11*B243^(Calcoli!$B$13-3))/D243,NA())","v":{"$error":"#N/A"}},{"$f":"IF(Calcoli!$B$13=3,(E243+F243*2+G243*3),IF(Calcoli!$B$13=2,(E243+F243*2),E243))","v":1.8144452669820224},1.8144647943131678,{"$f":"(B243-(Calcoli!$B$8/B243))/'Acido - Base forte'!$F$1","v":-6.9382040893788963E-6},{"$f":"(B243-(Calcoli!$B$8/B243))/'Acido - Base forte'!$F$2","v":-6.9382040893788963E-6}]
[{"$f":"IF((I244*'Acido - Base forte'!$F$3*'Acido - Base forte'!$F$1)/'Acido - Base forte'!$F$2>0,IF((I244*'Acido - Base forte'!$F$3*'Acido - Base forte'!$F$1)/'Acido - Base forte'!$F$2<1.8*Calcoli!$B$13*('Acido - Base forte'!$F$1*'Acido - Base forte'!$F$3/'Acido - Base forte'!$F$2),I244*'Acido - Base forte'!$F$3*'Acido - Base forte'!$F$1/'Acido - Base forte'!$F$2,NA()),NA())","v":45.781013603561824},1.2589254117942042E-8,7.8999999999999861,{"$f":"IF(Calcoli!$B$13=3,B244^Calcoli!$B$13+Calcoli!$B$9*B244^2+Calcoli!$B$9*Calcoli!$B$10*B244+Calcoli!$B$9*Calcoli!$B$10*Calcoli!$B$11,IF(Calcoli!$B$13=2,B244^Calcoli!$B$13+Calcoli!$B$9*B244+Calcoli!$B$9*Calcoli!$B$10,B244^Calcoli!$B$13+Calcoli!$B$9))","v":5.594195643738846E-10},{"$f":"(Calcoli!$B$9*B244^(Calcoli!$B$13-1))/D244","v":0.16878102214791452},{"$f":"IF(Calcoli!$B$13>=2, (Calcoli!$B$9*Calcoli!$B$10*B244^(Calcoli!$B$13-2))/D244,NA())","v":0.83121869454179498},{"$f":"IF(Calcoli!$B$13>=3,(Calcoli!$B$9*Calcoli!$B$10*Calcoli!$B$11*B244^(Calcoli!$B$13-3))/D244,NA())","v":{"$error":"#N/A"}},{"$f":"IF(Calcoli!$B$13=3,(E244+F244*2+G244*3),IF(Calcoli!$B$13=2,(E244+F244*2),E244))","v":1.8312184112315044},1.8312405441424728,{"$f":"(B244-(Calcoli!$B$8/B244))/'Acido - Base forte'!$F$1","v":-7.8173898060631603E-6},{"$f":"(B244-(Calcoli!$B$8/B244))/'Acido - Base forte'!$F$2","v":-7.8173898060631603E-6}]
[{"$f":"IF((I245*'Acido - Base forte'!$F$3*'Acido - Base forte'!$F$1)/'Acido - Base forte'!$F$2>0,IF((I245*'Acido - Base forte'!$F$3*'Acido - Base forte'!$F$1)/'Acido - Base forte'!$F$2<1.8*Calcoli!$B$13*('Acido - Base forte'!$F$1*'Acido - Base forte'!$F$3/'Acido - Base forte'!$F$2),I245*'Acido - Base forte'!$F$3*'Acido - Base forte'!$F$1/'Acido - Base forte'!$F$2,NA()),NA())","v":46.169641862782349},1.1220184543019969E-8,7.949999999999986,{"$f":"IF(Calcoli!$B$13=3,B245^Calcoli!$B$13+Calcoli!$B$9*B245^2+Calcoli!$B$9*Calcoli!$B$10*B245+Calcoli!$B$9*Calcoli!$B$10*Calcoli!$B$11,IF(Calcoli!$B$13=2,B245^Calcoli!$B$13+Calcoli!$B$9*B245+Calcoli!$B$9*Calcoli!$B$10,B245^Calcoli!$B$13+Calcoli!$B$9))","v":5.4915150996519091E-10},{"$f":"(Calcoli!$B$9*B245^(Calcoli!$B$13-1))/D245","v":0.15323891957974198},{"$f":"IF(Calcoli!$B$13>=2, (Calcoli!$B$9*Calcoli!$B$10*B245^(Calcoli!$B$13-2))/D245,NA())","v":0.84676085117106381},{"$f":"IF(Calcoli!$B$13>=3,(Calcoli!$B$9*Calcoli!$B$10*Calcoli!$B$11*B245^(Calcoli!$B$13-3))/D245,NA())","v":{"$error":"#N/A"}},{"$f":"IF(Calcoli!$B$13=3,(E245+F245*2+G245*3),IF(Calcoli!$B$13=2,(E245+F245*2),E245))","v":1.8467606219218695},1.8467856745112941,{"$f":"(B245-(Calcoli!$B$8/B245))/'Acido - Base forte'!$F$1","v":-8.8003075359069887E-6},{"$f":"(B245-(Calcoli!$B$8/B245))/'Acido - Base forte'!$F$2","v":-8.8003075359069887E-6}]
[{"$f":"IF((I246*'Acido - Base forte'!$F$3*'Acido - Base forte'!$F$1)/'Acido - Base forte'!$F$2>0,IF((I246*'Acido - Base forte'!$F$3*'Acido - Base forte'!$F$1)/'Acido - Base forte'!$F$2<1.8*Calcoli!$B$13*('Acido - Base forte'!$F$1*'Acido - Base forte'!$F$3/'Acido - Base forte'!$F$2),I246*'Acido - Base forte'!$F$3*'Acido - Base forte'!$F$1/'Acido - Base forte'!$F$2,NA()),NA())","v":46.528477293449342},1.0000000000000303E-8,7.9999999999999858,{"$f":"IF(Calcoli!$B$13=3,B246^Calcoli!$B$13+Calcoli!$B$9*B246^2+Calcoli!$B$9*Calcoli!$B$10*B246+Calcoli!$B$9*Calcoli!$B$10*Calcoli!$B$11,IF(Calcoli!$B$13=2,B246^Calcoli!$B$13+Calcoli!$B$9*B246+Calcoli!$B$9*Calcoli!$B$10,B246^Calcoli!$B$13+Calcoli!$B$9))","v":5.400001000000023E-10},{"$f":"(Calcoli!$B$9*B246^(Calcoli!$B$13-1))/D246","v":0.13888886316873267},{"$f":"IF(Calcoli!$B$13>=2, (Calcoli!$B$9*Calcoli!$B$10*B246^(Calcoli!$B$13-2))/D246,NA())","v":0.8611109516461164},{"$f":"IF(Calcoli!$B$13>=3,(Calcoli!$B$9*Calcoli!$B$10*Calcoli!$B$11*B246^(Calcoli!$B$13-3))/D246,NA())","v":{"$error":"#N/A"}},{"$f":"IF(Calcoli!$B$13=3,(E246+F246*2+G246*3),IF(Calcoli!$B$13=2,(E246+F246*2),E246))","v":1.8611107664609654},1.8611390917379735,{"$f":"(B246-(Calcoli!$B$8/B246))/'Acido - Base forte'!$F$1","v":-9.8999999999996935E-6},{"$f":"(B246-(Calcoli!$B$8/B246))/'Acido - Base forte'!$F$2","v":-9.8999999999996935E-6}]
[{"$f":"IF((I247*'Acido - Base forte'!$F$3*'Acido - Base forte'!$F$1)/'Acido - Base forte'!$F$2>0,IF((I247*'Acido - Base forte'!$F$3*'Acido - Base forte'!$F$1)/'Acido - Base forte'!$F$2<1.8*Calcoli!$B$13*('Acido - Base forte'!$F$1*'Acido - Base forte'!$F$3/'Acido - Base forte'!$F$2),I247*'Acido - Base forte'!$F$3*'Acido - Base forte'!$F$1/'Acido - Base forte'!$F$2,NA()),NA())","v":46.858713470794342},8.9125093813377293E-9,8.0499999999999865,{"$f":"IF(Calcoli!$B$13=3,B247^Calcoli!$B$13+Calcoli!$B$9*B247^2+Calcoli!$B$9*Calcoli!$B$10*B247+Calcoli!$B$9*Calcoli!$B$10*Calcoli!$B$11,IF(Calcoli!$B$13=2,B247^Calcoli!$B$13+Calcoli!$B$9*B247+Calcoli!$B$9*Calcoli!$B$10,B247^Calcoli!$B$13+Calcoli!$B$9))","v":5.318438997928564E-10},{"$f":"(Calcoli!$B$9*B247^(Calcoli!$B$13-1))/D247","v":0.12568315700540597},{"$f":"IF(Calcoli!$B$13>=2, (Calcoli!$B$9*Calcoli!$B$10*B247^(Calcoli!$B$13-2))/D247,NA())","v":0.87431669364095199},{"$f":"IF(Calcoli!$B$13>=3,(Calcoli!$B$9*Calcoli!$B$10*Calcoli!$B$11*B247^(Calcoli!$B$13-3))/D247,NA())","v":{"$error":"#N/A"}},{"$f":"IF(Calcoli!$B$13=3,(E247+F247*2+G247*3),IF(Calcoli!$B$13=2,(E247+F247*2),E247))","v":1.87431654428731},1.8743485388317735,{"$f":"(B247-(Calcoli!$B$8/B247))/'Acido - Base forte'!$F$1","v":-1.1131059449205911E-5},{"$f":"(B247-(Calcoli!$B$8/B247))/'Acido - Base forte'!$F$2","v":-1.1131059449205911E-5}]
[{"$f":"IF((I248*'Acido - Base forte'!$F$3*'Acido - Base forte'!$F$1)/'Acido - Base forte'!$F$2>0,IF((I248*'Acido - Base forte'!$F$3*'Acido - Base forte'!$F$1)/'Acido - Base forte'!$F$2<1.8*Calcoli!$B$13*('Acido - Base forte'!$F$1*'Acido - Base forte'!$F$3/'Acido - Base forte'!$F$2),I248*'Acido - Base forte'!$F$3*'Acido - Base forte'!$F$1/'Acido - Base forte'!$F$2,NA()),NA())","v":47.161710047546649},7.9432823472430337E-9,8.0999999999999872,{"$f":"IF(Calcoli!$B$13=3,B248^Calcoli!$B$13+Calcoli!$B$9*B248^2+Calcoli!$B$9*Calcoli!$B$10*B248+Calcoli!$B$9*Calcoli!$B$10*Calcoli!$B$11,IF(Calcoli!$B$13=2,B248^Calcoli!$B$13+Calcoli!$B$9*B248+Calcoli!$B$9*Calcoli!$B$10,B248^Calcoli!$B$13+Calcoli!$B$9))","v":5.2457468070005716E-10},{"$f":"(Calcoli!$B$9*B248^(Calcoli!$B$13-1))/D248","v":0.11356746674242651},{"$f":"IF(Calcoli!$B$13>=2, (Calcoli!$B$9*Calcoli!$B$10*B248^(Calcoli!$B$13-2))/D248,NA())","v":0.88643241297777975},{"$f":"IF(Calcoli!$B$13>=3,(Calcoli!$B$9*Calcoli!$B$10*Calcoli!$B$11*B248^(Calcoli!$B$13-3))/D248,NA())","v":{"$error":"#N/A"}},{"$f":"IF(Calcoli!$B$13=3,(E248+F248*2+G248*3),IF(Calcoli!$B$13=2,(E248+F248*2),E248))","v":1.886432292697986},1.8864684019018658,{"$f":"(B248-(Calcoli!$B$8/B248))/'Acido - Base forte'!$F$1","v":-1.2509821294468892E-5},{"$f":"(B248-(Calcoli!$B$8/B248))/'Acido - Base forte'!$F$2","v":-1.2509821294468892E-5}]
[{"$f":"IF((I249*'Acido - Base forte'!$F$3*'Acido - Base forte'!$F$1)/'Acido - Base forte'!$F$2>0,IF((I249*'Acido - Base forte'!$F$3*'Acido - Base forte'!$F$1)/'Acido - Base forte'!$F$2<1.8*Calcoli!$B$13*('Acido - Base forte'!$F$1*'Acido - Base forte'!$F$3/'Acido - Base forte'!$F$2),I249*'Acido - Base forte'!$F$3*'Acido - Base forte'!$F$1/'Acido - Base forte'!$F$2,NA()),NA())","v":47.438942937652165},7.0794578438415531E-9,8.1499999999999879,{"$f":"IF(Calcoli!$B$13=3,B249^Calcoli!$B$13+Calcoli!$B$9*B249^2+Calcoli!$B$9*Calcoli!$B$10*B249+Calcoli!$B$9*Calcoli!$B$10*Calcoli!$B$11,IF(Calcoli!$B$13=2,B249^Calcoli!$B$13+Calcoli!$B$9*B249+Calcoli!$B$9*Calcoli!$B$10,B249^Calcoli!$B$13+Calcoli!$B$9))","v":5.1809598394753499E-10},{"$f":"(Calcoli!$B$9*B249^(Calcoli!$B$13-1))/D249","v":0.10248281298043879},{"$f":"IF(Calcoli!$B$13>=2, (Calcoli!$B$9*Calcoli!$B$10*B249^(Calcoli!$B$13-2))/D249,NA())","v":0.89751709028319404},{"$f":"IF(Calcoli!$B$13>=3,(Calcoli!$B$9*Calcoli!$B$10*Calcoli!$B$11*B249^(Calcoli!$B$13-3))/D249,NA())","v":{"$error":"#N/A"}},{"$f":"IF(Calcoli!$B$13=3,(E249+F249*2+G249*3),IF(Calcoli!$B$13=2,(E249+F249*2),E249))","v":1.8975169935468268},1.8975577175060865,{"$f":"(B249-(Calcoli!$B$8/B249))/'Acido - Base forte'!$F$1","v":-1.4054580867788779E-5},{"$f":"(B249-(Calcoli!$B$8/B249))/'Acido - Base forte'!$F$2","v":-1.4054580867788779E-5}]
[{"$f":"IF((I250*'Acido - Base forte'!$F$3*'Acido - Base forte'!$F$1)/'Acido - Base forte'!$F$2>0,IF((I250*'Acido - Base forte'!$F$3*'Acido - Base forte'!$F$1)/'Acido - Base forte'!$F$2<1.8*Calcoli!$B$13*('Acido - Base forte'!$F$1*'Acido - Base forte'!$F$3/'Acido - Base forte'!$F$2),I250*'Acido - Base forte'!$F$3*'Acido - Base forte'!$F$1/'Acido - Base forte'!$F$2,NA()),NA())","v":47.691960352694402},6.3095734448020909E-9,8.1999999999999886,{"$f":"IF(Calcoli!$B$13=3,B250^Calcoli!$B$13+Calcoli!$B$9*B250^2+Calcoli!$B$9*Calcoli!$B$10*B250+Calcoli!$B$9*Calcoli!$B$10*Calcoli!$B$11,IF(Calcoli!$B$13=2,B250^Calcoli!$B$13+Calcoli!$B$9*B250+Calcoli!$B$9*Calcoli!$B$10,B250^Calcoli!$B$13+Calcoli!$B$9))","v":5.1232184064673268E-10},{"$f":"(Calcoli!$B$9*B250^(Calcoli!$B$13-1))/D250","v":9.2367330614440926E-2},{"$f":"IF(Calcoli!$B$13>=2, (Calcoli!$B$9*Calcoli!$B$10*B250^(Calcoli!$B$13-2))/D250,NA())","v":0.90763259167909827},{"$f":"IF(Calcoli!$B$13>=3,(Calcoli!$B$9*Calcoli!$B$10*Calcoli!$B$11*B250^(Calcoli!$B$13-3))/D250,NA())","v":{"$error":"#N/A"}},{"$f":"IF(Calcoli!$B$13=3,(E250+F250*2+G250*3),IF(Calcoli!$B$13=2,(E250+F250*2),E250))","v":1.9076325139726376},1.9076784141077763,{"$f":"(B250-(Calcoli!$B$8/B250))/'Acido - Base forte'!$F$1","v":-1.5785836190162714E-5},{"$f":"(B250-(Calcoli!$B$8/B250))/'Acido - Base forte'!$F$2","v":-1.5785836190162714E-5}]
[{"$f":"IF((I251*'Acido - Base forte'!$F$3*'Acido - Base forte'!$F$1)/'Acido - Base forte'!$F$2>0,IF((I251*'Acido - Base forte'!$F$3*'Acido - Base forte'!$F$1)/'Acido - Base forte'!$F$2<1.8*Calcoli!$B$13*('Acido - Base forte'!$F$1*'Acido - Base forte'!$F$3/'Acido - Base forte'!$F$2),I251*'Acido - Base forte'!$F$3*'Acido - Base forte'!$F$1/'Acido - Base forte'!$F$2,NA()),NA())","v":47.922345052464522},5.6234132519036142E-9,8.2499999999999893,{"$f":"IF(Calcoli!$B$13=3,B251^Calcoli!$B$13+Calcoli!$B$9*B251^2+Calcoli!$B$9*Calcoli!$B$10*B251+Calcoli!$B$9*Calcoli!$B$10*Calcoli!$B$11,IF(Calcoli!$B$13=2,B251^Calcoli!$B$13+Calcoli!$B$9*B251+Calcoli!$B$9*Calcoli!$B$10,B251^Calcoli!$B$13+Calcoli!$B$9))","v":5.0717563101205369E-10},{"$f":"(Calcoli!$B$9*B251^(Calcoli!$B$13-1))/D251","v":8.3157779692839273E-2},{"$f":"IF(Calcoli!$B$13>=2, (Calcoli!$B$9*Calcoli!$B$10*B251^(Calcoli!$B$13-2))/D251,NA())","v":0.91684215795641932},{"$f":"IF(Calcoli!$B$13>=3,(Calcoli!$B$9*Calcoli!$B$10*Calcoli!$B$11*B251^(Calcoli!$B$13-3))/D251,NA())","v":{"$error":"#N/A"}},{"$f":"IF(Calcoli!$B$13=3,(E251+F251*2+G251*3),IF(Calcoli!$B$13=2,(E251+F251*2),E251))","v":1.916842095605678},1.9168938020985808,{"$f":"(B251-(Calcoli!$B$8/B251))/'Acido - Base forte'!$F$1","v":-1.7726559967869799E-5},{"$f":"(B251-(Calcoli!$B$8/B251))/'Acido - Base forte'!$F$2","v":-1.7726559967869799E-5}]
[{"$f":"IF((I252*'Acido - Base forte'!$F$3*'Acido - Base forte'!$F$1)/'Acido - Base forte'!$F$2>0,IF((I252*'Acido - Base forte'!$F$3*'Acido - Base forte'!$F$1)/'Acido - Base forte'!$F$2<1.8*Calcoli!$B$13*('Acido - Base forte'!$F$1*'Acido - Base forte'!$F$3/'Acido - Base forte'!$F$2),I252*'Acido - Base forte'!$F$3*'Acido - Base forte'!$F$1/'Acido - Base forte'!$F$2,NA()),NA())","v":48.131682801649092},5.0118723362728355E-9,8.2999999999999901,{"$f":"IF(Calcoli!$B$13=3,B252^Calcoli!$B$13+Calcoli!$B$9*B252^2+Calcoli!$B$9*Calcoli!$B$10*B252+Calcoli!$B$9*Calcoli!$B$10*Calcoli!$B$11,IF(Calcoli!$B$13=2,B252^Calcoli!$B$13+Calcoli!$B$9*B252+Calcoli!$B$9*Calcoli!$B$10,B252^Calcoli!$B$13+Calcoli!$B$9))","v":5.0258906764091058E-10},{"$f":"(Calcoli!$B$9*B252^(Calcoli!$B$13-1))/D252","v":7.4790808121801111E-2},{"$f":"IF(Calcoli!$B$13>=2, (Calcoli!$B$9*Calcoli!$B$10*B252^(Calcoli!$B$13-2))/D252,NA())","v":0.92520914189926795},{"$f":"IF(Calcoli!$B$13>=3,(Calcoli!$B$9*Calcoli!$B$10*Calcoli!$B$11*B252^(Calcoli!$B$13-3))/D252,NA())","v":{"$error":"#N/A"}},{"$f":"IF(Calcoli!$B$13=3,(E252+F252*2+G252*3),IF(Calcoli!$B$13=2,(E252+F252*2),E252))","v":1.9252090919203371},1.9252673120659636,{"$f":"(B252-(Calcoli!$B$8/B252))/'Acido - Base forte'!$F$1","v":-1.9902504426325617E-5},{"$f":"(B252-(Calcoli!$B$8/B252))/'Acido - Base forte'!$F$2","v":-1.9902504426325617E-5}]
[{"$f":"IF((I253*'Acido - Base forte'!$F$3*'Acido - Base forte'!$F$1)/'Acido - Base forte'!$F$2>0,IF((I253*'Acido - Base forte'!$F$3*'Acido - Base forte'!$F$1)/'Acido - Base forte'!$F$2<1.8*Calcoli!$B$13*('Acido - Base forte'!$F$1*'Acido - Base forte'!$F$3/'Acido - Base forte'!$F$2),I253*'Acido - Base forte'!$F$3*'Acido - Base forte'!$F$1/'Acido - Base forte'!$F$2,NA()),NA())","v":48.321536751972779},4.4668359215097178E-9,8.3499999999999908,{"$f":"IF(Calcoli!$B$13=3,B253^Calcoli!$B$13+Calcoli!$B$9*B253^2+Calcoli!$B$9*Calcoli!$B$10*B253+Calcoli!$B$9*Calcoli!$B$10*Calcoli!$B$11,IF(Calcoli!$B$13=2,B253^Calcoli!$B$13+Calcoli!$B$9*B253+Calcoli!$B$9*Calcoli!$B$10,B253^Calcoli!$B$13+Calcoli!$B$9))","v":4.9850128936394603E-10},{"$f":"(Calcoli!$B$9*B253^(Calcoli!$B$13-1))/D253","v":6.7203977454237368E-2},{"$f":"IF(Calcoli!$B$13>=2, (Calcoli!$B$9*Calcoli!$B$10*B253^(Calcoli!$B$13-2))/D253,NA())","v":0.93279598252054385},{"$f":"IF(Calcoli!$B$13>=3,(Calcoli!$B$9*Calcoli!$B$10*Calcoli!$B$11*B253^(Calcoli!$B$13-3))/D253,NA())","v":{"$error":"#N/A"}},{"$f":"IF(Calcoli!$B$13=3,(E253+F253*2+G253*3),IF(Calcoli!$B$13=2,(E253+F253*2),E253))","v":1.9327959424953252},1.9328614700789111,{"$f":"(B253-(Calcoli!$B$8/B253))/'Acido - Base forte'!$F$1","v":-2.2342543026467861E-5},{"$f":"(B253-(Calcoli!$B$8/B253))/'Acido - Base forte'!$F$2","v":-2.2342543026467861E-5}]
[{"$f":"IF((I254*'Acido - Base forte'!$F$3*'Acido - Base forte'!$F$1)/'Acido - Base forte'!$F$2>0,IF((I254*'Acido - Base forte'!$F$3*'Acido - Base forte'!$F$1)/'Acido - Base forte'!$F$2<1.8*Calcoli!$B$13*('Acido - Base forte'!$F$1*'Acido - Base forte'!$F$3/'Acido - Base forte'!$F$2),I254*'Acido - Base forte'!$F$3*'Acido - Base forte'!$F$1/'Acido - Base forte'!$F$2,NA()),NA())","v":48.493427284239075},3.9810717055350376E-9,8.3999999999999915,{"$f":"IF(Calcoli!$B$13=3,B254^Calcoli!$B$13+Calcoli!$B$9*B254^2+Calcoli!$B$9*Calcoli!$B$10*B254+Calcoli!$B$9*Calcoli!$B$10*Calcoli!$B$11,IF(Calcoli!$B$13=2,B254^Calcoli!$B$13+Calcoli!$B$9*B254+Calcoli!$B$9*Calcoli!$B$10,B254^Calcoli!$B$13+Calcoli!$B$9))","v":4.9485805364044471E-10},{"$f":"(Calcoli!$B$9*B254^(Calcoli!$B$13-1))/D254","v":6.0336570400058832E-2},{"$f":"IF(Calcoli!$B$13>=2, (Calcoli!$B$9*Calcoli!$B$10*B254^(Calcoli!$B$13-2))/D254,NA())","v":0.93966339757271278},{"$f":"IF(Calcoli!$B$13>=3,(Calcoli!$B$9*Calcoli!$B$10*Calcoli!$B$11*B254^(Calcoli!$B$13-3))/D254,NA())","v":{"$error":"#N/A"}},{"$f":"IF(Calcoli!$B$13=3,(E254+F254*2+G254*3),IF(Calcoli!$B$13=2,(E254+F254*2),E254))","v":1.9396633655454845},1.9397370913695631,{"$f":"(B254-(Calcoli!$B$8/B254))/'Acido - Base forte'!$F$1","v":-2.5079053598040036E-5},{"$f":"(B254-(Calcoli!$B$8/B254))/'Acido - Base forte'!$F$2","v":-2.5079053598040036E-5}]
[{"$f":"IF((I255*'Acido - Base forte'!$F$3*'Acido - Base forte'!$F$1)/'Acido - Base forte'!$F$2>0,IF((I255*'Acido - Base forte'!$F$3*'Acido - Base forte'!$F$1)/'Acido - Base forte'!$F$2<1.8*Calcoli!$B$13*('Acido - Base forte'!$F$1*'Acido - Base forte'!$F$3/'Acido - Base forte'!$F$2),I255*'Acido - Base forte'!$F$3*'Acido - Base forte'!$F$1/'Acido - Base forte'!$F$2,NA()),NA())","v":48.648816734210286},3.5481338923358141E-9,8.4499999999999922,{"$f":"IF(Calcoli!$B$13=3,B255^Calcoli!$B$13+Calcoli!$B$9*B255^2+Calcoli!$B$9*Calcoli!$B$10*B255+Calcoli!$B$9*Calcoli!$B$10*Calcoli!$B$11,IF(Calcoli!$B$13=2,B255^Calcoli!$B$13+Calcoli!$B$9*B255+Calcoli!$B$9*Calcoli!$B$10,B255^Calcoli!$B$13+Calcoli!$B$9))","v":4.9161101678177268E-10},{"$f":"(Calcoli!$B$9*B255^(Calcoli!$B$13-1))/D255","v":5.4130203116117909E-2},{"$f":"IF(Calcoli!$B$13>=2, (Calcoli!$B$9*Calcoli!$B$10*B255^(Calcoli!$B$13-2))/D255,NA())","v":0.94586977127572103},{"$f":"IF(Calcoli!$B$13>=3,(Calcoli!$B$9*Calcoli!$B$10*Calcoli!$B$11*B255^(Calcoli!$B$13-3))/D255,NA())","v":{"$error":"#N/A"}},{"$f":"IF(Calcoli!$B$13=3,(E255+F255*2+G255*3),IF(Calcoli!$B$13=2,(E255+F255*2),E255))","v":1.94586974566756},1.9459526693684115,{"$f":"(B255-(Calcoli!$B$8/B255))/'Acido - Base forte'!$F$1","v":-2.8148347973720705E-5},{"$f":"(B255-(Calcoli!$B$8/B255))/'Acido - Base forte'!$F$2","v":-2.8148347973720705E-5}]
[{"$f":"IF((I256*'Acido - Base forte'!$F$3*'Acido - Base forte'!$F$1)/'Acido - Base forte'!$F$2>0,IF((I256*'Acido - Base forte'!$F$3*'Acido - Base forte'!$F$1)/'Acido - Base forte'!$F$2<1.8*Calcoli!$B$13*('Acido - Base forte'!$F$1*'Acido - Base forte'!$F$3/'Acido - Base forte'!$F$2),I256*'Acido - Base forte'!$F$3*'Acido - Base forte'!$F$1/'Acido - Base forte'!$F$2,NA()),NA())","v":48.789098375246319},3.1622776601684225E-9,8.4999999999999929,{"$f":"IF(Calcoli!$B$13=3,B256^Calcoli!$B$13+Calcoli!$B$9*B256^2+Calcoli!$B$9*Calcoli!$B$10*B256+Calcoli!$B$9*Calcoli!$B$10*Calcoli!$B$11,IF(Calcoli!$B$13=2,B256^Calcoli!$B$13+Calcoli!$B$9*B256+Calcoli!$B$9*Calcoli!$B$10,B256^Calcoli!$B$13+Calcoli!$B$9))","v":4.8871709245126321E-10},{"$f":"(Calcoli!$B$9*B256^(Calcoli!$B$13-1))/D256","v":4.8529267376970914E-2},{"$f":"IF(Calcoli!$B$13>=2, (Calcoli!$B$9*Calcoli!$B$10*B256^(Calcoli!$B$13-2))/D256,NA())","v":0.9514707121612932},{"$f":"IF(Calcoli!$B$13>=3,(Calcoli!$B$9*Calcoli!$B$10*Calcoli!$B$11*B256^(Calcoli!$B$13-3))/D256,NA())","v":{"$error":"#N/A"}},{"$f":"IF(Calcoli!$B$13=3,(E256+F256*2+G256*3),IF(Calcoli!$B$13=2,(E256+F256*2),E256))","v":1.9514706916995572},1.9515639350098528,{"$f":"(B256-(Calcoli!$B$8/B256))/'Acido - Base forte'!$F$1","v":-3.1591153825081677E-5},{"$f":"(B256-(Calcoli!$B$8/B256))/'Acido - Base forte'!$F$2","v":-3.1591153825081677E-5}]
[{"$f":"IF((I257*'Acido - Base forte'!$F$3*'Acido - Base forte'!$F$1)/'Acido - Base forte'!$F$2>0,IF((I257*'Acido - Base forte'!$F$3*'Acido - Base forte'!$F$1)/'Acido - Base forte'!$F$2<1.8*Calcoli!$B$13*('Acido - Base forte'!$F$1*'Acido - Base forte'!$F$3/'Acido - Base forte'!$F$2),I257*'Acido - Base forte'!$F$3*'Acido - Base forte'!$F$1/'Acido - Base forte'!$F$2,NA()),NA())","v":48.915589024485065},2.8183829312644936E-9,8.5499999999999936,{"$f":"IF(Calcoli!$B$13=3,B257^Calcoli!$B$13+Calcoli!$B$9*B257^2+Calcoli!$B$9*Calcoli!$B$10*B257+Calcoli!$B$9*Calcoli!$B$10*Calcoli!$B$11,IF(Calcoli!$B$13=2,B257^Calcoli!$B$13+Calcoli!$B$9*B257+Calcoli!$B$9*Calcoli!$B$10,B257^Calcoli!$B$13+Calcoli!$B$9))","v":4.8613787992776604E-10},{"$f":"(Calcoli!$B$9*B257^(Calcoli!$B$13-1))/D257","v":4.3481227975126158E-2},{"$f":"IF(Calcoli!$B$13>=2, (Calcoli!$B$9*Calcoli!$B$10*B257^(Calcoli!$B$13-2))/D257,NA())","v":0.95651875568530709},{"$f":"IF(Calcoli!$B$13>=3,(Calcoli!$B$9*Calcoli!$B$10*Calcoli!$B$11*B257^(Calcoli!$B$13-3))/D257,NA())","v":{"$error":"#N/A"}},{"$f":"IF(Calcoli!$B$13=3,(E257+F257*2+G257*3),IF(Calcoli!$B$13=2,(E257+F257*2),E257))","v":1.9565187393457404},1.9566235609794025,{"$f":"(B257-(Calcoli!$B$8/B257))/'Acido - Base forte'!$F$1","v":-3.5453155094044399E-5},{"$f":"(B257-(Calcoli!$B$8/B257))/'Acido - Base forte'!$F$2","v":-3.5453155094044399E-5}]
[{"$f":"IF((I258*'Acido - Base forte'!$F$3*'Acido - Base forte'!$F$1)/'Acido - Base forte'!$F$2>0,IF((I258*'Acido - Base forte'!$F$3*'Acido - Base forte'!$F$1)/'Acido - Base forte'!$F$2<1.8*Calcoli!$B$13*('Acido - Base forte'!$F$1*'Acido - Base forte'!$F$3/'Acido - Base forte'!$F$2),I258*'Acido - Base forte'!$F$3*'Acido - Base forte'!$F$1/'Acido - Base forte'!$F$2,NA()),NA())","v":49.029524664971696},2.511886431509608E-9,8.5999999999999943,{"$f":"IF(Calcoli!$B$13=3,B258^Calcoli!$B$13+Calcoli!$B$9*B258^2+Calcoli!$B$9*Calcoli!$B$10*B258+Calcoli!$B$9*Calcoli!$B$10*Calcoli!$B$11,IF(Calcoli!$B$13=2,B258^Calcoli!$B$13+Calcoli!$B$9*B258+Calcoli!$B$9*Calcoli!$B$10,B258^Calcoli!$B$13+Calcoli!$B$9))","v":4.8383915454589554E-10},{"$f":"(Calcoli!$B$9*B258^(Calcoli!$B$13-1))/D258","v":3.8936799676750906E-2},{"$f":"IF(Calcoli!$B$13>=2, (Calcoli!$B$9*Calcoli!$B$10*B258^(Calcoli!$B$13-2))/D258,NA())","v":0.96106318728260653},{"$f":"IF(Calcoli!$B$13>=3,(Calcoli!$B$9*Calcoli!$B$10*Calcoli!$B$11*B258^(Calcoli!$B$13-3))/D258,NA())","v":{"$error":"#N/A"}},{"$f":"IF(Calcoli!$B$13=3,(E258+F258*2+G258*3),IF(Calcoli!$B$13=2,(E258+F258*2),E258))","v":1.961063174241964},1.9611809865988679,{"$f":"(B258-(Calcoli!$B$8/B258))/'Acido - Base forte'!$F$1","v":-3.9785598191034189E-5},{"$f":"(B258-(Calcoli!$B$8/B258))/'Acido - Base forte'!$F$2","v":-3.9785598191034189E-5}]
[{"$f":"IF((I259*'Acido - Base forte'!$F$3*'Acido - Base forte'!$F$1)/'Acido - Base forte'!$F$2>0,IF((I259*'Acido - Base forte'!$F$3*'Acido - Base forte'!$F$1)/'Acido - Base forte'!$F$2<1.8*Calcoli!$B$13*('Acido - Base forte'!$F$1*'Acido - Base forte'!$F$3/'Acido - Base forte'!$F$2),I259*'Acido - Base forte'!$F$3*'Acido - Base forte'!$F$1/'Acido - Base forte'!$F$2,NA()),NA())","v":49.132058522466856},2.2387211385683576E-9,8.649999999999995,{"$f":"IF(Calcoli!$B$13=3,B259^Calcoli!$B$13+Calcoli!$B$9*B259^2+Calcoli!$B$9*Calcoli!$B$10*B259+Calcoli!$B$9*Calcoli!$B$10*Calcoli!$B$11,IF(Calcoli!$B$13=2,B259^Calcoli!$B$13+Calcoli!$B$9*B259+Calcoli!$B$9*Calcoli!$B$10,B259^Calcoli!$B$13+Calcoli!$B$9))","v":4.8179041355113498E-10},{"$f":"(Calcoli!$B$9*B259^(Calcoli!$B$13-1))/D259","v":3.4850026208503269E-2},{"$f":"IF(Calcoli!$B$13>=2, (Calcoli!$B$9*Calcoli!$B$10*B259^(Calcoli!$B$13-2))/D259,NA())","v":0.96514996338889814},{"$f":"IF(Calcoli!$B$13>=3,(Calcoli!$B$9*Calcoli!$B$10*Calcoli!$B$11*B259^(Calcoli!$B$13-3))/D259,NA())","v":{"$error":"#N/A"}},{"$f":"IF(Calcoli!$B$13=3,(E259+F259*2+G259*3),IF(Calcoli!$B$13=2,(E259+F259*2),E259))","v":1.9651499529862995},1.9652823408986744,{"$f":"(B259-(Calcoli!$B$8/B259))/'Acido - Base forte'!$F$1","v":-4.4645972003710271E-5},{"$f":"(B259-(Calcoli!$B$8/B259))/'Acido - Base forte'!$F$2","v":-4.4645972003710271E-5}]
[{"$f":"IF((I260*'Acido - Base forte'!$F$3*'Acido - Base forte'!$F$1)/'Acido - Base forte'!$F$2>0,IF((I260*'Acido - Base forte'!$F$3*'Acido - Base forte'!$F$1)/'Acido - Base forte'!$F$2<1.8*Calcoli!$B$13*('Acido - Base forte'!$F$1*'Acido - Base forte'!$F$3/'Acido - Base forte'!$F$2),I260*'Acido - Base forte'!$F$3*'Acido - Base forte'!$F$1/'Acido - Base forte'!$F$2,NA()),NA())","v":49.224261093851531},1.9952623149688964E-9,8.6999999999999957,{"$f":"IF(Calcoli!$B$13=3,B260^Calcoli!$B$13+Calcoli!$B$9*B260^2+Calcoli!$B$9*Calcoli!$B$10*B260+Calcoli!$B$9*Calcoli!$B$10*Calcoli!$B$11,IF(Calcoli!$B$13=2,B260^Calcoli!$B$13+Calcoli!$B$9*B260+Calcoli!$B$9*Calcoli!$B$10,B260^Calcoli!$B$13+Calcoli!$B$9))","v":4.7996447134333844E-10},{"$f":"(Calcoli!$B$9*B260^(Calcoli!$B$13-1))/D260","v":3.1178281426505878E-2},{"$f":"IF(Calcoli!$B$13>=2, (Calcoli!$B$9*Calcoli!$B$10*B260^(Calcoli!$B$13-2))/D260,NA())","v":0.96882171027898079},{"$f":"IF(Calcoli!$B$13>=3,(Calcoli!$B$9*Calcoli!$B$10*Calcoli!$B$11*B260^(Calcoli!$B$13-3))/D260,NA())","v":{"$error":"#N/A"}},{"$f":"IF(Calcoli!$B$13=3,(E260+F260*2+G260*3),IF(Calcoli!$B$13=2,(E260+F260*2),E260))","v":1.9688217019844674},1.9689704437540614,{"$f":"(B260-(Calcoli!$B$8/B260))/'Acido - Base forte'!$F$1","v":-5.0098770739577114E-5},{"$f":"(B260-(Calcoli!$B$8/B260))/'Acido - Base forte'!$F$2","v":-5.0098770739577114E-5}]
[{"$f":"IF((I261*'Acido - Base forte'!$F$3*'Acido - Base forte'!$F$1)/'Acido - Base forte'!$F$2>0,IF((I261*'Acido - Base forte'!$F$3*'Acido - Base forte'!$F$1)/'Acido - Base forte'!$F$2<1.8*Calcoli!$B$13*('Acido - Base forte'!$F$1*'Acido - Base forte'!$F$3/'Acido - Base forte'!$F$2),I261*'Acido - Base forte'!$F$3*'Acido - Base forte'!$F$1/'Acido - Base forte'!$F$2,NA()),NA())","v":49.30712168740439},1.7782794100389325E-9,8.7499999999999964,{"$f":"IF(Calcoli!$B$13=3,B261^Calcoli!$B$13+Calcoli!$B$9*B261^2+Calcoli!$B$9*Calcoli!$B$10*B261+Calcoli!$B$9*Calcoli!$B$10*Calcoli!$B$11,IF(Calcoli!$B$13=2,B261^Calcoli!$B$13+Calcoli!$B$9*B261+Calcoli!$B$9*Calcoli!$B$10,B261^Calcoli!$B$13+Calcoli!$B$9))","v":4.783370987375697E-10},{"$f":"(Calcoli!$B$9*B261^(Calcoli!$B$13-1))/D261","v":2.7882210287454894E-2},{"$f":"IF(Calcoli!$B$13>=2, (Calcoli!$B$9*Calcoli!$B$10*B261^(Calcoli!$B$13-2))/D261,NA())","v":0.9721177831015636},{"$f":"IF(Calcoli!$B$13>=3,(Calcoli!$B$9*Calcoli!$B$10*Calcoli!$B$11*B261^(Calcoli!$B$13-3))/D261,NA())","v":{"$error":"#N/A"}},{"$f":"IF(Calcoli!$B$13=3,(E261+F261*2+G261*3),IF(Calcoli!$B$13=2,(E261+F261*2),E261))","v":1.9721177764905822},1.9722848674961755,{"$f":"(B261-(Calcoli!$B$8/B261))/'Acido - Base forte'!$F$1","v":-5.6216349724934212E-5},{"$f":"(B261-(Calcoli!$B$8/B261))/'Acido - Base forte'!$F$2","v":-5.6216349724934212E-5}]
[{"$f":"IF((I262*'Acido - Base forte'!$F$3*'Acido - Base forte'!$F$1)/'Acido - Base forte'!$F$2>0,IF((I262*'Acido - Base forte'!$F$3*'Acido - Base forte'!$F$1)/'Acido - Base forte'!$F$2<1.8*Calcoli!$B$13*('Acido - Base forte'!$F$1*'Acido - Base forte'!$F$3/'Acido - Base forte'!$F$2),I262*'Acido - Base forte'!$F$3*'Acido - Base forte'!$F$1/'Acido - Base forte'!$F$2,NA()),NA())","v":49.381551098940228},1.5848931924611227E-9,8.7999999999999972,{"$f":"IF(Calcoli!$B$13=3,B262^Calcoli!$B$13+Calcoli!$B$9*B262^2+Calcoli!$B$9*Calcoli!$B$10*B262+Calcoli!$B$9*Calcoli!$B$10*Calcoli!$B$11,IF(Calcoli!$B$13=2,B262^Calcoli!$B$13+Calcoli!$B$9*B262+Calcoli!$B$9*Calcoli!$B$10,B262^Calcoli!$B$13+Calcoli!$B$9))","v":4.7688670145534485E-10},{"$f":"(Calcoli!$B$9*B262^(Calcoli!$B$13-1))/D262","v":2.4925624696983666E-2},{"$f":"IF(Calcoli!$B$13>=2, (Calcoli!$B$9*Calcoli!$B$10*B262^(Calcoli!$B$13-2))/D262,NA())","v":0.97507437003575592},{"$f":"IF(Calcoli!$B$13>=3,(Calcoli!$B$9*Calcoli!$B$10*Calcoli!$B$11*B262^(Calcoli!$B$13-3))/D262,NA())","v":{"$error":"#N/A"}},{"$f":"IF(Calcoli!$B$13=3,(E262+F262*2+G262*3),IF(Calcoli!$B$13=2,(E262+F262*2),E262))","v":1.9750743647684954},1.9752620439576087,{"$f":"(B262-(Calcoli!$B$8/B262))/'Acido - Base forte'!$F$1","v":-6.307988551609434E-5},{"$f":"(B262-(Calcoli!$B$8/B262))/'Acido - Base forte'!$F$2","v":-6.307988551609434E-5}]
[{"$f":"IF((I263*'Acido - Base forte'!$F$3*'Acido - Base forte'!$F$1)/'Acido - Base forte'!$F$2>0,IF((I263*'Acido - Base forte'!$F$3*'Acido - Base forte'!$F$1)/'Acido - Base forte'!$F$2<1.8*Calcoli!$B$13*('Acido - Base forte'!$F$1*'Acido - Base forte'!$F$3/'Acido - Base forte'!$F$2),I263*'Acido - Base forte'!$F$3*'Acido - Base forte'!$F$1/'Acido - Base forte'!$F$2,NA()),NA())","v":49.448385108623683},1.4125375446227582E-9,8.8499999999999979,{"$f":"IF(Calcoli!$B$13=3,B263^Calcoli!$B$13+Calcoli!$B$9*B263^2+Calcoli!$B$9*Calcoli!$B$10*B263+Calcoli!$B$9*Calcoli!$B$10*Calcoli!$B$11,IF(Calcoli!$B$13=2,B263^Calcoli!$B$13+Calcoli!$B$9*B263+Calcoli!$B$9*Calcoli!$B$10,B263^Calcoli!$B$13+Calcoli!$B$9))","v":4.7559403357993302E-10},{"$f":"(Calcoli!$B$9*B263^(Calcoli!$B$13-1))/D263","v":2.2275366881553085E-2},{"$f":"IF(Calcoli!$B$13>=2, (Calcoli!$B$9*Calcoli!$B$10*B263^(Calcoli!$B$13-2))/D263,NA())","v":0.97772462892314127},{"$f":"IF(Calcoli!$B$13>=3,(Calcoli!$B$9*Calcoli!$B$10*Calcoli!$B$11*B263^(Calcoli!$B$13-3))/D263,NA())","v":{"$error":"#N/A"}},{"$f":"IF(Calcoli!$B$13=3,(E263+F263*2+G263*3),IF(Calcoli!$B$13=2,(E263+F263*2),E263))","v":1.9777246247278357},1.9779354043449473,{"$f":"(B263-(Calcoli!$B$8/B263))/'Acido - Base forte'!$F$1","v":-7.0780453062967375E-5},{"$f":"(B263-(Calcoli!$B$8/B263))/'Acido - Base forte'!$F$2","v":-7.0780453062967375E-5}]
[{"$f":"IF((I264*'Acido - Base forte'!$F$3*'Acido - Base forte'!$F$1)/'Acido - Base forte'!$F$2>0,IF((I264*'Acido - Base forte'!$F$3*'Acido - Base forte'!$F$1)/'Acido - Base forte'!$F$2<1.8*Calcoli!$B$13*('Acido - Base forte'!$F$1*'Acido - Base forte'!$F$3/'Acido - Base forte'!$F$2),I264*'Acido - Base forte'!$F$3*'Acido - Base forte'!$F$1/'Acido - Base forte'!$F$2,NA()),NA())","v":49.508388539201789},1.2589254117941669E-9,8.8999999999999986,{"$f":"IF(Calcoli!$B$13=3,B264^Calcoli!$B$13+Calcoli!$B$9*B264^2+Calcoli!$B$9*Calcoli!$B$10*B264+Calcoli!$B$9*Calcoli!$B$10*Calcoli!$B$11,IF(Calcoli!$B$13=2,B264^Calcoli!$B$13+Calcoli!$B$9*B264+Calcoli!$B$9*Calcoli!$B$10,B264^Calcoli!$B$13+Calcoli!$B$9))","v":4.7444194217334946E-10},{"$f":"(Calcoli!$B$9*B264^(Calcoli!$B$13-1))/D264","v":1.9901150697605056E-2},{"$f":"IF(Calcoli!$B$13>=2, (Calcoli!$B$9*Calcoli!$B$10*B264^(Calcoli!$B$13-2))/D264,NA())","v":0.98009884596185304},{"$f":"IF(Calcoli!$B$13>=3,(Calcoli!$B$9*Calcoli!$B$10*Calcoli!$B$11*B264^(Calcoli!$B$13-3))/D264,NA())","v":{"$error":"#N/A"}},{"$f":"IF(Calcoli!$B$13=3,(E264+F264*2+G264*3),IF(Calcoli!$B$13=2,(E264+F264*2),E264))","v":1.9800988426213111},1.9803355415680717,{"$f":"(B264-(Calcoli!$B$8/B264))/'Acido - Base forte'!$F$1","v":-7.9420234218310228E-5},{"$f":"(B264-(Calcoli!$B$8/B264))/'Acido - Base forte'!$F$2","v":-7.9420234218310228E-5}]
[{"$f":"IF((I265*'Acido - Base forte'!$F$3*'Acido - Base forte'!$F$1)/'Acido - Base forte'!$F$2>0,IF((I265*'Acido - Base forte'!$F$3*'Acido - Base forte'!$F$1)/'Acido - Base forte'!$F$2<1.8*Calcoli!$B$13*('Acido - Base forte'!$F$1*'Acido - Base forte'!$F$3/'Acido - Base forte'!$F$2),I265*'Acido - Base forte'!$F$3*'Acido - Base forte'!$F$1/'Acido - Base forte'!$F$2,NA()),NA())","v":49.562259666366373},1.1220184543019636E-9,8.9499999999999993,{"$f":"IF(Calcoli!$B$13=3,B265^Calcoli!$B$13+Calcoli!$B$9*B265^2+Calcoli!$B$9*Calcoli!$B$10*B265+Calcoli!$B$9*Calcoli!$B$10*Calcoli!$B$11,IF(Calcoli!$B$13=2,B265^Calcoli!$B$13+Calcoli!$B$9*B265+Calcoli!$B$9*Calcoli!$B$10,B265^Calcoli!$B$13+Calcoli!$B$9))","v":4.7341513966619009E-10},{"$f":"(Calcoli!$B$9*B265^(Calcoli!$B$13-1))/D265","v":1.7775389298277041E-2},{"$f":"IF(Calcoli!$B$13>=2, (Calcoli!$B$9*Calcoli!$B$10*B265^(Calcoli!$B$13-2))/D265,NA())","v":0.98222460804248102},{"$f":"IF(Calcoli!$B$13>=3,(Calcoli!$B$9*Calcoli!$B$10*Calcoli!$B$11*B265^(Calcoli!$B$13-3))/D265,NA())","v":{"$error":"#N/A"}},{"$f":"IF(Calcoli!$B$13=3,(E265+F265*2+G265*3),IF(Calcoli!$B$13=2,(E265+F265*2),E265))","v":1.9822246053832391},1.9824903866546546,{"$f":"(B265-(Calcoli!$B$8/B265))/'Acido - Base forte'!$F$1","v":-8.9113873628831507E-5},{"$f":"(B265-(Calcoli!$B$8/B265))/'Acido - Base forte'!$F$2","v":-8.9113873628831507E-5}]
[{"$f":"IF((I266*'Acido - Base forte'!$F$3*'Acido - Base forte'!$F$1)/'Acido - Base forte'!$F$2>0,IF((I266*'Acido - Base forte'!$F$3*'Acido - Base forte'!$F$1)/'Acido - Base forte'!$F$2<1.8*Calcoli!$B$13*('Acido - Base forte'!$F$1*'Acido - Base forte'!$F$3/'Acido - Base forte'!$F$2),I266*'Acido - Base forte'!$F$3*'Acido - Base forte'!$F$1/'Acido - Base forte'!$F$2,NA()),NA())","v":49.610634815569554},1.0000000000000001E-9,9,{"$f":"IF(Calcoli!$B$13=3,B266^Calcoli!$B$13+Calcoli!$B$9*B266^2+Calcoli!$B$9*Calcoli!$B$10*B266+Calcoli!$B$9*Calcoli!$B$10*Calcoli!$B$11,IF(Calcoli!$B$13=2,B266^Calcoli!$B$13+Calcoli!$B$9*B266+Calcoli!$B$9*Calcoli!$B$10,B266^Calcoli!$B$13+Calcoli!$B$9))","v":4.7250000100000002E-10},{"$f":"(Calcoli!$B$9*B266^(Calcoli!$B$13-1))/D266","v":1.5873015839422189E-2},{"$f":"IF(Calcoli!$B$13>=2, (Calcoli!$B$9*Calcoli!$B$10*B266^(Calcoli!$B$13-2))/D266,NA())","v":0.9841269820441757},{"$f":"IF(Calcoli!$B$13>=3,(Calcoli!$B$9*Calcoli!$B$10*Calcoli!$B$11*B266^(Calcoli!$B$13-3))/D266,NA())","v":{"$error":"#N/A"}},{"$f":"IF(Calcoli!$B$13=3,(E266+F266*2+G266*3),IF(Calcoli!$B$13=2,(E266+F266*2),E266))","v":1.9841269799277736},1.9844253926227822,{"$f":"(B266-(Calcoli!$B$8/B266))/'Acido - Base forte'!$F$1","v":-9.9989999999999983E-5},{"$f":"(B266-(Calcoli!$B$8/B266))/'Acido - Base forte'!$F$2","v":-9.9989999999999983E-5}]
[{"$f":"IF((I267*'Acido - Base forte'!$F$3*'Acido - Base forte'!$F$1)/'Acido - Base forte'!$F$2>0,IF((I267*'Acido - Base forte'!$F$3*'Acido - Base forte'!$F$1)/'Acido - Base forte'!$F$2<1.8*Calcoli!$B$13*('Acido - Base forte'!$F$1*'Acido - Base forte'!$F$3/'Acido - Base forte'!$F$2),I267*'Acido - Base forte'!$F$3*'Acido - Base forte'!$F$1/'Acido - Base forte'!$F$2,NA()),NA())","v":49.65409301694234},8.9125093813374338E-10,9.0500000000000007,{"$f":"IF(Calcoli!$B$13=3,B267^Calcoli!$B$13+Calcoli!$B$9*B267^2+Calcoli!$B$9*Calcoli!$B$10*B267+Calcoli!$B$9*Calcoli!$B$10*Calcoli!$B$11,IF(Calcoli!$B$13=2,B267^Calcoli!$B$13+Calcoli!$B$9*B267+Calcoli!$B$9*Calcoli!$B$10,B267^Calcoli!$B$13+Calcoli!$B$9))","v":4.7168438283033127E-10},{"$f":"(Calcoli!$B$9*B267^(Calcoli!$B$13-1))/D267","v":1.4171302420261605E-2},{"$f":"IF(Calcoli!$B$13>=2, (Calcoli!$B$9*Calcoli!$B$10*B267^(Calcoli!$B$13-2))/D267,NA())","v":0.98582869589571365},{"$f":"IF(Calcoli!$B$13>=3,(Calcoli!$B$9*Calcoli!$B$10*Calcoli!$B$11*B267^(Calcoli!$B$13-3))/D267,NA())","v":{"$error":"#N/A"}},{"$f":"IF(Calcoli!$B$13=3,(E267+F267*2+G267*3),IF(Calcoli!$B$13=2,(E267+F267*2),E267))","v":1.9858286942116889},1.9861637206776936,{"$f":"(B267-(Calcoli!$B$8/B267))/'Acido - Base forte'!$F$1","v":-1.1219293292081525E-4},{"$f":"(B267-(Calcoli!$B$8/B267))/'Acido - Base forte'!$F$2","v":-1.1219293292081525E-4}]
[{"$f":"IF((I268*'Acido - Base forte'!$F$3*'Acido - Base forte'!$F$1)/'Acido - Base forte'!$F$2>0,IF((I268*'Acido - Base forte'!$F$3*'Acido - Base forte'!$F$1)/'Acido - Base forte'!$F$2<1.8*Calcoli!$B$13*('Acido - Base forte'!$F$1*'Acido - Base forte'!$F$3/'Acido - Base forte'!$F$2),I268*'Acido - Base forte'!$F$3*'Acido - Base forte'!$F$1/'Acido - Base forte'!$F$2,NA()),NA())","v":49.69316062137537},7.9432823472427721E-10,9.1000000000000014,{"$f":"IF(Calcoli!$B$13=3,B268^Calcoli!$B$13+Calcoli!$B$9*B268^2+Calcoli!$B$9*Calcoli!$B$10*B268+Calcoli!$B$9*Calcoli!$B$10*Calcoli!$B$11,IF(Calcoli!$B$13=2,B268^Calcoli!$B$13+Calcoli!$B$9*B268+Calcoli!$B$9*Calcoli!$B$10,B268^Calcoli!$B$13+Calcoli!$B$9))","v":4.7095746239138944E-10},{"$f":"(Calcoli!$B$9*B268^(Calcoli!$B$13-1))/D268","v":1.2649681205138494E-2},{"$f":"IF(Calcoli!$B$13>=2, (Calcoli!$B$9*Calcoli!$B$10*B268^(Calcoli!$B$13-2))/D268,NA())","v":0.98735031745512825},{"$f":"IF(Calcoli!$B$13>=3,(Calcoli!$B$9*Calcoli!$B$10*Calcoli!$B$11*B268^(Calcoli!$B$13-3))/D268,NA())","v":{"$error":"#N/A"}},{"$f":"IF(Calcoli!$B$13=3,(E268+F268*2+G268*3),IF(Calcoli!$B$13=2,(E268+F268*2),E268))","v":1.9873503161153949},1.9877264248550144,{"$f":"(B268-(Calcoli!$B$8/B268))/'Acido - Base forte'!$F$1","v":-1.2588459789707017E-4},{"$f":"(B268-(Calcoli!$B$8/B268))/'Acido - Base forte'!$F$2","v":-1.2588459789707017E-4}]
[{"$f":"IF((I269*'Acido - Base forte'!$F$3*'Acido - Base forte'!$F$1)/'Acido - Base forte'!$F$2>0,IF((I269*'Acido - Base forte'!$F$3*'Acido - Base forte'!$F$1)/'Acido - Base forte'!$F$2<1.8*Calcoli!$B$13*('Acido - Base forte'!$F$1*'Acido - Base forte'!$F$3/'Acido - Base forte'!$F$2),I269*'Acido - Base forte'!$F$3*'Acido - Base forte'!$F$1/'Acido - Base forte'!$F$2,NA()),NA())","v":49.728315806850681},7.0794578438413194E-10,9.1500000000000021,{"$f":"IF(Calcoli!$B$13=3,B269^Calcoli!$B$13+Calcoli!$B$9*B269^2+Calcoli!$B$9*Calcoli!$B$10*B269+Calcoli!$B$9*Calcoli!$B$10*Calcoli!$B$11,IF(Calcoli!$B$13=2,B269^Calcoli!$B$13+Calcoli!$B$9*B269+Calcoli!$B$9*Calcoli!$B$10,B269^Calcoli!$B$13+Calcoli!$B$9))","v":4.7030959388406817E-10},{"$f":"(Calcoli!$B$9*B269^(Calcoli!$B$13-1))/D269","v":1.1289570640121387E-2},{"$f":"IF(Calcoli!$B$13>=2, (Calcoli!$B$9*Calcoli!$B$10*B269^(Calcoli!$B$13-2))/D269,NA())","v":0.98871042829422484},{"$f":"IF(Calcoli!$B$13>=3,(Calcoli!$B$9*Calcoli!$B$10*Calcoli!$B$11*B269^(Calcoli!$B$13-3))/D269,NA())","v":{"$error":"#N/A"}},{"$f":"IF(Calcoli!$B$13=3,(E269+F269*2+G269*3),IF(Calcoli!$B$13=2,(E269+F269*2),E269))","v":1.9887104272285712},1.9891326322740273,{"$f":"(B269-(Calcoli!$B$8/B269))/'Acido - Base forte'!$F$1","v":-1.4124667500443276E-4},{"$f":"(B269-(Calcoli!$B$8/B269))/'Acido - Base forte'!$F$2","v":-1.4124667500443276E-4}]
[{"$f":"IF((I270*'Acido - Base forte'!$F$3*'Acido - Base forte'!$F$1)/'Acido - Base forte'!$F$2>0,IF((I270*'Acido - Base forte'!$F$3*'Acido - Base forte'!$F$1)/'Acido - Base forte'!$F$2<1.8*Calcoli!$B$13*('Acido - Base forte'!$F$1*'Acido - Base forte'!$F$3/'Acido - Base forte'!$F$2),I270*'Acido - Base forte'!$F$3*'Acido - Base forte'!$F$1/'Acido - Base forte'!$F$2,NA()),NA())","v":49.759992925382583},6.3095734448018815E-10,{"$f":"C269+0.05","v":9.2000000000000028},{"$f":"IF(Calcoli!$B$13=3,B270^Calcoli!$B$13+Calcoli!$B$9*B270^2+Calcoli!$B$9*Calcoli!$B$10*B270+Calcoli!$B$9*Calcoli!$B$10*Calcoli!$B$11,IF(Calcoli!$B$13=2,B270^Calcoli!$B$13+Calcoli!$B$9*B270+Calcoli!$B$9*Calcoli!$B$10,B270^Calcoli!$B$13+Calcoli!$B$9))","v":4.6973218048170861E-10},{"$f":"(Calcoli!$B$9*B270^(Calcoli!$B$13-1))/D270","v":1.0074208836934651E-2},{"$f":"IF(Calcoli!$B$13>=2, (Calcoli!$B$9*Calcoli!$B$10*B270^(Calcoli!$B$13-2))/D270,NA())","v":0.98992579031554584},{"$f":"IF(Calcoli!$B$13>=3,(Calcoli!$B$9*Calcoli!$B$10*Calcoli!$B$11*B270^(Calcoli!$B$13-3))/D270,NA())","v":{"$error":"#N/A"}},{"$f":"IF(Calcoli!$B$13=3,(E270+F270*2+G270*3),IF(Calcoli!$B$13=2,(E270+F270*2),E270))","v":1.9899257894680262},1.9903997170153032,{"$f":"(B270-(Calcoli!$B$8/B270))/'Acido - Base forte'!$F$1","v":-1.5848300967266781E-4},{"$f":"(B270-(Calcoli!$B$8/B270))/'Acido - Base forte'!$F$2","v":-1.5848300967266781E-4}]
[{"$f":"IF((I271*'Acido - Base forte'!$F$3*'Acido - Base forte'!$F$1)/'Acido - Base forte'!$F$2>0,IF((I271*'Acido - Base forte'!$F$3*'Acido - Base forte'!$F$1)/'Acido - Base forte'!$F$2<1.8*Calcoli!$B$13*('Acido - Base forte'!$F$1*'Acido - Base forte'!$F$3/'Acido - Base forte'!$F$2),I271*'Acido - Base forte'!$F$3*'Acido - Base forte'!$F$1/'Acido - Base forte'!$F$2,NA()),NA())","v":49.788586658075893},5.6234132519034279E-10,{"$f":"C270+0.05","v":9.2500000000000036},{"$f":"IF(Calcoli!$B$13=3,B271^Calcoli!$B$13+Calcoli!$B$9*B271^2+Calcoli!$B$9*Calcoli!$B$10*B271+Calcoli!$B$9*Calcoli!$B$10*Calcoli!$B$11,IF(Calcoli!$B$13=2,B271^Calcoli!$B$13+Calcoli!$B$9*B271+Calcoli!$B$9*Calcoli!$B$10,B271^Calcoli!$B$13+Calcoli!$B$9))","v":4.6921756025515528E-10},{"$f":"(Calcoli!$B$9*B271^(Calcoli!$B$13-1))/D271","v":8.9884955214253031E-3},{"$f":"IF(Calcoli!$B$13>=2, (Calcoli!$B$9*Calcoli!$B$10*B271^(Calcoli!$B$13-2))/D271,NA())","v":0.99101150380462777},{"$f":"IF(Calcoli!$B$13>=3,(Calcoli!$B$9*Calcoli!$B$10*Calcoli!$B$11*B271^(Calcoli!$B$13-3))/D271,NA())","v":{"$error":"#N/A"}},{"$f":"IF(Calcoli!$B$13=3,(E271+F271*2+G271*3),IF(Calcoli!$B$13=2,(E271+F271*2),E271))","v":1.9910115031306808},1.9915434663230354,{"$f":"(B271-(Calcoli!$B$8/B271))/'Acido - Base forte'!$F$1","v":-1.7782231759064232E-4},{"$f":"(B271-(Calcoli!$B$8/B271))/'Acido - Base forte'!$F$2","v":-1.7782231759064232E-4}]
[{"$f":"IF((I272*'Acido - Base forte'!$F$3*'Acido - Base forte'!$F$1)/'Acido - Base forte'!$F$2>0,IF((I272*'Acido - Base forte'!$F$3*'Acido - Base forte'!$F$1)/'Acido - Base forte'!$F$2<1.8*Calcoli!$B$13*('Acido - Base forte'!$F$1*'Acido - Base forte'!$F$3/'Acido - Base forte'!$F$2),I272*'Acido - Base forte'!$F$3*'Acido - Base forte'!$F$1/'Acido - Base forte'!$F$2,NA()),NA())","v":49.814455959458371},5.0118723362726688E-10,9.3000000000000043,{"$f":"IF(Calcoli!$B$13=3,B272^Calcoli!$B$13+Calcoli!$B$9*B272^2+Calcoli!$B$9*Calcoli!$B$10*B272+Calcoli!$B$9*Calcoli!$B$10*Calcoli!$B$11,IF(Calcoli!$B$13=2,B272^Calcoli!$B$13+Calcoli!$B$9*B272+Calcoli!$B$9*Calcoli!$B$10,B272^Calcoli!$B$13+Calcoli!$B$9))","v":4.6875890450339315E-10},{"$f":"(Calcoli!$B$9*B272^(Calcoli!$B$13-1))/D272","v":8.0188434098904526E-3},{"$f":"IF(Calcoli!$B$13>=2, (Calcoli!$B$9*Calcoli!$B$10*B272^(Calcoli!$B$13-2))/D272,NA())","v":0.99198115605425063},{"$f":"IF(Calcoli!$B$13>=3,(Calcoli!$B$9*Calcoli!$B$10*Calcoli!$B$11*B272^(Calcoli!$B$13-3))/D272,NA())","v":{"$error":"#N/A"}},{"$f":"IF(Calcoli!$B$13=3,(E272+F272*2+G272*3),IF(Calcoli!$B$13=2,(E272+F272*2),E272))","v":1.9919811555183917},1.9925782383783348,{"$f":"(B272-(Calcoli!$B$8/B272))/'Acido - Base forte'!$F$1","v":-1.9952121962455382E-4},{"$f":"(B272-(Calcoli!$B$8/B272))/'Acido - Base forte'!$F$2","v":-1.9952121962455382E-4}]
[{"$f":"IF((I273*'Acido - Base forte'!$F$3*'Acido - Base forte'!$F$1)/'Acido - Base forte'!$F$2>0,IF((I273*'Acido - Base forte'!$F$3*'Acido - Base forte'!$F$1)/'Acido - Base forte'!$F$2<1.8*Calcoli!$B$13*('Acido - Base forte'!$F$1*'Acido - Base forte'!$F$3/'Acido - Base forte'!$F$2),I273*'Acido - Base forte'!$F$3*'Acido - Base forte'!$F$1/'Acido - Base forte'!$F$2,NA()),NA())","v":49.837927782967753},4.4668359215095701E-10,9.350000000000005,{"$f":"IF(Calcoli!$B$13=3,B273^Calcoli!$B$13+Calcoli!$B$9*B273^2+Calcoli!$B$9*Calcoli!$B$10*B273+Calcoli!$B$9*Calcoli!$B$10*Calcoli!$B$11,IF(Calcoli!$B$13=2,B273^Calcoli!$B$13+Calcoli!$B$9*B273+Calcoli!$B$9*Calcoli!$B$10,B273^Calcoli!$B$13+Calcoli!$B$9))","v":4.6835012714065841E-10},{"$f":"(Calcoli!$B$9*B273^(Calcoli!$B$13-1))/D273","v":7.1530394612790236E-3},{"$f":"IF(Calcoli!$B$13>=2, (Calcoli!$B$9*Calcoli!$B$10*B273^(Calcoli!$B$13-2))/D273,NA())","v":0.99284696011270157},{"$f":"IF(Calcoli!$B$13>=3,(Calcoli!$B$9*Calcoli!$B$10*Calcoli!$B$11*B273^(Calcoli!$B$13-3))/D273,NA())","v":{"$error":"#N/A"}},{"$f":"IF(Calcoli!$B$13=3,(E273+F273*2+G273*3),IF(Calcoli!$B$13=2,(E273+F273*2),E273))","v":1.9928469596866822},1.99351711131871,{"$f":"(B273-(Calcoli!$B$8/B273))/'Acido - Base forte'!$F$1","v":-2.2386764702091551E-4},{"$f":"(B273-(Calcoli!$B$8/B273))/'Acido - Base forte'!$F$2","v":-2.2386764702091551E-4}]
[{"$f":"IF((I274*'Acido - Base forte'!$F$3*'Acido - Base forte'!$F$1)/'Acido - Base forte'!$F$2>0,IF((I274*'Acido - Base forte'!$F$3*'Acido - Base forte'!$F$1)/'Acido - Base forte'!$F$2<1.8*Calcoli!$B$13*('Acido - Base forte'!$F$1*'Acido - Base forte'!$F$3/'Acido - Base forte'!$F$2),I274*'Acido - Base forte'!$F$3*'Acido - Base forte'!$F$1/'Acido - Base forte'!$F$2,NA()),NA())","v":49.859300587786919},3.9810717055349058E-10,9.4000000000000057,{"$f":"IF(Calcoli!$B$13=3,B274^Calcoli!$B$13+Calcoli!$B$9*B274^2+Calcoli!$B$9*Calcoli!$B$10*B274+Calcoli!$B$9*Calcoli!$B$10*Calcoli!$B$11,IF(Calcoli!$B$13=2,B274^Calcoli!$B$13+Calcoli!$B$9*B274+Calcoli!$B$9*Calcoli!$B$10,B274^Calcoli!$B$13+Calcoli!$B$9))","v":4.6798580393764055E-10},{"$f":"(Calcoli!$B$9*B274^(Calcoli!$B$13-1))/D274","v":6.3801161360634772E-3},{"$f":"IF(Calcoli!$B$13>=2, (Calcoli!$B$9*Calcoli!$B$10*B274^(Calcoli!$B$13-2))/D274,NA())","v":0.99361988352527375},{"$f":"IF(Calcoli!$B$13>=3,(Calcoli!$B$9*Calcoli!$B$10*Calcoli!$B$11*B274^(Calcoli!$B$13-3))/D274,NA())","v":{"$error":"#N/A"}},{"$f":"IF(Calcoli!$B$13=3,(E274+F274*2+G274*3),IF(Calcoli!$B$13=2,(E274+F274*2),E274))","v":1.993619883186611},1.9943720235114764,{"$f":"(B274-(Calcoli!$B$8/B274))/'Acido - Base forte'!$F$1","v":-2.5118466207925665E-4},{"$f":"(B274-(Calcoli!$B$8/B274))/'Acido - Base forte'!$F$2","v":-2.5118466207925665E-4}]
[{"$f":"IF((I275*'Acido - Base forte'!$F$3*'Acido - Base forte'!$F$1)/'Acido - Base forte'!$F$2>0,IF((I275*'Acido - Base forte'!$F$3*'Acido - Base forte'!$F$1)/'Acido - Base forte'!$F$2<1.8*Calcoli!$B$13*('Acido - Base forte'!$F$1*'Acido - Base forte'!$F$3/'Acido - Base forte'!$F$2),I275*'Acido - Base forte'!$F$3*'Acido - Base forte'!$F$1/'Acido - Base forte'!$F$2,NA()),NA())","v":49.878847633581444},3.548133892335697E-10,9.4500000000000064,{"$f":"IF(Calcoli!$B$13=3,B275^Calcoli!$B$13+Calcoli!$B$9*B275^2+Calcoli!$B$9*Calcoli!$B$10*B275+Calcoli!$B$9*Calcoli!$B$10*Calcoli!$B$11,IF(Calcoli!$B$13=2,B275^Calcoli!$B$13+Calcoli!$B$9*B275+Calcoli!$B$9*Calcoli!$B$10,B275^Calcoli!$B$13+Calcoli!$B$9))","v":4.6766110054514434E-10},{"$f":"(Calcoli!$B$9*B275^(Calcoli!$B$13-1))/D275","v":5.6902325554761234E-3},{"$f":"IF(Calcoli!$B$13>=2, (Calcoli!$B$9*Calcoli!$B$10*B275^(Calcoli!$B$13-2))/D275,NA())","v":0.99430976717532771},{"$f":"IF(Calcoli!$B$13>=3,(Calcoli!$B$9*Calcoli!$B$10*Calcoli!$B$11*B275^(Calcoli!$B$13-3))/D275,NA())","v":{"$error":"#N/A"}},{"$f":"IF(Calcoli!$B$13=3,(E275+F275*2+G275*3),IF(Calcoli!$B$13=2,(E275+F275*2),E275))","v":1.9943097669061316},1.9951539053432576,{"$f":"(B275-(Calcoli!$B$8/B275))/'Acido - Base forte'!$F$1","v":-2.8183474499255762E-4},{"$f":"(B275-(Calcoli!$B$8/B275))/'Acido - Base forte'!$F$2","v":-2.8183474499255762E-4}]
[{"$f":"IF((I276*'Acido - Base forte'!$F$3*'Acido - Base forte'!$F$1)/'Acido - Base forte'!$F$2>0,IF((I276*'Acido - Base forte'!$F$3*'Acido - Base forte'!$F$1)/'Acido - Base forte'!$F$2<1.8*Calcoli!$B$13*('Acido - Base forte'!$F$1*'Acido - Base forte'!$F$3/'Acido - Base forte'!$F$2),I276*'Acido - Base forte'!$F$3*'Acido - Base forte'!$F$1/'Acido - Base forte'!$F$2,NA()),NA())","v":49.896820074492219},3.162277660168318E-10,9.5000000000000071,{"$f":"IF(Calcoli!$B$13=3,B276^Calcoli!$B$13+Calcoli!$B$9*B276^2+Calcoli!$B$9*Calcoli!$B$10*B276+Calcoli!$B$9*Calcoli!$B$10*Calcoli!$B$11,IF(Calcoli!$B$13=2,B276^Calcoli!$B$13+Calcoli!$B$9*B276+Calcoli!$B$9*Calcoli!$B$10,B276^Calcoli!$B$13+Calcoli!$B$9))","v":4.6737170834512621E-10},{"$f":"(Calcoli!$B$9*B276^(Calcoli!$B$13-1))/D276","v":5.0745652823616641E-3},{"$f":"IF(Calcoli!$B$13>=2, (Calcoli!$B$9*Calcoli!$B$10*B276^(Calcoli!$B$13-2))/D276,NA())","v":0.99492543450367599},{"$f":"IF(Calcoli!$B$13>=3,(Calcoli!$B$9*Calcoli!$B$10*Calcoli!$B$11*B276^(Calcoli!$B$13-3))/D276,NA())","v":{"$error":"#N/A"}},{"$f":"IF(Calcoli!$B$13=3,(E276+F276*2+G276*3),IF(Calcoli!$B$13=2,(E276+F276*2),E276))","v":1.9949254342897136},1.9958728029796886,{"$f":"(B276-(Calcoli!$B$8/B276))/'Acido - Base forte'!$F$1","v":-3.1622460373918385E-4},{"$f":"(B276-(Calcoli!$B$8/B276))/'Acido - Base forte'!$F$2","v":-3.1622460373918385E-4}]
[{"$f":"IF((I277*'Acido - Base forte'!$F$3*'Acido - Base forte'!$F$1)/'Acido - Base forte'!$F$2>0,IF((I277*'Acido - Base forte'!$F$3*'Acido - Base forte'!$F$1)/'Acido - Base forte'!$F$2<1.8*Calcoli!$B$13*('Acido - Base forte'!$F$1*'Acido - Base forte'!$F$3/'Acido - Base forte'!$F$2),I277*'Acido - Base forte'!$F$3*'Acido - Base forte'!$F$1/'Acido - Base forte'!$F$2,NA()),NA())","v":49.913449867309119},2.8183829312644003E-10,9.5500000000000078,{"$f":"IF(Calcoli!$B$13=3,B277^Calcoli!$B$13+Calcoli!$B$9*B277^2+Calcoli!$B$9*Calcoli!$B$10*B277+Calcoli!$B$9*Calcoli!$B$10*Calcoli!$B$11,IF(Calcoli!$B$13=2,B277^Calcoli!$B$13+Calcoli!$B$9*B277+Calcoli!$B$9*Calcoli!$B$10,B277^Calcoli!$B$13+Calcoli!$B$9))","v":4.6711378727788114E-10},{"$f":"(Calcoli!$B$9*B277^(Calcoli!$B$13-1))/D277","v":4.5252083240069942E-3},{"$f":"IF(Calcoli!$B$13>=2, (Calcoli!$B$9*Calcoli!$B$10*B277^(Calcoli!$B$13-2))/D277,NA())","v":0.99547479150594265},{"$f":"IF(Calcoli!$B$13>=3,(Calcoli!$B$9*Calcoli!$B$10*Calcoli!$B$11*B277^(Calcoli!$B$13-3))/D277,NA())","v":{"$error":"#N/A"}},{"$f":"IF(Calcoli!$B$13=3,(E277+F277*2+G277*3),IF(Calcoli!$B$13=2,(E277+F277*2),E277))","v":1.9954747913358923},1.9965379946923647,{"$f":"(B277-(Calcoli!$B$8/B277))/'Acido - Base forte'!$F$1","v":-3.5481057085065087E-4},{"$f":"(B277-(Calcoli!$B$8/B277))/'Acido - Base forte'!$F$2","v":-3.5481057085065087E-4}]
[{"$f":"IF((I278*'Acido - Base forte'!$F$3*'Acido - Base forte'!$F$1)/'Acido - Base forte'!$F$2>0,IF((I278*'Acido - Base forte'!$F$3*'Acido - Base forte'!$F$1)/'Acido - Base forte'!$F$2<1.8*Calcoli!$B$13*('Acido - Base forte'!$F$1*'Acido - Base forte'!$F$3/'Acido - Base forte'!$F$2),I278*'Acido - Base forte'!$F$3*'Acido - Base forte'!$F$1/'Acido - Base forte'!$F$2,NA()),NA())","v":49.928952511381191},2.5118864315095251E-10,9.6000000000000085,{"$f":"IF(Calcoli!$B$13=3,B278^Calcoli!$B$13+Calcoli!$B$9*B278^2+Calcoli!$B$9*Calcoli!$B$10*B278+Calcoli!$B$9*Calcoli!$B$10*Calcoli!$B$11,IF(Calcoli!$B$13=2,B278^Calcoli!$B$13+Calcoli!$B$9*B278+Calcoli!$B$9*Calcoli!$B$10,B278^Calcoli!$B$13+Calcoli!$B$9))","v":4.6688391488672786E-10},{"$f":"(Calcoli!$B$9*B278^(Calcoli!$B$13-1))/D278","v":4.0350818770211998E-3},{"$f":"IF(Calcoli!$B$13>=2, (Calcoli!$B$9*Calcoli!$B$10*B278^(Calcoli!$B$13-2))/D278,NA())","v":0.9959649179878366},{"$f":"IF(Calcoli!$B$13>=3,(Calcoli!$B$9*Calcoli!$B$10*Calcoli!$B$11*B278^(Calcoli!$B$13-3))/D278,NA())","v":{"$error":"#N/A"}},{"$f":"IF(Calcoli!$B$13=3,(E278+F278*2+G278*3),IF(Calcoli!$B$13=2,(E278+F278*2),E278))","v":1.9959649178526944},1.9971581004552472,{"$f":"(B278-(Calcoli!$B$8/B278))/'Acido - Base forte'!$F$1","v":-3.9810465866707448E-4},{"$f":"(B278-(Calcoli!$B$8/B278))/'Acido - Base forte'!$F$2","v":-3.9810465866707448E-4}]
[{"$f":"IF((I279*'Acido - Base forte'!$F$3*'Acido - Base forte'!$F$1)/'Acido - Base forte'!$F$2>0,IF((I279*'Acido - Base forte'!$F$3*'Acido - Base forte'!$F$1)/'Acido - Base forte'!$F$2<1.8*Calcoli!$B$13*('Acido - Base forte'!$F$1*'Acido - Base forte'!$F$3/'Acido - Base forte'!$F$2),I279*'Acido - Base forte'!$F$3*'Acido - Base forte'!$F$1/'Acido - Base forte'!$F$2,NA()),NA())","v":49.943529639740291},2.2387211385682837E-10,9.6500000000000092,{"$f":"IF(Calcoli!$B$13=3,B279^Calcoli!$B$13+Calcoli!$B$9*B279^2+Calcoli!$B$9*Calcoli!$B$10*B279+Calcoli!$B$9*Calcoli!$B$10*Calcoli!$B$11,IF(Calcoli!$B$13=2,B279^Calcoli!$B$13+Calcoli!$B$9*B279+Calcoli!$B$9*Calcoli!$B$10,B279^Calcoli!$B$13+Calcoli!$B$9))","v":4.6667904090404497E-10},{"$f":"(Calcoli!$B$9*B279^(Calcoli!$B$13-1))/D279","v":3.5978492856109314E-3},{"$f":"IF(Calcoli!$B$13>=2, (Calcoli!$B$9*Calcoli!$B$10*B279^(Calcoli!$B$13-2))/D279,NA())","v":0.99640215060699455},{"$f":"IF(Calcoli!$B$13>=3,(Calcoli!$B$9*Calcoli!$B$10*Calcoli!$B$11*B279^(Calcoli!$B$13-3))/D279,NA())","v":{"$error":"#N/A"}},{"$f":"IF(Calcoli!$B$13=3,(E279+F279*2+G279*3),IF(Calcoli!$B$13=2,(E279+F279*2),E279))","v":1.9964021504996001},1.9977411855896117,{"$f":"(B279-(Calcoli!$B$8/B279))/'Acido - Base forte'!$F$1","v":-4.4668135342983568E-4},{"$f":"(B279-(Calcoli!$B$8/B279))/'Acido - Base forte'!$F$2","v":-4.4668135342983568E-4}]
[{"$f":"IF((I280*'Acido - Base forte'!$F$3*'Acido - Base forte'!$F$1)/'Acido - Base forte'!$F$2>0,IF((I280*'Acido - Base forte'!$F$3*'Acido - Base forte'!$F$1)/'Acido - Base forte'!$F$2<1.8*Calcoli!$B$13*('Acido - Base forte'!$F$1*'Acido - Base forte'!$F$3/'Acido - Base forte'!$F$2),I280*'Acido - Base forte'!$F$3*'Acido - Base forte'!$F$1/'Acido - Base forte'!$F$2,NA()),NA())","v":49.957371482325712},1.9952623149688306E-10,9.7000000000000099,{"$f":"IF(Calcoli!$B$13=3,B280^Calcoli!$B$13+Calcoli!$B$9*B280^2+Calcoli!$B$9*Calcoli!$B$10*B280+Calcoli!$B$9*Calcoli!$B$10*Calcoli!$B$11,IF(Calcoli!$B$13=2,B280^Calcoli!$B$13+Calcoli!$B$9*B280+Calcoli!$B$9*Calcoli!$B$10,B280^Calcoli!$B$13+Calcoli!$B$9))","v":4.664964467760373E-10},{"$f":"(Calcoli!$B$9*B280^(Calcoli!$B$13-1))/D280","v":3.2078416600353227E-3},{"$f":"IF(Calcoli!$B$13>=2, (Calcoli!$B$9*Calcoli!$B$10*B280^(Calcoli!$B$13-2))/D280,NA())","v":0.99679215825462497},{"$f":"IF(Calcoli!$B$13>=3,(Calcoli!$B$9*Calcoli!$B$10*Calcoli!$B$11*B280^(Calcoli!$B$13-3))/D280,NA())","v":{"$error":"#N/A"}},{"$f":"IF(Calcoli!$B$13=3,(E280+F280*2+G280*3),IF(Calcoli!$B$13=2,(E280+F280*2),E280))","v":1.9967921581692853},1.9982948592930285,{"$f":"(B280-(Calcoli!$B$8/B280))/'Acido - Base forte'!$F$1","v":-5.011852383649696E-4},{"$f":"(B280-(Calcoli!$B$8/B280))/'Acido - Base forte'!$F$2","v":-5.011852383649696E-4}]
[{"$f":"IF((I281*'Acido - Base forte'!$F$3*'Acido - Base forte'!$F$1)/'Acido - Base forte'!$F$2>0,IF((I281*'Acido - Base forte'!$F$3*'Acido - Base forte'!$F$1)/'Acido - Base forte'!$F$2<1.8*Calcoli!$B$13*('Acido - Base forte'!$F$1*'Acido - Base forte'!$F$3/'Acido - Base forte'!$F$2),I281*'Acido - Base forte'!$F$3*'Acido - Base forte'!$F$1/'Acido - Base forte'!$F$2,NA()),NA())","v":49.970659223257222},1.7782794100388735E-10,9.7500000000000107,{"$f":"IF(Calcoli!$B$13=3,B281^Calcoli!$B$13+Calcoli!$B$9*B281^2+Calcoli!$B$9*Calcoli!$B$10*B281+Calcoli!$B$9*Calcoli!$B$10*Calcoli!$B$11,IF(Calcoli!$B$13=2,B281^Calcoli!$B$13+Calcoli!$B$9*B281+Calcoli!$B$9*Calcoli!$B$10,B281^Calcoli!$B$13+Calcoli!$B$9))","v":4.6633370958915197E-10},{"$f":"(Calcoli!$B$9*B281^(Calcoli!$B$13-1))/D281","v":2.859989595657102E-3},{"$f":"IF(Calcoli!$B$13>=2, (Calcoli!$B$9*Calcoli!$B$10*B281^(Calcoli!$B$13-2))/D281,NA())","v":0.99714001033653132},{"$f":"IF(Calcoli!$B$13>=3,(Calcoli!$B$9*Calcoli!$B$10*Calcoli!$B$11*B281^(Calcoli!$B$13-3))/D281,NA())","v":{"$error":"#N/A"}},{"$f":"IF(Calcoli!$B$13=3,(E281+F281*2+G281*3),IF(Calcoli!$B$13=2,(E281+F281*2),E281))","v":1.9971400102687198},1.9988263689302888,{"$f":"(B281-(Calcoli!$B$8/B281))/'Acido - Base forte'!$F$1","v":-5.6233954691095459E-4},{"$f":"(B281-(Calcoli!$B$8/B281))/'Acido - Base forte'!$F$2","v":-5.6233954691095459E-4}]
[{"$f":"IF((I282*'Acido - Base forte'!$F$3*'Acido - Base forte'!$F$1)/'Acido - Base forte'!$F$2>0,IF((I282*'Acido - Base forte'!$F$3*'Acido - Base forte'!$F$1)/'Acido - Base forte'!$F$2<1.8*Calcoli!$B$13*('Acido - Base forte'!$F$1*'Acido - Base forte'!$F$3/'Acido - Base forte'!$F$2),I282*'Acido - Base forte'!$F$3*'Acido - Base forte'!$F$1/'Acido - Base forte'!$F$2,NA()),NA())","v":49.983567274951355},1.5848931924610703E-10,9.8000000000000114,{"$f":"IF(Calcoli!$B$13=3,B282^Calcoli!$B$13+Calcoli!$B$9*B282^2+Calcoli!$B$9*Calcoli!$B$10*B282+Calcoli!$B$9*Calcoli!$B$10*Calcoli!$B$11,IF(Calcoli!$B$13=2,B282^Calcoli!$B$13+Calcoli!$B$9*B282+Calcoli!$B$9*Calcoli!$B$10,B282^Calcoli!$B$13+Calcoli!$B$9))","v":4.6618866991946465E-10},{"$f":"(Calcoli!$B$9*B282^(Calcoli!$B$13-1))/D282","v":2.5497614400434667E-3},{"$f":"IF(Calcoli!$B$13>=2, (Calcoli!$B$9*Calcoli!$B$10*B282^(Calcoli!$B$13-2))/D282,NA())","v":0.99745023850607528},{"$f":"IF(Calcoli!$B$13>=3,(Calcoli!$B$9*Calcoli!$B$10*Calcoli!$B$11*B282^(Calcoli!$B$13-3))/D282,NA())","v":{"$error":"#N/A"}},{"$f":"IF(Calcoli!$B$13=3,(E282+F282*2+G282*3),IF(Calcoli!$B$13=2,(E282+F282*2),E282))","v":1.9974502384521939},1.9993426909980543,{"$f":"(B282-(Calcoli!$B$8/B282))/'Acido - Base forte'!$F$1","v":-6.3095575958701795E-4},{"$f":"(B282-(Calcoli!$B$8/B282))/'Acido - Base forte'!$F$2","v":-6.3095575958701795E-4}]
[{"$f":"IF((I283*'Acido - Base forte'!$F$3*'Acido - Base forte'!$F$1)/'Acido - Base forte'!$F$2>0,IF((I283*'Acido - Base forte'!$F$3*'Acido - Base forte'!$F$1)/'Acido - Base forte'!$F$2<1.8*Calcoli!$B$13*('Acido - Base forte'!$F$1*'Acido - Base forte'!$F$3/'Acido - Base forte'!$F$2),I283*'Acido - Base forte'!$F$3*'Acido - Base forte'!$F$1/'Acido - Base forte'!$F$2,NA()),NA())","v":49.99626549261906},1.4125375446227116E-10,9.8500000000000121,{"$f":"IF(Calcoli!$B$13=3,B283^Calcoli!$B$13+Calcoli!$B$9*B283^2+Calcoli!$B$9*Calcoli!$B$10*B283+Calcoli!$B$9*Calcoli!$B$10*Calcoli!$B$11,IF(Calcoli!$B$13=2,B283^Calcoli!$B$13+Calcoli!$B$9*B283+Calcoli!$B$9*Calcoli!$B$10,B283^Calcoli!$B$13+Calcoli!$B$9))","v":4.6605940317841964E-10},{"$f":"(Calcoli!$B$9*B283^(Calcoli!$B$13-1))/D283","v":2.2731075722153527E-3},{"$f":"IF(Calcoli!$B$13>=2, (Calcoli!$B$9*Calcoli!$B$10*B283^(Calcoli!$B$13-2))/D283,NA())","v":0.99772689238497336},{"$f":"IF(Calcoli!$B$13>=3,(Calcoli!$B$9*Calcoli!$B$10*Calcoli!$B$11*B283^(Calcoli!$B$13-3))/D283,NA())","v":{"$error":"#N/A"}},{"$f":"IF(Calcoli!$B$13=3,(E283+F283*2+G283*3),IF(Calcoli!$B$13=2,(E283+F283*2),E283))","v":1.9977268923421621},1.9998506197047625,{"$f":"(B283-(Calcoli!$B$8/B283))/'Acido - Base forte'!$F$1","v":-7.0794437184661465E-4},{"$f":"(B283-(Calcoli!$B$8/B283))/'Acido - Base forte'!$F$2","v":-7.0794437184661465E-4}]
[{"$f":"IF((I284*'Acido - Base forte'!$F$3*'Acido - Base forte'!$F$1)/'Acido - Base forte'!$F$2>0,IF((I284*'Acido - Base forte'!$F$3*'Acido - Base forte'!$F$1)/'Acido - Base forte'!$F$2<1.8*Calcoli!$B$13*('Acido - Base forte'!$F$1*'Acido - Base forte'!$F$3/'Acido - Base forte'!$F$2),I284*'Acido - Base forte'!$F$3*'Acido - Base forte'!$F$1/'Acido - Base forte'!$F$2,NA()),NA())","v":50.008921353420419},1.2589254117941253E-10,9.9000000000000128,{"$f":"IF(Calcoli!$B$13=3,B284^Calcoli!$B$13+Calcoli!$B$9*B284^2+Calcoli!$B$9*Calcoli!$B$10*B284+Calcoli!$B$9*Calcoli!$B$10*Calcoli!$B$11,IF(Calcoli!$B$13=2,B284^Calcoli!$B$13+Calcoli!$B$9*B284+Calcoli!$B$9*Calcoli!$B$10,B284^Calcoli!$B$13+Calcoli!$B$9))","v":4.6594419407469449E-10},{"$f":"(Calcoli!$B$9*B284^(Calcoli!$B$13-1))/D284","v":2.0264101814180613E-3},{"$f":"IF(Calcoli!$B$13>=2, (Calcoli!$B$9*Calcoli!$B$10*B284^(Calcoli!$B$13-2))/D284,NA())","v":0.99797358978456741},{"$f":"IF(Calcoli!$B$13>=3,(Calcoli!$B$9*Calcoli!$B$10*Calcoli!$B$11*B284^(Calcoli!$B$13-3))/D284,NA())","v":{"$error":"#N/A"}},{"$f":"IF(Calcoli!$B$13=3,(E284+F284*2+G284*3),IF(Calcoli!$B$13=2,(E284+F284*2),E284))","v":1.9979735897505528},2.0003568541368169,{"$f":"(B284-(Calcoli!$B$8/B284))/'Acido - Base forte'!$F$1","v":-7.9432697579889604E-4},{"$f":"(B284-(Calcoli!$B$8/B284))/'Acido - Base forte'!$F$2","v":-7.9432697579889604E-4}]
[{"$f":"IF((I285*'Acido - Base forte'!$F$3*'Acido - Base forte'!$F$1)/'Acido - Base forte'!$F$2>0,IF((I285*'Acido - Base forte'!$F$3*'Acido - Base forte'!$F$1)/'Acido - Base forte'!$F$2<1.8*Calcoli!$B$13*('Acido - Base forte'!$F$1*'Acido - Base forte'!$F$3/'Acido - Base forte'!$F$2),I285*'Acido - Base forte'!$F$3*'Acido - Base forte'!$F$1/'Acido - Base forte'!$F$2,NA()),NA())","v":50.021702125363319},1.1220184543019266E-10,9.9500000000000135,{"$f":"IF(Calcoli!$B$13=3,B285^Calcoli!$B$13+Calcoli!$B$9*B285^2+Calcoli!$B$9*Calcoli!$B$10*B285+Calcoli!$B$9*Calcoli!$B$10*Calcoli!$B$11,IF(Calcoli!$B$13=2,B285^Calcoli!$B$13+Calcoli!$B$9*B285+Calcoli!$B$9*Calcoli!$B$10,B285^Calcoli!$B$13+Calcoli!$B$9))","v":4.6584151385331565E-10},{"$f":"(Calcoli!$B$9*B285^(Calcoli!$B$13-1))/D285","v":1.8064380603730846E-3},{"$f":"IF(Calcoli!$B$13>=2, (Calcoli!$B$9*Calcoli!$B$10*B285^(Calcoli!$B$13-2))/D285,NA())","v":0.99819356191260222},{"$f":"IF(Calcoli!$B$13>=3,(Calcoli!$B$9*Calcoli!$B$10*Calcoli!$B$11*B285^(Calcoli!$B$13-3))/D285,NA())","v":{"$error":"#N/A"}},{"$f":"IF(Calcoli!$B$13=3,(E285+F285*2+G285*3),IF(Calcoli!$B$13=2,(E285+F285*2),E285))","v":1.9981935618855775},2.0008680850145328,{"$f":"(B285-(Calcoli!$B$8/B285))/'Acido - Base forte'!$F$1","v":-8.9124981611532039E-4},{"$f":"(B285-(Calcoli!$B$8/B285))/'Acido - Base forte'!$F$2","v":-8.9124981611532039E-4}]
[{"$f":"IF((I286*'Acido - Base forte'!$F$3*'Acido - Base forte'!$F$1)/'Acido - Base forte'!$F$2>0,IF((I286*'Acido - Base forte'!$F$3*'Acido - Base forte'!$F$1)/'Acido - Base forte'!$F$2<1.8*Calcoli!$B$13*('Acido - Base forte'!$F$1*'Acido - Base forte'!$F$3/'Acido - Base forte'!$F$2),I286*'Acido - Base forte'!$F$3*'Acido - Base forte'!$F$1/'Acido - Base forte'!$F$2,NA()),NA())","v":50.034777051991242},9.9999999999996411E-11,10.000000000000014,{"$f":"IF(Calcoli!$B$13=3,B286^Calcoli!$B$13+Calcoli!$B$9*B286^2+Calcoli!$B$9*Calcoli!$B$10*B286+Calcoli!$B$9*Calcoli!$B$10*Calcoli!$B$11,IF(Calcoli!$B$13=2,B286^Calcoli!$B$13+Calcoli!$B$9*B286+Calcoli!$B$9*Calcoli!$B$10,B286^Calcoli!$B$13+Calcoli!$B$9))","v":4.6575000000999996E-10},{"$f":"(Calcoli!$B$9*B286^(Calcoli!$B$13-1))/D286","v":1.6103059580974128E-3},{"$f":"IF(Calcoli!$B$13>=2, (Calcoli!$B$9*Calcoli!$B$10*B286^(Calcoli!$B$13-2))/D286,NA())","v":0.99838969402043187},{"$f":"IF(Calcoli!$B$13>=3,(Calcoli!$B$9*Calcoli!$B$10*Calcoli!$B$11*B286^(Calcoli!$B$13-3))/D286,NA())","v":{"$error":"#N/A"}},{"$f":"IF(Calcoli!$B$13=3,(E286+F286*2+G286*3),IF(Calcoli!$B$13=2,(E286+F286*2),E286))","v":1.9983896939989612},2.0013910820796497,{"$f":"(B286-(Calcoli!$B$8/B286))/'Acido - Base forte'!$F$1","v":-9.9999900000003589E-4},{"$f":"(B286-(Calcoli!$B$8/B286))/'Acido - Base forte'!$F$2","v":-9.9999900000003589E-4}]
[{"$f":"IF((I287*'Acido - Base forte'!$F$3*'Acido - Base forte'!$F$1)/'Acido - Base forte'!$F$2>0,IF((I287*'Acido - Base forte'!$F$3*'Acido - Base forte'!$F$1)/'Acido - Base forte'!$F$2<1.8*Calcoli!$B$13*('Acido - Base forte'!$F$1*'Acido - Base forte'!$F$3/'Acido - Base forte'!$F$2),I287*'Acido - Base forte'!$F$3*'Acido - Base forte'!$F$1/'Acido - Base forte'!$F$2,NA()),NA())","v":50.048319580075962},8.9125093813371386E-11,10.050000000000015,{"$f":"IF(Calcoli!$B$13=3,B287^Calcoli!$B$13+Calcoli!$B$9*B287^2+Calcoli!$B$9*Calcoli!$B$10*B287+Calcoli!$B$9*Calcoli!$B$10*Calcoli!$B$11,IF(Calcoli!$B$13=2,B287^Calcoli!$B$13+Calcoli!$B$9*B287+Calcoli!$B$9*Calcoli!$B$10,B287^Calcoli!$B$13+Calcoli!$B$9))","v":4.6566843821154358E-10},{"$f":"(Calcoli!$B$9*B287^(Calcoli!$B$13-1))/D287","v":1.4354380686986297E-3},{"$f":"IF(Calcoli!$B$13>=2, (Calcoli!$B$9*Calcoli!$B$10*B287^(Calcoli!$B$13-2))/D287,NA())","v":0.99856456191424348},{"$f":"IF(Calcoli!$B$13>=3,(Calcoli!$B$9*Calcoli!$B$10*Calcoli!$B$11*B287^(Calcoli!$B$13-3))/D287,NA())","v":{"$error":"#N/A"}},{"$f":"IF(Calcoli!$B$13=3,(E287+F287*2+G287*3),IF(Calcoli!$B$13=2,(E287+F287*2),E287))","v":1.9985645618971857},2.0019327832030385,{"$f":"(B287-(Calcoli!$B$8/B287))/'Acido - Base forte'!$F$1","v":-1.1220175630510651E-3},{"$f":"(B287-(Calcoli!$B$8/B287))/'Acido - Base forte'!$F$2","v":-1.1220175630510651E-3}]
[{"$f":"IF((I288*'Acido - Base forte'!$F$3*'Acido - Base forte'!$F$1)/'Acido - Base forte'!$F$2>0,IF((I288*'Acido - Base forte'!$F$3*'Acido - Base forte'!$F$1)/'Acido - Base forte'!$F$2<1.8*Calcoli!$B$13*('Acido - Base forte'!$F$1*'Acido - Base forte'!$F$3/'Acido - Base forte'!$F$2),I288*'Acido - Base forte'!$F$3*'Acido - Base forte'!$F$1/'Acido - Base forte'!$F$2,NA()),NA())","v":50.062509658979025},7.943282347242509E-11,10.100000000000016,{"$f":"IF(Calcoli!$B$13=3,B288^Calcoli!$B$13+Calcoli!$B$9*B288^2+Calcoli!$B$9*Calcoli!$B$10*B288+Calcoli!$B$9*Calcoli!$B$10*Calcoli!$B$11,IF(Calcoli!$B$13=2,B288^Calcoli!$B$13+Calcoli!$B$9*B288+Calcoli!$B$9*Calcoli!$B$10,B288^Calcoli!$B$13+Calcoli!$B$9))","v":4.6559574618235278E-10},{"$f":"(Calcoli!$B$9*B288^(Calcoli!$B$13-1))/D288","v":1.2795352640740435E-3},{"$f":"IF(Calcoli!$B$13>=2, (Calcoli!$B$9*Calcoli!$B$10*B288^(Calcoli!$B$13-2))/D288,NA())","v":0.9987204647223743},{"$f":"IF(Calcoli!$B$13>=3,(Calcoli!$B$9*Calcoli!$B$10*Calcoli!$B$11*B288^(Calcoli!$B$13-3))/D288,NA())","v":{"$error":"#N/A"}},{"$f":"IF(Calcoli!$B$13=3,(E288+F288*2+G288*3),IF(Calcoli!$B$13=2,(E288+F288*2),E288))","v":1.9987204647088226},2.0025003863591611,{"$f":"(B288-(Calcoli!$B$8/B288))/'Acido - Base forte'!$F$1","v":-1.2589246174659809E-3},{"$f":"(B288-(Calcoli!$B$8/B288))/'Acido - Base forte'!$F$2","v":-1.2589246174659809E-3}]
[{"$f":"IF((I289*'Acido - Base forte'!$F$3*'Acido - Base forte'!$F$1)/'Acido - Base forte'!$F$2>0,IF((I289*'Acido - Base forte'!$F$3*'Acido - Base forte'!$F$1)/'Acido - Base forte'!$F$2<1.8*Calcoli!$B$13*('Acido - Base forte'!$F$1*'Acido - Base forte'!$F$3/'Acido - Base forte'!$F$2),I289*'Acido - Base forte'!$F$3*'Acido - Base forte'!$F$1/'Acido - Base forte'!$F$2,NA()),NA())","v":50.077536142133553},7.0794578438410844E-11,10.150000000000016,{"$f":"IF(Calcoli!$B$13=3,B289^Calcoli!$B$13+Calcoli!$B$9*B289^2+Calcoli!$B$9*Calcoli!$B$10*B289+Calcoli!$B$9*Calcoli!$B$10*Calcoli!$B$11,IF(Calcoli!$B$13=2,B289^Calcoli!$B$13+Calcoli!$B$9*B289+Calcoli!$B$9*Calcoli!$B$10,B289^Calcoli!$B$13+Calcoli!$B$9))","v":4.6553095934329995E-10},{"$f":"(Calcoli!$B$9*B289^(Calcoli!$B$13-1))/D289","v":1.1405457094348305E-3},{"$f":"IF(Calcoli!$B$13>=2, (Calcoli!$B$9*Calcoli!$B$10*B289^(Calcoli!$B$13-2))/D289,NA())","v":0.99885945427979927},{"$f":"IF(Calcoli!$B$13>=3,(Calcoli!$B$9*Calcoli!$B$10*Calcoli!$B$11*B289^(Calcoli!$B$13-3))/D289,NA())","v":{"$error":"#N/A"}},{"$f":"IF(Calcoli!$B$13=3,(E289+F289*2+G289*3),IF(Calcoli!$B$13=2,(E289+F289*2),E289))","v":1.9988594542690334},2.003101445685342,{"$f":"(B289-(Calcoli!$B$8/B289))/'Acido - Base forte'!$F$1","v":-1.4125368366770285E-3},{"$f":"(B289-(Calcoli!$B$8/B289))/'Acido - Base forte'!$F$2","v":-1.4125368366770285E-3}]
[{"$f":"IF((I290*'Acido - Base forte'!$F$3*'Acido - Base forte'!$F$1)/'Acido - Base forte'!$F$2>0,IF((I290*'Acido - Base forte'!$F$3*'Acido - Base forte'!$F$1)/'Acido - Base forte'!$F$2<1.8*Calcoli!$B$13*('Acido - Base forte'!$F$1*'Acido - Base forte'!$F$3/'Acido - Base forte'!$F$2),I290*'Acido - Base forte'!$F$3*'Acido - Base forte'!$F$1/'Acido - Base forte'!$F$2,NA()),NA())","v":50.093599323293212},{"$f":"10^-C290","v":6.3095734448016736E-11},10.200000000000017,{"$f":"IF(Calcoli!$B$13=3,B290^Calcoli!$B$13+Calcoli!$B$9*B290^2+Calcoli!$B$9*Calcoli!$B$10*B290+Calcoli!$B$9*Calcoli!$B$10*Calcoli!$B$11,IF(Calcoli!$B$13=2,B290^Calcoli!$B$13+Calcoli!$B$9*B290+Calcoli!$B$9*Calcoli!$B$10,B290^Calcoli!$B$13+Calcoli!$B$9))","v":4.654732180123412E-10},{"$f":"(Calcoli!$B$9*B290^(Calcoli!$B$13-1))/D290","v":1.016638530527827E-3},{"$f":"IF(Calcoli!$B$13>=2, (Calcoli!$B$9*Calcoli!$B$10*B290^(Calcoli!$B$13-2))/D290,NA())","v":0.99898336146091937},{"$f":"IF(Calcoli!$B$13>=3,(Calcoli!$B$9*Calcoli!$B$10*Calcoli!$B$11*B290^(Calcoli!$B$13-3))/D290,NA())","v":{"$error":"#N/A"}},{"$f":"IF(Calcoli!$B$13=3,(E290+F290*2+G290*3),IF(Calcoli!$B$13=2,(E290+F290*2),E290))","v":1.9989833614523667},{"$f":"(H290-J290)/(1+K290)","v":2.0037439729317281},{"$f":"(B290-(Calcoli!$B$8/B290))/'Acido - Base forte'!$F$1","v":-1.584892561503834E-3},{"$f":"(B290-(Calcoli!$B$8/B290))/'Acido - Base forte'!$F$2","v":-1.584892561503834E-3}]
[{"$f":"IF((I291*'Acido - Base forte'!$F$3*'Acido - Base forte'!$F$1)/'Acido - Base forte'!$F$2>0,IF((I291*'Acido - Base forte'!$F$3*'Acido - Base forte'!$F$1)/'Acido - Base forte'!$F$2<1.8*Calcoli!$B$13*('Acido - Base forte'!$F$1*'Acido - Base forte'!$F$3/'Acido - Base forte'!$F$2),I291*'Acido - Base forte'!$F$3*'Acido - Base forte'!$F$1/'Acido - Base forte'!$F$2,NA()),NA())","v":50.110913642872852},5.6234132519032418E-11,10.250000000000018,{"$f":"IF(Calcoli!$B$13=3,B291^Calcoli!$B$13+Calcoli!$B$9*B291^2+Calcoli!$B$9*Calcoli!$B$10*B291+Calcoli!$B$9*Calcoli!$B$10*Calcoli!$B$11,IF(Calcoli!$B$13=2,B291^Calcoli!$B$13+Calcoli!$B$9*B291+Calcoli!$B$9*Calcoli!$B$10,B291^Calcoli!$B$13+Calcoli!$B$9))","v":4.6542175599705502E-10},{"$f":"(Calcoli!$B$9*B291^(Calcoli!$B$13-1))/D291","v":9.0618022999211024E-4},{"$f":"IF(Calcoli!$B$13>=2, (Calcoli!$B$9*Calcoli!$B$10*B291^(Calcoli!$B$13-2))/D291,NA())","v":0.99909381976321343},{"$f":"IF(Calcoli!$B$13>=3,(Calcoli!$B$9*Calcoli!$B$10*Calcoli!$B$11*B291^(Calcoli!$B$13-3))/D291,NA())","v":{"$error":"#N/A"}},{"$f":"IF(Calcoli!$B$13=3,(E291+F291*2+G291*3),IF(Calcoli!$B$13=2,(E291+F291*2),E291))","v":1.999093819756419},2.0044365457149138,{"$f":"(B291-(Calcoli!$B$8/B291))/'Acido - Base forte'!$F$1","v":-1.7782788476976763E-3},{"$f":"(B291-(Calcoli!$B$8/B291))/'Acido - Base forte'!$F$2","v":-1.7782788476976763E-3}]
[{"$f":"IF((I292*'Acido - Base forte'!$F$3*'Acido - Base forte'!$F$1)/'Acido - Base forte'!$F$2>0,IF((I292*'Acido - Base forte'!$F$3*'Acido - Base forte'!$F$1)/'Acido - Base forte'!$F$2<1.8*Calcoli!$B$13*('Acido - Base forte'!$F$1*'Acido - Base forte'!$F$3/'Acido - Base forte'!$F$2),I292*'Acido - Base forte'!$F$3*'Acido - Base forte'!$F$1/'Acido - Base forte'!$F$2,NA()),NA())","v":50.129710602945551},5.0118723362725041E-11,10.300000000000018,{"$f":"IF(Calcoli!$B$13=3,B292^Calcoli!$B$13+Calcoli!$B$9*B292^2+Calcoli!$B$9*Calcoli!$B$10*B292+Calcoli!$B$9*Calcoli!$B$10*Calcoli!$B$11,IF(Calcoli!$B$13=2,B292^Calcoli!$B$13+Calcoli!$B$9*B292+Calcoli!$B$9*Calcoli!$B$10,B292^Calcoli!$B$13+Calcoli!$B$9))","v":4.653758904277323E-10},{"$f":"(Calcoli!$B$9*B292^(Calcoli!$B$13-1))/D292","v":8.0771357724387612E-4},{"$f":"IF(Calcoli!$B$13>=2, (Calcoli!$B$9*Calcoli!$B$10*B292^(Calcoli!$B$13-2))/D292,NA())","v":0.99919228641735869},{"$f":"IF(Calcoli!$B$13>=3,(Calcoli!$B$9*Calcoli!$B$10*Calcoli!$B$11*B292^(Calcoli!$B$13-3))/D292,NA())","v":{"$error":"#N/A"}},{"$f":"IF(Calcoli!$B$13=3,(E292+F292*2+G292*3),IF(Calcoli!$B$13=2,(E292+F292*2),E292))","v":1.9991922864119613},2.0051884241178222,{"$f":"(B292-(Calcoli!$B$8/B292))/'Acido - Base forte'!$F$1","v":-1.9952618137817329E-3},{"$f":"(B292-(Calcoli!$B$8/B292))/'Acido - Base forte'!$F$2","v":-1.9952618137817329E-3}]
[{"$f":"IF((I293*'Acido - Base forte'!$F$3*'Acido - Base forte'!$F$1)/'Acido - Base forte'!$F$2>0,IF((I293*'Acido - Base forte'!$F$3*'Acido - Base forte'!$F$1)/'Acido - Base forte'!$F$2<1.8*Calcoli!$B$13*('Acido - Base forte'!$F$1*'Acido - Base forte'!$F$3/'Acido - Base forte'!$F$2),I293*'Acido - Base forte'!$F$3*'Acido - Base forte'!$F$1/'Acido - Base forte'!$F$2,NA()),NA())","v":50.150241933364299},4.4668359215094219E-11,10.350000000000019,{"$f":"IF(Calcoli!$B$13=3,B293^Calcoli!$B$13+Calcoli!$B$9*B293^2+Calcoli!$B$9*Calcoli!$B$10*B293+Calcoli!$B$9*Calcoli!$B$10*Calcoli!$B$11,IF(Calcoli!$B$13=2,B293^Calcoli!$B$13+Calcoli!$B$9*B293+Calcoli!$B$9*Calcoli!$B$10,B293^Calcoli!$B$13+Calcoli!$B$9))","v":4.6533501269610848E-10},{"$f":"(Calcoli!$B$9*B293^(Calcoli!$B$13-1))/D293","v":7.1993872150770204E-4},{"$f":"IF(Calcoli!$B$13>=2, (Calcoli!$B$9*Calcoli!$B$10*B293^(Calcoli!$B$13-2))/D293,NA())","v":0.99928006127420443},{"$f":"IF(Calcoli!$B$13>=3,(Calcoli!$B$9*Calcoli!$B$10*Calcoli!$B$11*B293^(Calcoli!$B$13-3))/D293,NA())","v":{"$error":"#N/A"}},{"$f":"IF(Calcoli!$B$13=3,(E293+F293*2+G293*3),IF(Calcoli!$B$13=2,(E293+F293*2),E293))","v":1.9992800612699166},2.0060096773345717,{"$f":"(B293-(Calcoli!$B$8/B293))/'Acido - Base forte'!$F$1","v":-2.2387206918848524E-3},{"$f":"(B293-(Calcoli!$B$8/B293))/'Acido - Base forte'!$F$2","v":-2.2387206918848524E-3}]
[{"$f":"IF((I294*'Acido - Base forte'!$F$3*'Acido - Base forte'!$F$1)/'Acido - Base forte'!$F$2>0,IF((I294*'Acido - Base forte'!$F$3*'Acido - Base forte'!$F$1)/'Acido - Base forte'!$F$2<1.8*Calcoli!$B$13*('Acido - Base forte'!$F$1*'Acido - Base forte'!$F$3/'Acido - Base forte'!$F$2),I294*'Acido - Base forte'!$F$3*'Acido - Base forte'!$F$1/'Acido - Base forte'!$F$2,NA()),NA())","v":50.172783056154103},3.9810717055347879E-11,10.40000000000002,{"$f":"IF(Calcoli!$B$13=3,B294^Calcoli!$B$13+Calcoli!$B$9*B294^2+Calcoli!$B$9*Calcoli!$B$10*B294+Calcoli!$B$9*Calcoli!$B$10*Calcoli!$B$11,IF(Calcoli!$B$13=2,B294^Calcoli!$B$13+Calcoli!$B$9*B294+Calcoli!$B$9*Calcoli!$B$10,B294^Calcoli!$B$13+Calcoli!$B$9))","v":4.6529858037949999E-10},{"$f":"(Calcoli!$B$9*B294^(Calcoli!$B$13-1))/D294","v":6.4169630105379938E-4},{"$f":"IF(Calcoli!$B$13>=2, (Calcoli!$B$9*Calcoli!$B$10*B294^(Calcoli!$B$13-2))/D294,NA())","v":0.99935830369554002},{"$f":"IF(Calcoli!$B$13>=3,(Calcoli!$B$9*Calcoli!$B$10*Calcoli!$B$11*B294^(Calcoli!$B$13-3))/D294,NA())","v":{"$error":"#N/A"}},{"$f":"IF(Calcoli!$B$13=3,(E294+F294*2+G294*3),IF(Calcoli!$B$13=2,(E294+F294*2),E294))","v":1.9993583036921339},2.0069113222461641,{"$f":"(B294-(Calcoli!$B$8/B294))/'Acido - Base forte'!$F$1","v":-2.511886033402526E-3},{"$f":"(B294-(Calcoli!$B$8/B294))/'Acido - Base forte'!$F$2","v":-2.511886033402526E-3}]
[{"$f":"IF((I295*'Acido - Base forte'!$F$3*'Acido - Base forte'!$F$1)/'Acido - Base forte'!$F$2>0,IF((I295*'Acido - Base forte'!$F$3*'Acido - Base forte'!$F$1)/'Acido - Base forte'!$F$2<1.8*Calcoli!$B$13*('Acido - Base forte'!$F$1*'Acido - Base forte'!$F$3/'Acido - Base forte'!$F$2),I295*'Acido - Base forte'!$F$3*'Acido - Base forte'!$F$1/'Acido - Base forte'!$F$2,NA()),NA())","v":50.197636900912542},3.5481338923355791E-11,10.450000000000021,{"$f":"IF(Calcoli!$B$13=3,B295^Calcoli!$B$13+Calcoli!$B$9*B295^2+Calcoli!$B$9*Calcoli!$B$10*B295+Calcoli!$B$9*Calcoli!$B$10*Calcoli!$B$11,IF(Calcoli!$B$13=2,B295^Calcoli!$B$13+Calcoli!$B$9*B295+Calcoli!$B$9*Calcoli!$B$10,B295^Calcoli!$B$13+Calcoli!$B$9))","v":4.6526611004318408E-10},{"$f":"(Calcoli!$B$9*B295^(Calcoli!$B$13-1))/D295","v":5.7195234335995194E-4},{"$f":"IF(Calcoli!$B$13>=2, (Calcoli!$B$9*Calcoli!$B$10*B295^(Calcoli!$B$13-2))/D295,NA())","v":0.99942804765393423},{"$f":"IF(Calcoli!$B$13>=3,(Calcoli!$B$9*Calcoli!$B$10*Calcoli!$B$11*B295^(Calcoli!$B$13-3))/D295,NA())","v":{"$error":"#N/A"}},{"$f":"IF(Calcoli!$B$13=3,(E295+F295*2+G295*3),IF(Calcoli!$B$13=2,(E295+F295*2),E295))","v":1.9994280476512285},2.0079054760365018,{"$f":"(B295-(Calcoli!$B$8/B295))/'Acido - Base forte'!$F$1","v":-2.8183825764512035E-3},{"$f":"(B295-(Calcoli!$B$8/B295))/'Acido - Base forte'!$F$2","v":-2.8183825764512035E-3}]
[{"$f":"IF((I296*'Acido - Base forte'!$F$3*'Acido - Base forte'!$F$1)/'Acido - Base forte'!$F$2>0,IF((I296*'Acido - Base forte'!$F$3*'Acido - Base forte'!$F$1)/'Acido - Base forte'!$F$2<1.8*Calcoli!$B$13*('Acido - Base forte'!$F$1*'Acido - Base forte'!$F$3/'Acido - Base forte'!$F$2),I296*'Acido - Base forte'!$F$3*'Acido - Base forte'!$F$1/'Acido - Base forte'!$F$2,NA()),NA())","v":50.225138130626988},3.1622776601682133E-11,10.500000000000021,{"$f":"IF(Calcoli!$B$13=3,B296^Calcoli!$B$13+Calcoli!$B$9*B296^2+Calcoli!$B$9*Calcoli!$B$10*B296+Calcoli!$B$9*Calcoli!$B$10*Calcoli!$B$11,IF(Calcoli!$B$13=2,B296^Calcoli!$B$13+Calcoli!$B$9*B296+Calcoli!$B$9*Calcoli!$B$10,B296^Calcoli!$B$13+Calcoli!$B$9))","v":4.652371708255126E-10},{"$f":"(Calcoli!$B$9*B296^(Calcoli!$B$13-1))/D296","v":5.0978477083372822E-4},{"$f":"IF(Calcoli!$B$13>=2, (Calcoli!$B$9*Calcoli!$B$10*B296^(Calcoli!$B$13-2))/D296,NA())","v":0.99949021522701686},{"$f":"IF(Calcoli!$B$13>=3,(Calcoli!$B$9*Calcoli!$B$10*Calcoli!$B$11*B296^(Calcoli!$B$13-3))/D296,NA())","v":{"$error":"#N/A"}},{"$f":"IF(Calcoli!$B$13=3,(E296+F296*2+G296*3),IF(Calcoli!$B$13=2,(E296+F296*2),E296))","v":1.9994902152248675},2.0090055252250796,{"$f":"(B296-(Calcoli!$B$8/B296))/'Acido - Base forte'!$F$1","v":-3.1622773439407789E-3},{"$f":"(B296-(Calcoli!$B$8/B296))/'Acido - Base forte'!$F$2","v":-3.1622773439407789E-3}]
[{"$f":"IF((I297*'Acido - Base forte'!$F$3*'Acido - Base forte'!$F$1)/'Acido - Base forte'!$F$2>0,IF((I297*'Acido - Base forte'!$F$3*'Acido - Base forte'!$F$1)/'Acido - Base forte'!$F$2<1.8*Calcoli!$B$13*('Acido - Base forte'!$F$1*'Acido - Base forte'!$F$3/'Acido - Base forte'!$F$2),I297*'Acido - Base forte'!$F$3*'Acido - Base forte'!$F$1/'Acido - Base forte'!$F$2,NA()),NA())","v":50.255657845271287},2.8183829312643075E-11,10.550000000000022,{"$f":"IF(Calcoli!$B$13=3,B297^Calcoli!$B$13+Calcoli!$B$9*B297^2+Calcoli!$B$9*Calcoli!$B$10*B297+Calcoli!$B$9*Calcoli!$B$10*Calcoli!$B$11,IF(Calcoli!$B$13=2,B297^Calcoli!$B$13+Calcoli!$B$9*B297+Calcoli!$B$9*Calcoli!$B$10,B297^Calcoli!$B$13+Calcoli!$B$9))","v":4.6521137872063913E-10},{"$f":"(Calcoli!$B$9*B297^(Calcoli!$B$13-1))/D297","v":4.5437134497038306E-4},{"$f":"IF(Calcoli!$B$13>=2, (Calcoli!$B$9*Calcoli!$B$10*B297^(Calcoli!$B$13-2))/D297,NA())","v":0.99954562865332219},{"$f":"IF(Calcoli!$B$13>=3,(Calcoli!$B$9*Calcoli!$B$10*Calcoli!$B$11*B297^(Calcoli!$B$13-3))/D297,NA())","v":{"$error":"#N/A"}},{"$f":"IF(Calcoli!$B$13=3,(E297+F297*2+G297*3),IF(Calcoli!$B$13=2,(E297+F297*2),E297))","v":1.9995456286516147},2.0102263138108514,{"$f":"(B297-(Calcoli!$B$8/B297))/'Acido - Base forte'!$F$1","v":-3.5481336104976457E-3},{"$f":"(B297-(Calcoli!$B$8/B297))/'Acido - Base forte'!$F$2","v":-3.5481336104976457E-3}]
[{"$f":"IF((I298*'Acido - Base forte'!$F$3*'Acido - Base forte'!$F$1)/'Acido - Base forte'!$F$2>0,IF((I298*'Acido - Base forte'!$F$3*'Acido - Base forte'!$F$1)/'Acido - Base forte'!$F$2<1.8*Calcoli!$B$13*('Acido - Base forte'!$F$1*'Acido - Base forte'!$F$3/'Acido - Base forte'!$F$2),I298*'Acido - Base forte'!$F$3*'Acido - Base forte'!$F$1/'Acido - Base forte'!$F$2,NA()),NA())","v":50.289608840032443},2.5118864315094421E-11,10.600000000000023,{"$f":"IF(Calcoli!$B$13=3,B298^Calcoli!$B$13+Calcoli!$B$9*B298^2+Calcoli!$B$9*Calcoli!$B$10*B298+Calcoli!$B$9*Calcoli!$B$10*Calcoli!$B$11,IF(Calcoli!$B$13=2,B298^Calcoli!$B$13+Calcoli!$B$9*B298+Calcoli!$B$9*Calcoli!$B$10,B298^Calcoli!$B$13+Calcoli!$B$9))","v":4.6518839148299415E-10},{"$f":"(Calcoli!$B$9*B298^(Calcoli!$B$13-1))/D298","v":4.049788984686974E-4},{"$f":"IF(Calcoli!$B$13>=2, (Calcoli!$B$9*Calcoli!$B$10*B298^(Calcoli!$B$13-2))/D298,NA())","v":0.99959502110017495},{"$f":"IF(Calcoli!$B$13>=3,(Calcoli!$B$9*Calcoli!$B$10*Calcoli!$B$11*B298^(Calcoli!$B$13-3))/D298,NA())","v":{"$error":"#N/A"}},{"$f":"IF(Calcoli!$B$13=3,(E298+F298*2+G298*3),IF(Calcoli!$B$13=2,(E298+F298*2),E298))","v":1.9995950210988187},2.0115843536012976,{"$f":"(B298-(Calcoli!$B$8/B298))/'Acido - Base forte'!$F$1","v":-3.9810714543465483E-3},{"$f":"(B298-(Calcoli!$B$8/B298))/'Acido - Base forte'!$F$2","v":-3.9810714543465483E-3}]
[{"$f":"IF((I299*'Acido - Base forte'!$F$3*'Acido - Base forte'!$F$1)/'Acido - Base forte'!$F$2>0,IF((I299*'Acido - Base forte'!$F$3*'Acido - Base forte'!$F$1)/'Acido - Base forte'!$F$2<1.8*Calcoli!$B$13*('Acido - Base forte'!$F$1*'Acido - Base forte'!$F$3/'Acido - Base forte'!$F$2),I299*'Acido - Base forte'!$F$3*'Acido - Base forte'!$F$1/'Acido - Base forte'!$F$2,NA()),NA())","v":50.327451506347387},2.2387211385682175E-11,10.650000000000023,{"$f":"IF(Calcoli!$B$13=3,B299^Calcoli!$B$13+Calcoli!$B$9*B299^2+Calcoli!$B$9*Calcoli!$B$10*B299+Calcoli!$B$9*Calcoli!$B$10*Calcoli!$B$11,IF(Calcoli!$B$13=2,B299^Calcoli!$B$13+Calcoli!$B$9*B299+Calcoli!$B$9*Calcoli!$B$10,B299^Calcoli!$B$13+Calcoli!$B$9))","v":4.651679040858938E-10},{"$f":"(Calcoli!$B$9*B299^(Calcoli!$B$13-1))/D299","v":3.6095371997465375E-4},{"$f":"IF(Calcoli!$B$13>=2, (Calcoli!$B$9*Calcoli!$B$10*B299^(Calcoli!$B$13-2))/D299,NA())","v":0.99963904627894795},{"$f":"IF(Calcoli!$B$13>=3,(Calcoli!$B$9*Calcoli!$B$10*Calcoli!$B$11*B299^(Calcoli!$B$13-3))/D299,NA())","v":{"$error":"#N/A"}},{"$f":"IF(Calcoli!$B$13=3,(E299+F299*2+G299*3),IF(Calcoli!$B$13=2,(E299+F299*2),E299))","v":1.9996390462778706},2.0130980602538955,{"$f":"(B299-(Calcoli!$B$8/B299))/'Acido - Base forte'!$F$1","v":-4.4668356976377607E-3},{"$f":"(B299-(Calcoli!$B$8/B299))/'Acido - Base forte'!$F$2","v":-4.4668356976377607E-3}]
[{"$f":"IF((I300*'Acido - Base forte'!$F$3*'Acido - Base forte'!$F$1)/'Acido - Base forte'!$F$2>0,IF((I300*'Acido - Base forte'!$F$3*'Acido - Base forte'!$F$1)/'Acido - Base forte'!$F$2<1.8*Calcoli!$B$13*('Acido - Base forte'!$F$1*'Acido - Base forte'!$F$3/'Acido - Base forte'!$F$2),I300*'Acido - Base forte'!$F$3*'Acido - Base forte'!$F$1/'Acido - Base forte'!$F$2,NA()),NA())","v":50.3697004774885},1.9952623149687646E-11,10.700000000000024,{"$f":"IF(Calcoli!$B$13=3,B300^Calcoli!$B$13+Calcoli!$B$9*B300^2+Calcoli!$B$9*Calcoli!$B$10*B300+Calcoli!$B$9*Calcoli!$B$10*Calcoli!$B$11,IF(Calcoli!$B$13=2,B300^Calcoli!$B$13+Calcoli!$B$9*B300+Calcoli!$B$9*Calcoli!$B$10,B300^Calcoli!$B$13+Calcoli!$B$9))","v":4.6514964467402075E-10},{"$f":"(Calcoli!$B$9*B300^(Calcoli!$B$13-1))/D300","v":3.2171296987129616E-4},{"$f":"IF(Calcoli!$B$13>=2, (Calcoli!$B$9*Calcoli!$B$10*B300^(Calcoli!$B$13-2))/D300,NA())","v":0.99967828702927286},{"$f":"IF(Calcoli!$B$13>=3,(Calcoli!$B$9*Calcoli!$B$10*Calcoli!$B$11*B300^(Calcoli!$B$13-3))/D300,NA())","v":{"$error":"#N/A"}},{"$f":"IF(Calcoli!$B$13=3,(E300+F300*2+G300*3),IF(Calcoli!$B$13=2,(E300+F300*2),E300))","v":1.9996782870284171},2.01478801909954,{"$f":"(B300-(Calcoli!$B$8/B300))/'Acido - Base forte'!$F$1","v":-5.0118721367467802E-3},{"$f":"(B300-(Calcoli!$B$8/B300))/'Acido - Base forte'!$F$2","v":-5.0118721367467802E-3}]
[{"$f":"IF((I301*'Acido - Base forte'!$F$3*'Acido - Base forte'!$F$1)/'Acido - Base forte'!$F$2>0,IF((I301*'Acido - Base forte'!$F$3*'Acido - Base forte'!$F$1)/'Acido - Base forte'!$F$2<1.8*Calcoli!$B$13*('Acido - Base forte'!$F$1*'Acido - Base forte'!$F$3/'Acido - Base forte'!$F$2),I301*'Acido - Base forte'!$F$3*'Acido - Base forte'!$F$1/'Acido - Base forte'!$F$2,NA()),NA())","v":50.416932136700623},1.7782794100388148E-11,{"$f":"C300+0.05","v":10.750000000000025},{"$f":"IF(Calcoli!$B$13=3,B301^Calcoli!$B$13+Calcoli!$B$9*B301^2+Calcoli!$B$9*Calcoli!$B$10*B301+Calcoli!$B$9*Calcoli!$B$10*Calcoli!$B$11,IF(Calcoli!$B$13=2,B301^Calcoli!$B$13+Calcoli!$B$9*B301+Calcoli!$B$9*Calcoli!$B$10,B301^Calcoli!$B$13+Calcoli!$B$9))","v":4.6513337095606915E-10},{"$f":"(Calcoli!$B$9*B301^(Calcoli!$B$13-1))/D301","v":2.8673701798426259E-4},{"$f":"IF(Calcoli!$B$13>=2, (Calcoli!$B$9*Calcoli!$B$10*B301^(Calcoli!$B$13-2))/D301,NA())","v":0.99971326298133589},{"$f":"IF(Calcoli!$B$13>=3,(Calcoli!$B$9*Calcoli!$B$10*Calcoli!$B$11*B301^(Calcoli!$B$13-3))/D301,NA())","v":{"$error":"#N/A"}},{"$f":"IF(Calcoli!$B$13=3,(E301+F301*2+G301*3),IF(Calcoli!$B$13=2,(E301+F301*2),E301))","v":1.999713262980656},2.0166772854680248,{"$f":"(B301-(Calcoli!$B$8/B301))/'Acido - Base forte'!$F$1","v":-5.6234130740758911E-3},{"$f":"(B301-(Calcoli!$B$8/B301))/'Acido - Base forte'!$F$2","v":-5.6234130740758911E-3}]
[{"$f":"IF((I302*'Acido - Base forte'!$F$3*'Acido - Base forte'!$F$1)/'Acido - Base forte'!$F$2>0,IF((I302*'Acido - Base forte'!$F$3*'Acido - Base forte'!$F$1)/'Acido - Base forte'!$F$2<1.8*Calcoli!$B$13*('Acido - Base forte'!$F$1*'Acido - Base forte'!$F$3/'Acido - Base forte'!$F$2),I302*'Acido - Base forte'!$F$3*'Acido - Base forte'!$F$1/'Acido - Base forte'!$F$2,NA()),NA())","v":50.469793125467852},1.584893192461018E-11,{"$f":"C301+0.05","v":10.800000000000026},{"$f":"IF(Calcoli!$B$13=3,B302^Calcoli!$B$13+Calcoli!$B$9*B302^2+Calcoli!$B$9*Calcoli!$B$10*B302+Calcoli!$B$9*Calcoli!$B$10*Calcoli!$B$11,IF(Calcoli!$B$13=2,B302^Calcoli!$B$13+Calcoli!$B$9*B302+Calcoli!$B$9*Calcoli!$B$10,B302^Calcoli!$B$13+Calcoli!$B$9))","v":4.6511886698968577E-10},{"$f":"(Calcoli!$B$9*B302^(Calcoli!$B$13-1))/D302","v":2.5556260532689221E-4},{"$f":"IF(Calcoli!$B$13>=2, (Calcoli!$B$9*Calcoli!$B$10*B302^(Calcoli!$B$13-2))/D302,NA())","v":0.99974443739413299},{"$f":"IF(Calcoli!$B$13>=3,(Calcoli!$B$9*Calcoli!$B$10*Calcoli!$B$11*B302^(Calcoli!$B$13-3))/D302,NA())","v":{"$error":"#N/A"}},{"$f":"IF(Calcoli!$B$13=3,(E302+F302*2+G302*3),IF(Calcoli!$B$13=2,(E302+F302*2),E302))","v":1.9997444373935929},2.0187917250187137,{"$f":"(B302-(Calcoli!$B$8/B302))/'Acido - Base forte'!$F$1","v":-6.3095732863129922E-3},{"$f":"(B302-(Calcoli!$B$8/B302))/'Acido - Base forte'!$F$2","v":-6.3095732863129922E-3}]
[{"$f":"IF((I303*'Acido - Base forte'!$F$3*'Acido - Base forte'!$F$1)/'Acido - Base forte'!$F$2>0,IF((I303*'Acido - Base forte'!$F$3*'Acido - Base forte'!$F$1)/'Acido - Base forte'!$F$2<1.8*Calcoli!$B$13*('Acido - Base forte'!$F$1*'Acido - Base forte'!$F$3/'Acido - Base forte'!$F$2),I303*'Acido - Base forte'!$F$3*'Acido - Base forte'!$F$1/'Acido - Base forte'!$F$2,NA()),NA())","v":50.529010013130744},1.4125375446226649E-11,10.850000000000026,{"$f":"IF(Calcoli!$B$13=3,B303^Calcoli!$B$13+Calcoli!$B$9*B303^2+Calcoli!$B$9*Calcoli!$B$10*B303+Calcoli!$B$9*Calcoli!$B$10*Calcoli!$B$11,IF(Calcoli!$B$13=2,B303^Calcoli!$B$13+Calcoli!$B$9*B303+Calcoli!$B$9*Calcoli!$B$10,B303^Calcoli!$B$13+Calcoli!$B$9))","v":4.6510594031604624E-10},{"$f":"(Calcoli!$B$9*B303^(Calcoli!$B$13-1))/D303","v":2.2777674216483212E-4},{"$f":"IF(Calcoli!$B$13>=2, (Calcoli!$B$9*Calcoli!$B$10*B303^(Calcoli!$B$13-2))/D303,NA())","v":0.99977222325740611},{"$f":"IF(Calcoli!$B$13>=3,(Calcoli!$B$9*Calcoli!$B$10*Calcoli!$B$11*B303^(Calcoli!$B$13-3))/D303,NA())","v":{"$error":"#N/A"}},{"$f":"IF(Calcoli!$B$13=3,(E303+F303*2+G303*3),IF(Calcoli!$B$13=2,(E303+F303*2),E303))","v":1.999772223256977},2.0211604005252295,{"$f":"(B303-(Calcoli!$B$8/B303))/'Acido - Base forte'!$F$1","v":-7.0794577025880719E-3},{"$f":"(B303-(Calcoli!$B$8/B303))/'Acido - Base forte'!$F$2","v":-7.0794577025880719E-3}]
[{"$f":"IF((I304*'Acido - Base forte'!$F$3*'Acido - Base forte'!$F$1)/'Acido - Base forte'!$F$2>0,IF((I304*'Acido - Base forte'!$F$3*'Acido - Base forte'!$F$1)/'Acido - Base forte'!$F$2<1.8*Calcoli!$B$13*('Acido - Base forte'!$F$1*'Acido - Base forte'!$F$3/'Acido - Base forte'!$F$2),I304*'Acido - Base forte'!$F$3*'Acido - Base forte'!$F$1/'Acido - Base forte'!$F$2,NA()),NA())","v":50.595400317747028},1.2589254117940881E-11,10.900000000000027,{"$f":"IF(Calcoli!$B$13=3,B304^Calcoli!$B$13+Calcoli!$B$9*B304^2+Calcoli!$B$9*Calcoli!$B$10*B304+Calcoli!$B$9*Calcoli!$B$10*Calcoli!$B$11,IF(Calcoli!$B$13=2,B304^Calcoli!$B$13+Calcoli!$B$9*B304+Calcoli!$B$9*Calcoli!$B$10,B304^Calcoli!$B$13+Calcoli!$B$9))","v":4.6509441940604305E-10},{"$f":"(Calcoli!$B$9*B304^(Calcoli!$B$13-1))/D304","v":2.0301126383140988E-4},{"$f":"IF(Calcoli!$B$13>=2, (Calcoli!$B$9*Calcoli!$B$10*B304^(Calcoli!$B$13-2))/D304,NA())","v":0.99979698873582779},{"$f":"IF(Calcoli!$B$13>=3,(Calcoli!$B$9*Calcoli!$B$10*Calcoli!$B$11*B304^(Calcoli!$B$13-3))/D304,NA())","v":{"$error":"#N/A"}},{"$f":"IF(Calcoli!$B$13=3,(E304+F304*2+G304*3),IF(Calcoli!$B$13=2,(E304+F304*2),E304))","v":1.9997969887354869},2.0238160127098812,{"$f":"(B304-(Calcoli!$B$8/B304))/'Acido - Base forte'!$F$1","v":-7.9432822213507722E-3},{"$f":"(B304-(Calcoli!$B$8/B304))/'Acido - Base forte'!$F$2","v":-7.9432822213507722E-3}]
[{"$f":"IF((I305*'Acido - Base forte'!$F$3*'Acido - Base forte'!$F$1)/'Acido - Base forte'!$F$2>0,IF((I305*'Acido - Base forte'!$F$3*'Acido - Base forte'!$F$1)/'Acido - Base forte'!$F$2<1.8*Calcoli!$B$13*('Acido - Base forte'!$F$1*'Acido - Base forte'!$F$3/'Acido - Base forte'!$F$2),I305*'Acido - Base forte'!$F$3*'Acido - Base forte'!$F$1/'Acido - Base forte'!$F$2,NA()),NA())","v":50.669885103012511},1.1220184543018894E-11,10.950000000000028,{"$f":"IF(Calcoli!$B$13=3,B305^Calcoli!$B$13+Calcoli!$B$9*B305^2+Calcoli!$B$9*Calcoli!$B$10*B305+Calcoli!$B$9*Calcoli!$B$10*Calcoli!$B$11,IF(Calcoli!$B$13=2,B305^Calcoli!$B$13+Calcoli!$B$9*B305+Calcoli!$B$9*Calcoli!$B$10,B305^Calcoli!$B$13+Calcoli!$B$9))","v":4.6508415138419855E-10},{"$f":"(Calcoli!$B$9*B305^(Calcoli!$B$13-1))/D305","v":1.8093797396059964E-4},{"$f":"IF(Calcoli!$B$13>=2, (Calcoli!$B$9*Calcoli!$B$10*B305^(Calcoli!$B$13-2))/D305,NA())","v":0.99981906202576865},{"$f":"IF(Calcoli!$B$13>=3,(Calcoli!$B$9*Calcoli!$B$10*Calcoli!$B$11*B305^(Calcoli!$B$13-3))/D305,NA())","v":{"$error":"#N/A"}},{"$f":"IF(Calcoli!$B$13=3,(E305+F305*2+G305*3),IF(Calcoli!$B$13=2,(E305+F305*2),E305))","v":1.9998190620254979},2.0267954041205005,{"$f":"(B305-(Calcoli!$B$8/B305))/'Acido - Base forte'!$F$1","v":-8.9125092691361985E-3},{"$f":"(B305-(Calcoli!$B$8/B305))/'Acido - Base forte'!$F$2","v":-8.9125092691361985E-3}]
[{"$f":"IF((I306*'Acido - Base forte'!$F$3*'Acido - Base forte'!$F$1)/'Acido - Base forte'!$F$2>0,IF((I306*'Acido - Base forte'!$F$3*'Acido - Base forte'!$F$1)/'Acido - Base forte'!$F$2<1.8*Calcoli!$B$13*('Acido - Base forte'!$F$1*'Acido - Base forte'!$F$3/'Acido - Base forte'!$F$2),I306*'Acido - Base forte'!$F$3*'Acido - Base forte'!$F$1/'Acido - Base forte'!$F$2,NA()),NA())","v":50.753503418796733},9.9999999999993095E-12,11.000000000000028,{"$f":"IF(Calcoli!$B$13=3,B306^Calcoli!$B$13+Calcoli!$B$9*B306^2+Calcoli!$B$9*Calcoli!$B$10*B306+Calcoli!$B$9*Calcoli!$B$10*Calcoli!$B$11,IF(Calcoli!$B$13=2,B306^Calcoli!$B$13+Calcoli!$B$9*B306+Calcoli!$B$9*Calcoli!$B$10,B306^Calcoli!$B$13+Calcoli!$B$9))","v":4.6507500000010001E-10},{"$f":"(Calcoli!$B$9*B306^(Calcoli!$B$13-1))/D306","v":1.6126431220766263E-4},{"$f":"IF(Calcoli!$B$13>=2, (Calcoli!$B$9*Calcoli!$B$10*B306^(Calcoli!$B$13-2))/D306,NA())","v":0.99983873568757731},{"$f":"IF(Calcoli!$B$13>=3,(Calcoli!$B$9*Calcoli!$B$10*Calcoli!$B$11*B306^(Calcoli!$B$13-3))/D306,NA())","v":{"$error":"#N/A"}},{"$f":"IF(Calcoli!$B$13=3,(E306+F306*2+G306*3),IF(Calcoli!$B$13=2,(E306+F306*2),E306))","v":1.9998387356873624},2.0301401367518692,{"$f":"(B306-(Calcoli!$B$8/B306))/'Acido - Base forte'!$F$1","v":-9.9999999000006893E-3},{"$f":"(B306-(Calcoli!$B$8/B306))/'Acido - Base forte'!$F$2","v":-9.9999999000006893E-3}]
[{"$f":"IF((I307*'Acido - Base forte'!$F$3*'Acido - Base forte'!$F$1)/'Acido - Base forte'!$F$2>0,IF((I307*'Acido - Base forte'!$F$3*'Acido - Base forte'!$F$1)/'Acido - Base forte'!$F$2<1.8*Calcoli!$B$13*('Acido - Base forte'!$F$1*'Acido - Base forte'!$F$3/'Acido - Base forte'!$F$2),I307*'Acido - Base forte'!$F$3*'Acido - Base forte'!$F$1/'Acido - Base forte'!$F$2,NA()),NA())","v":50.847428905409465},8.9125093813368449E-12,11.050000000000029,{"$f":"IF(Calcoli!$B$13=3,B307^Calcoli!$B$13+Calcoli!$B$9*B307^2+Calcoli!$B$9*Calcoli!$B$10*B307+Calcoli!$B$9*Calcoli!$B$10*Calcoli!$B$11,IF(Calcoli!$B$13=2,B307^Calcoli!$B$13+Calcoli!$B$9*B307+Calcoli!$B$9*Calcoli!$B$10,B307^Calcoli!$B$13+Calcoli!$B$9))","v":4.6506684382043945E-10},{"$f":"(Calcoli!$B$9*B307^(Calcoli!$B$13-1))/D307","v":1.4372949017589929E-4},{"$f":"IF(Calcoli!$B$13>=2, (Calcoli!$B$9*Calcoli!$B$10*B307^(Calcoli!$B$13-2))/D307,NA())","v":0.99985627050965331},{"$f":"IF(Calcoli!$B$13>=3,(Calcoli!$B$9*Calcoli!$B$10*Calcoli!$B$11*B307^(Calcoli!$B$13-3))/D307,NA())","v":{"$error":"#N/A"}},{"$f":"IF(Calcoli!$B$13=3,(E307+F307*2+G307*3),IF(Calcoli!$B$13=2,(E307+F307*2),E307))","v":1.9998562705094824},2.0338971562163786,{"$f":"(B307-(Calcoli!$B$8/B307))/'Acido - Base forte'!$F$1","v":-1.1220184453895308E-2},{"$f":"(B307-(Calcoli!$B$8/B307))/'Acido - Base forte'!$F$2","v":-1.1220184453895308E-2}]
[{"$f":"IF((I308*'Acido - Base forte'!$F$3*'Acido - Base forte'!$F$1)/'Acido - Base forte'!$F$2>0,IF((I308*'Acido - Base forte'!$F$3*'Acido - Base forte'!$F$1)/'Acido - Base forte'!$F$2<1.8*Calcoli!$B$13*('Acido - Base forte'!$F$1*'Acido - Base forte'!$F$3/'Acido - Base forte'!$F$2),I308*'Acido - Base forte'!$F$3*'Acido - Base forte'!$F$1/'Acido - Base forte'!$F$2,NA()),NA())","v":50.952988946696465},7.9432823472422463E-12,11.10000000000003,{"$f":"IF(Calcoli!$B$13=3,B308^Calcoli!$B$13+Calcoli!$B$9*B308^2+Calcoli!$B$9*Calcoli!$B$10*B308+Calcoli!$B$9*Calcoli!$B$10*Calcoli!$B$11,IF(Calcoli!$B$13=2,B308^Calcoli!$B$13+Calcoli!$B$9*B308+Calcoli!$B$9*Calcoli!$B$10,B308^Calcoli!$B$13+Calcoli!$B$9))","v":4.6505957461766742E-10},{"$f":"(Calcoli!$B$9*B308^(Calcoli!$B$13-1))/D308","v":1.2810104523338552E-4},{"$f":"IF(Calcoli!$B$13>=2, (Calcoli!$B$9*Calcoli!$B$10*B308^(Calcoli!$B$13-2))/D308,NA())","v":0.99987189895463091},{"$f":"IF(Calcoli!$B$13>=3,(Calcoli!$B$9*Calcoli!$B$10*Calcoli!$B$11*B308^(Calcoli!$B$13-3))/D308,NA())","v":{"$error":"#N/A"}},{"$f":"IF(Calcoli!$B$13=3,(E308+F308*2+G308*3),IF(Calcoli!$B$13=2,(E308+F308*2),E308))","v":1.9998718989544952},2.0381195578678586,{"$f":"(B308-(Calcoli!$B$8/B308))/'Acido - Base forte'!$F$1","v":-1.2589254038509749E-2},{"$f":"(B308-(Calcoli!$B$8/B308))/'Acido - Base forte'!$F$2","v":-1.2589254038509749E-2}]
[{"$f":"IF((I309*'Acido - Base forte'!$F$3*'Acido - Base forte'!$F$1)/'Acido - Base forte'!$F$2>0,IF((I309*'Acido - Base forte'!$F$3*'Acido - Base forte'!$F$1)/'Acido - Base forte'!$F$2<1.8*Calcoli!$B$13*('Acido - Base forte'!$F$1*'Acido - Base forte'!$F$3/'Acido - Base forte'!$F$2),I309*'Acido - Base forte'!$F$3*'Acido - Base forte'!$F$1/'Acido - Base forte'!$F$2,NA()),NA())","v":51.071686837840268},7.0794578438408763E-12,11.150000000000031,{"$f":"IF(Calcoli!$B$13=3,B309^Calcoli!$B$13+Calcoli!$B$9*B309^2+Calcoli!$B$9*Calcoli!$B$10*B309+Calcoli!$B$9*Calcoli!$B$10*Calcoli!$B$11,IF(Calcoli!$B$13=2,B309^Calcoli!$B$13+Calcoli!$B$9*B309+Calcoli!$B$9*Calcoli!$B$10,B309^Calcoli!$B$13+Calcoli!$B$9))","v":4.6505309593387895E-10},{"$f":"(Calcoli!$B$9*B309^(Calcoli!$B$13-1))/D309","v":1.141717672520467E-4},{"$f":"IF(Calcoli!$B$13>=2, (Calcoli!$B$9*Calcoli!$B$10*B309^(Calcoli!$B$13-2))/D309,NA())","v":0.99988582823264016},{"$f":"IF(Calcoli!$B$13>=3,(Calcoli!$B$9*Calcoli!$B$10*Calcoli!$B$11*B309^(Calcoli!$B$13-3))/D309,NA())","v":{"$error":"#N/A"}},{"$f":"IF(Calcoli!$B$13=3,(E309+F309*2+G309*3),IF(Calcoli!$B$13=2,(E309+F309*2),E309))","v":1.9998858282325325},2.0428674735136108,{"$f":"(B309-(Calcoli!$B$8/B309))/'Acido - Base forte'!$F$1","v":-1.4125375375433966E-2},{"$f":"(B309-(Calcoli!$B$8/B309))/'Acido - Base forte'!$F$2","v":-1.4125375375433966E-2}]
[{"$f":"IF((I310*'Acido - Base forte'!$F$3*'Acido - Base forte'!$F$1)/'Acido - Base forte'!$F$2>0,IF((I310*'Acido - Base forte'!$F$3*'Acido - Base forte'!$F$1)/'Acido - Base forte'!$F$2<1.8*Calcoli!$B$13*('Acido - Base forte'!$F$1*'Acido - Base forte'!$F$3/'Acido - Base forte'!$F$2),I310*'Acido - Base forte'!$F$3*'Acido - Base forte'!$F$1/'Acido - Base forte'!$F$2,NA()),NA())","v":51.205227534732721},6.3095734448014644E-12,11.200000000000031,{"$f":"IF(Calcoli!$B$13=3,B310^Calcoli!$B$13+Calcoli!$B$9*B310^2+Calcoli!$B$9*Calcoli!$B$10*B310+Calcoli!$B$9*Calcoli!$B$10*Calcoli!$B$11,IF(Calcoli!$B$13=2,B310^Calcoli!$B$13+Calcoli!$B$9*B310+Calcoli!$B$9*Calcoli!$B$10,B310^Calcoli!$B$13+Calcoli!$B$9))","v":4.6504732180087581E-10},{"$f":"(Calcoli!$B$9*B310^(Calcoli!$B$13-1))/D310","v":1.0175695809355343E-4},{"$f":"IF(Calcoli!$B$13>=2, (Calcoli!$B$9*Calcoli!$B$10*B310^(Calcoli!$B$13-2))/D310,NA())","v":0.99989824304182084},{"$f":"IF(Calcoli!$B$13>=3,(Calcoli!$B$9*Calcoli!$B$10*Calcoli!$B$11*B310^(Calcoli!$B$13-3))/D310,NA())","v":{"$error":"#N/A"}},{"$f":"IF(Calcoli!$B$13=3,(E310+F310*2+G310*3),IF(Calcoli!$B$13=2,(E310+F310*2),E310))","v":1.9998982430417351},2.0482091013893089,{"$f":"(B310-(Calcoli!$B$8/B310))/'Acido - Base forte'!$F$1","v":-1.5848931861516573E-2},{"$f":"(B310-(Calcoli!$B$8/B310))/'Acido - Base forte'!$F$2","v":-1.5848931861516573E-2}]
[{"$f":"IF((I311*'Acido - Base forte'!$F$3*'Acido - Base forte'!$F$1)/'Acido - Base forte'!$F$2>0,IF((I311*'Acido - Base forte'!$F$3*'Acido - Base forte'!$F$1)/'Acido - Base forte'!$F$2<1.8*Calcoli!$B$13*('Acido - Base forte'!$F$1*'Acido - Base forte'!$F$3/'Acido - Base forte'!$F$2),I311*'Acido - Base forte'!$F$3*'Acido - Base forte'!$F$1/'Acido - Base forte'!$F$2,NA()),NA())","v":51.355547678798509},5.6234132519030558E-12,11.250000000000032,{"$f":"IF(Calcoli!$B$13=3,B311^Calcoli!$B$13+Calcoli!$B$9*B311^2+Calcoli!$B$9*Calcoli!$B$10*B311+Calcoli!$B$9*Calcoli!$B$10*Calcoli!$B$11,IF(Calcoli!$B$13=2,B311^Calcoli!$B$13+Calcoli!$B$9*B311+Calcoli!$B$9*Calcoli!$B$10,B311^Calcoli!$B$13+Calcoli!$B$9))","v":4.6504217559942088E-10},{"$f":"(Calcoli!$B$9*B311^(Calcoli!$B$13-1))/D311","v":9.0691987957673397E-5},{"$f":"IF(Calcoli!$B$13>=2, (Calcoli!$B$9*Calcoli!$B$10*B311^(Calcoli!$B$13-2))/D311,NA())","v":0.99990930801197431},{"$f":"IF(Calcoli!$B$13>=3,(Calcoli!$B$9*Calcoli!$B$10*Calcoli!$B$11*B311^(Calcoli!$B$13-3))/D311,NA())","v":{"$error":"#N/A"}},{"$f":"IF(Calcoli!$B$13=3,(E311+F311*2+G311*3),IF(Calcoli!$B$13=2,(E311+F311*2),E311))","v":1.9999093080119064},2.0542219071519403,{"$f":"(B311-(Calcoli!$B$8/B311))/'Acido - Base forte'!$F$1","v":-1.7782794044156471E-2},{"$f":"(B311-(Calcoli!$B$8/B311))/'Acido - Base forte'!$F$2","v":-1.7782794044156471E-2}]
[{"$f":"IF((I312*'Acido - Base forte'!$F$3*'Acido - Base forte'!$F$1)/'Acido - Base forte'!$F$2>0,IF((I312*'Acido - Base forte'!$F$3*'Acido - Base forte'!$F$1)/'Acido - Base forte'!$F$2<1.8*Calcoli!$B$13*('Acido - Base forte'!$F$1*'Acido - Base forte'!$F$3/'Acido - Base forte'!$F$2),I312*'Acido - Base forte'!$F$3*'Acido - Base forte'!$F$1/'Acido - Base forte'!$F$2,NA()),NA())","v":51.52485075188693},5.0118723362723374E-12,11.300000000000033,{"$f":"IF(Calcoli!$B$13=3,B312^Calcoli!$B$13+Calcoli!$B$9*B312^2+Calcoli!$B$9*Calcoli!$B$10*B312+Calcoli!$B$9*Calcoli!$B$10*Calcoli!$B$11,IF(Calcoli!$B$13=2,B312^Calcoli!$B$13+Calcoli!$B$9*B312+Calcoli!$B$9*Calcoli!$B$10,B312^Calcoli!$B$13+Calcoli!$B$9))","v":4.6503758904254717E-10},{"$f":"(Calcoli!$B$9*B312^(Calcoli!$B$13-1))/D312","v":8.0830116549145088E-5},{"$f":"IF(Calcoli!$B$13>=2, (Calcoli!$B$9*Calcoli!$B$10*B312^(Calcoli!$B$13-2))/D312,NA())","v":0.9999191698833968},{"$f":"IF(Calcoli!$B$13>=3,(Calcoli!$B$9*Calcoli!$B$10*Calcoli!$B$11*B312^(Calcoli!$B$13-3))/D312,NA())","v":{"$error":"#N/A"}},{"$f":"IF(Calcoli!$B$13=3,(E312+F312*2+G312*3),IF(Calcoli!$B$13=2,(E312+F312*2),E312))","v":1.9999191698833427},2.0609940300754772,{"$f":"(B312-(Calcoli!$B$8/B312))/'Acido - Base forte'!$F$1","v":-1.9952623099571604E-2},{"$f":"(B312-(Calcoli!$B$8/B312))/'Acido - Base forte'!$F$2","v":-1.9952623099571604E-2}]
[{"$f":"IF((I313*'Acido - Base forte'!$F$3*'Acido - Base forte'!$F$1)/'Acido - Base forte'!$F$2>0,IF((I313*'Acido - Base forte'!$F$3*'Acido - Base forte'!$F$1)/'Acido - Base forte'!$F$2<1.8*Calcoli!$B$13*('Acido - Base forte'!$F$1*'Acido - Base forte'!$F$3/'Acido - Base forte'!$F$2),I313*'Acido - Base forte'!$F$3*'Acido - Base forte'!$F$1/'Acido - Base forte'!$F$2,NA()),NA())","v":51.715648420591407},4.4668359215092744E-12,11.350000000000033,{"$f":"IF(Calcoli!$B$13=3,B313^Calcoli!$B$13+Calcoli!$B$9*B313^2+Calcoli!$B$9*Calcoli!$B$10*B313+Calcoli!$B$9*Calcoli!$B$10*Calcoli!$B$11,IF(Calcoli!$B$13=2,B313^Calcoli!$B$13+Calcoli!$B$9*B313+Calcoli!$B$9*Calcoli!$B$10,B313^Calcoli!$B$13+Calcoli!$B$9))","v":4.6503350126943125E-10},{"$f":"(Calcoli!$B$9*B313^(Calcoli!$B$13-1))/D313","v":7.2040550454685585E-5},{"$f":"IF(Calcoli!$B$13>=2, (Calcoli!$B$9*Calcoli!$B$10*B313^(Calcoli!$B$13-2))/D313,NA())","v":0.99992795944950241},{"$f":"IF(Calcoli!$B$13>=3,(Calcoli!$B$9*Calcoli!$B$10*Calcoli!$B$11*B313^(Calcoli!$B$13-3))/D313,NA())","v":{"$error":"#N/A"}},{"$f":"IF(Calcoli!$B$13=3,(E313+F313*2+G313*3),IF(Calcoli!$B$13=2,(E313+F313*2),E313))","v":1.9999279594494594},2.0686259368236564,{"$f":"(B313-(Calcoli!$B$8/B313))/'Acido - Base forte'!$F$1","v":-2.2387211341016826E-2},{"$f":"(B313-(Calcoli!$B$8/B313))/'Acido - Base forte'!$F$2","v":-2.2387211341016826E-2}]
[{"$f":"IF((I314*'Acido - Base forte'!$F$3*'Acido - Base forte'!$F$1)/'Acido - Base forte'!$F$2>0,IF((I314*'Acido - Base forte'!$F$3*'Acido - Base forte'!$F$1)/'Acido - Base forte'!$F$2<1.8*Calcoli!$B$13*('Acido - Base forte'!$F$1*'Acido - Base forte'!$F$3/'Acido - Base forte'!$F$2),I314*'Acido - Base forte'!$F$3*'Acido - Base forte'!$F$1/'Acido - Base forte'!$F$2,NA()),NA())","v":51.930809391922118},3.9810717055346561E-12,11.400000000000034,{"$f":"IF(Calcoli!$B$13=3,B314^Calcoli!$B$13+Calcoli!$B$9*B314^2+Calcoli!$B$9*Calcoli!$B$10*B314+Calcoli!$B$9*Calcoli!$B$10*Calcoli!$B$11,IF(Calcoli!$B$13=2,B314^Calcoli!$B$13+Calcoli!$B$9*B314+Calcoli!$B$9*Calcoli!$B$10,B314^Calcoli!$B$13+Calcoli!$B$9))","v":4.6502985803780738E-10},{"$f":"(Calcoli!$B$9*B314^(Calcoli!$B$13-1))/D314","v":6.4206711193762602E-5},{"$f":"IF(Calcoli!$B$13>=2, (Calcoli!$B$9*Calcoli!$B$10*B314^(Calcoli!$B$13-2))/D314,NA())","v":0.99993579328877213},{"$f":"IF(Calcoli!$B$13>=3,(Calcoli!$B$9*Calcoli!$B$10*Calcoli!$B$11*B314^(Calcoli!$B$13-3))/D314,NA())","v":{"$error":"#N/A"}},{"$f":"IF(Calcoli!$B$13=3,(E314+F314*2+G314*3),IF(Calcoli!$B$13=2,(E314+F314*2),E314))","v":1.9999357932887381},2.0772323756768847,{"$f":"(B314-(Calcoli!$B$8/B314))/'Acido - Base forte'!$F$1","v":-2.5118864275287082E-2},{"$f":"(B314-(Calcoli!$B$8/B314))/'Acido - Base forte'!$F$2","v":-2.5118864275287082E-2}]
[{"$f":"IF((I315*'Acido - Base forte'!$F$3*'Acido - Base forte'!$F$1)/'Acido - Base forte'!$F$2>0,IF((I315*'Acido - Base forte'!$F$3*'Acido - Base forte'!$F$1)/'Acido - Base forte'!$F$2<1.8*Calcoli!$B$13*('Acido - Base forte'!$F$1*'Acido - Base forte'!$F$3/'Acido - Base forte'!$F$2),I315*'Acido - Base forte'!$F$3*'Acido - Base forte'!$F$1/'Acido - Base forte'!$F$2,NA()),NA())","v":52.173617441389219},3.548133892335462E-12,11.450000000000035,{"$f":"IF(Calcoli!$B$13=3,B315^Calcoli!$B$13+Calcoli!$B$9*B315^2+Calcoli!$B$9*Calcoli!$B$10*B315+Calcoli!$B$9*Calcoli!$B$10*Calcoli!$B$11,IF(Calcoli!$B$13=2,B315^Calcoli!$B$13+Calcoli!$B$9*B315+Calcoli!$B$9*Calcoli!$B$10,B315^Calcoli!$B$13+Calcoli!$B$9))","v":4.6502661100420511E-10},{"$f":"(Calcoli!$B$9*B315^(Calcoli!$B$13-1))/D315","v":5.7224691152729171E-5},{"$f":"IF(Calcoli!$B$13>=2, (Calcoli!$B$9*Calcoli!$B$10*B315^(Calcoli!$B$13-2))/D315,NA())","v":0.99994277530882014},{"$f":"IF(Calcoli!$B$13>=3,(Calcoli!$B$9*Calcoli!$B$10*Calcoli!$B$11*B315^(Calcoli!$B$13-3))/D315,NA())","v":{"$error":"#N/A"}},{"$f":"IF(Calcoli!$B$13=3,(E315+F315*2+G315*3),IF(Calcoli!$B$13=2,(E315+F315*2),E315))","v":1.9999427753087931},2.0869446976555688,{"$f":"(B315-(Calcoli!$B$8/B315))/'Acido - Base forte'!$F$1","v":-2.8183829277165524E-2},{"$f":"(B315-(Calcoli!$B$8/B315))/'Acido - Base forte'!$F$2","v":-2.8183829277165524E-2}]
[{"$f":"IF((I316*'Acido - Base forte'!$F$3*'Acido - Base forte'!$F$1)/'Acido - Base forte'!$F$2>0,IF((I316*'Acido - Base forte'!$F$3*'Acido - Base forte'!$F$1)/'Acido - Base forte'!$F$2<1.8*Calcoli!$B$13*('Acido - Base forte'!$F$1*'Acido - Base forte'!$F$3/'Acido - Base forte'!$F$2),I316*'Acido - Base forte'!$F$3*'Acido - Base forte'!$F$1/'Acido - Base forte'!$F$2,NA()),NA())","v":52.447840715863933},3.1622776601681088E-12,11.500000000000036,{"$f":"IF(Calcoli!$B$13=3,B316^Calcoli!$B$13+Calcoli!$B$9*B316^2+Calcoli!$B$9*Calcoli!$B$10*B316+Calcoli!$B$9*Calcoli!$B$10*Calcoli!$B$11,IF(Calcoli!$B$13=2,B316^Calcoli!$B$13+Calcoli!$B$9*B316+Calcoli!$B$9*Calcoli!$B$10,B316^Calcoli!$B$13+Calcoli!$B$9))","v":4.6502371708246128E-10},{"$f":"(Calcoli!$B$9*B316^(Calcoli!$B$13-1))/D316","v":5.1001877065670472E-5},{"$f":"IF(Calcoli!$B$13>=2, (Calcoli!$B$9*Calcoli!$B$10*B316^(Calcoli!$B$13-2))/D316,NA())","v":0.99994899812291282},{"$f":"IF(Calcoli!$B$13>=3,(Calcoli!$B$9*Calcoli!$B$10*Calcoli!$B$11*B316^(Calcoli!$B$13-3))/D316,NA())","v":{"$error":"#N/A"}},{"$f":"IF(Calcoli!$B$13=3,(E316+F316*2+G316*3),IF(Calcoli!$B$13=2,(E316+F316*2),E316))","v":1.9999489981228913},2.0979136286345574,{"$f":"(B316-(Calcoli!$B$8/B316))/'Acido - Base forte'!$F$1","v":-3.1622776570063724E-2},{"$f":"(B316-(Calcoli!$B$8/B316))/'Acido - Base forte'!$F$2","v":-3.1622776570063724E-2}]
[{"$f":"IF((I317*'Acido - Base forte'!$F$3*'Acido - Base forte'!$F$1)/'Acido - Base forte'!$F$2>0,IF((I317*'Acido - Base forte'!$F$3*'Acido - Base forte'!$F$1)/'Acido - Base forte'!$F$2<1.8*Calcoli!$B$13*('Acido - Base forte'!$F$1*'Acido - Base forte'!$F$3/'Acido - Base forte'!$F$2),I317*'Acido - Base forte'!$F$3*'Acido - Base forte'!$F$1/'Acido - Base forte'!$F$2,NA()),NA())","v":52.75781499242126},2.8183829312642142E-12,11.550000000000036,{"$f":"IF(Calcoli!$B$13=3,B317^Calcoli!$B$13+Calcoli!$B$9*B317^2+Calcoli!$B$9*Calcoli!$B$10*B317+Calcoli!$B$9*Calcoli!$B$10*Calcoli!$B$11,IF(Calcoli!$B$13=2,B317^Calcoli!$B$13+Calcoli!$B$9*B317+Calcoli!$B$9*Calcoli!$B$10,B317^Calcoli!$B$13+Calcoli!$B$9))","v":4.6502113787199244E-10},{"$f":"(Calcoli!$B$9*B317^(Calcoli!$B$13-1))/D317","v":4.5455722897268126E-5},{"$f":"IF(Calcoli!$B$13>=2, (Calcoli!$B$9*Calcoli!$B$10*B317^(Calcoli!$B$13-2))/D317,NA())","v":0.99995454427708563},{"$f":"IF(Calcoli!$B$13>=3,(Calcoli!$B$9*Calcoli!$B$10*Calcoli!$B$11*B317^(Calcoli!$B$13-3))/D317,NA())","v":{"$error":"#N/A"}},{"$f":"IF(Calcoli!$B$13=3,(E317+F317*2+G317*3),IF(Calcoli!$B$13=2,(E317+F317*2),E317))","v":1.9999545442770685},2.1103125996968504,{"$f":"(B317-(Calcoli!$B$8/B317))/'Acido - Base forte'!$F$1","v":-3.5481338895176733E-2},{"$f":"(B317-(Calcoli!$B$8/B317))/'Acido - Base forte'!$F$2","v":-3.5481338895176733E-2}]
[{"$f":"IF((I318*'Acido - Base forte'!$F$3*'Acido - Base forte'!$F$1)/'Acido - Base forte'!$F$2>0,IF((I318*'Acido - Base forte'!$F$3*'Acido - Base forte'!$F$1)/'Acido - Base forte'!$F$2<1.8*Calcoli!$B$13*('Acido - Base forte'!$F$1*'Acido - Base forte'!$F$3/'Acido - Base forte'!$F$2),I318*'Acido - Base forte'!$F$3*'Acido - Base forte'!$F$1/'Acido - Base forte'!$F$2,NA()),NA())","v":53.10854433996257},2.5118864315093586E-12,11.600000000000037,{"$f":"IF(Calcoli!$B$13=3,B318^Calcoli!$B$13+Calcoli!$B$9*B318^2+Calcoli!$B$9*Calcoli!$B$10*B318+Calcoli!$B$9*Calcoli!$B$10*Calcoli!$B$11,IF(Calcoli!$B$13=2,B318^Calcoli!$B$13+Calcoli!$B$9*B318+Calcoli!$B$9*Calcoli!$B$10,B318^Calcoli!$B$13+Calcoli!$B$9))","v":4.6501883914824263E-10},{"$f":"(Calcoli!$B$9*B318^(Calcoli!$B$13-1))/D318","v":4.0512655940621976E-5},{"$f":"IF(Calcoli!$B$13>=2, (Calcoli!$B$9*Calcoli!$B$10*B318^(Calcoli!$B$13-2))/D318,NA())","v":0.99995948734404583},{"$f":"IF(Calcoli!$B$13>=3,(Calcoli!$B$9*Calcoli!$B$10*Calcoli!$B$11*B318^(Calcoli!$B$13-3))/D318,NA())","v":{"$error":"#N/A"}},{"$f":"IF(Calcoli!$B$13=3,(E318+F318*2+G318*3),IF(Calcoli!$B$13=2,(E318+F318*2),E318))","v":1.9999594873440323},2.1243417735985028,{"$f":"(B318-(Calcoli!$B$8/B318))/'Acido - Base forte'!$F$1","v":-3.9810717030234373E-2},{"$f":"(B318-(Calcoli!$B$8/B318))/'Acido - Base forte'!$F$2","v":-3.9810717030234373E-2}]
[{"$f":"IF((I319*'Acido - Base forte'!$F$3*'Acido - Base forte'!$F$1)/'Acido - Base forte'!$F$2>0,IF((I319*'Acido - Base forte'!$F$3*'Acido - Base forte'!$F$1)/'Acido - Base forte'!$F$2<1.8*Calcoli!$B$13*('Acido - Base forte'!$F$1*'Acido - Base forte'!$F$3/'Acido - Base forte'!$F$2),I319*'Acido - Base forte'!$F$3*'Acido - Base forte'!$F$1/'Acido - Base forte'!$F$2,NA()),NA())","v":53.505823652067534},2.2387211385681436E-12,11.650000000000038,{"$f":"IF(Calcoli!$B$13=3,B319^Calcoli!$B$13+Calcoli!$B$9*B319^2+Calcoli!$B$9*Calcoli!$B$10*B319+Calcoli!$B$9*Calcoli!$B$10*Calcoli!$B$11,IF(Calcoli!$B$13=2,B319^Calcoli!$B$13+Calcoli!$B$9*B319+Calcoli!$B$9*Calcoli!$B$10,B319^Calcoli!$B$13+Calcoli!$B$9))","v":4.6501679040854428E-10},{"$f":"(Calcoli!$B$9*B319^(Calcoli!$B$13-1))/D319","v":3.6107101690908249E-5},{"$f":"IF(Calcoli!$B$13>=2, (Calcoli!$B$9*Calcoli!$B$10*B319^(Calcoli!$B$13-2))/D319,NA())","v":0.99996389289829835},{"$f":"IF(Calcoli!$B$13>=3,(Calcoli!$B$9*Calcoli!$B$10*Calcoli!$B$11*B319^(Calcoli!$B$13-3))/D319,NA())","v":{"$error":"#N/A"}},{"$f":"IF(Calcoli!$B$13=3,(E319+F319*2+G319*3),IF(Calcoli!$B$13=2,(E319+F319*2),E319))","v":1.9999638928982877},2.1402329460827012,{"$f":"(B319-(Calcoli!$B$8/B319))/'Acido - Base forte'!$F$1","v":-4.466835919271301E-2},{"$f":"(B319-(Calcoli!$B$8/B319))/'Acido - Base forte'!$F$2","v":-4.466835919271301E-2}]
[{"$f":"IF((I320*'Acido - Base forte'!$F$3*'Acido - Base forte'!$F$1)/'Acido - Base forte'!$F$2>0,IF((I320*'Acido - Base forte'!$F$3*'Acido - Base forte'!$F$1)/'Acido - Base forte'!$F$2<1.8*Calcoli!$B$13*('Acido - Base forte'!$F$1*'Acido - Base forte'!$F$3/'Acido - Base forte'!$F$2),I320*'Acido - Base forte'!$F$3*'Acido - Base forte'!$F$1/'Acido - Base forte'!$F$2,NA()),NA())","v":53.956388895850168},1.9952623149686986E-12,11.700000000000038,{"$f":"IF(Calcoli!$B$13=3,B320^Calcoli!$B$13+Calcoli!$B$9*B320^2+Calcoli!$B$9*Calcoli!$B$10*B320+Calcoli!$B$9*Calcoli!$B$10*Calcoli!$B$11,IF(Calcoli!$B$13=2,B320^Calcoli!$B$13+Calcoli!$B$9*B320+Calcoli!$B$9*Calcoli!$B$10,B320^Calcoli!$B$13+Calcoli!$B$9))","v":4.6501496446736622E-10},{"$f":"(Calcoli!$B$9*B320^(Calcoli!$B$13-1))/D320","v":3.2180614616146219E-5},{"$f":"IF(Calcoli!$B$13>=2, (Calcoli!$B$9*Calcoli!$B$10*B320^(Calcoli!$B$13-2))/D320,NA())","v":0.99996781938537538},{"$f":"IF(Calcoli!$B$13>=3,(Calcoli!$B$9*Calcoli!$B$10*Calcoli!$B$11*B320^(Calcoli!$B$13-3))/D320,NA())","v":{"$error":"#N/A"}},{"$f":"IF(Calcoli!$B$13=3,(E320+F320*2+G320*3),IF(Calcoli!$B$13=2,(E320+F320*2),E320))","v":1.9999678193853669},2.1582555558340069,{"$f":"(B320-(Calcoli!$B$8/B320))/'Acido - Base forte'!$F$1","v":-5.0118723342779149E-2},{"$f":"(B320-(Calcoli!$B$8/B320))/'Acido - Base forte'!$F$2","v":-5.0118723342779149E-2}]
[{"$f":"IF((I321*'Acido - Base forte'!$F$3*'Acido - Base forte'!$F$1)/'Acido - Base forte'!$F$2>0,IF((I321*'Acido - Base forte'!$F$3*'Acido - Base forte'!$F$1)/'Acido - Base forte'!$F$2<1.8*Calcoli!$B$13*('Acido - Base forte'!$F$1*'Acido - Base forte'!$F$3/'Acido - Base forte'!$F$2),I321*'Acido - Base forte'!$F$3*'Acido - Base forte'!$F$1/'Acido - Base forte'!$F$2,NA()),NA())","v":54.468102794590742},1.7782794100387558E-12,11.750000000000039,{"$f":"IF(Calcoli!$B$13=3,B321^Calcoli!$B$13+Calcoli!$B$9*B321^2+Calcoli!$B$9*Calcoli!$B$10*B321+Calcoli!$B$9*Calcoli!$B$10*Calcoli!$B$11,IF(Calcoli!$B$13=2,B321^Calcoli!$B$13+Calcoli!$B$9*B321+Calcoli!$B$9*Calcoli!$B$10,B321^Calcoli!$B$13+Calcoli!$B$9))","v":4.6501333709557843E-10},{"$f":"(Calcoli!$B$9*B321^(Calcoli!$B$13-1))/D321","v":2.8681103339084172E-5},{"$f":"IF(Calcoli!$B$13>=2, (Calcoli!$B$9*Calcoli!$B$10*B321^(Calcoli!$B$13-2))/D321,NA())","v":0.99997131889665414},{"$f":"IF(Calcoli!$B$13>=3,(Calcoli!$B$9*Calcoli!$B$10*Calcoli!$B$11*B321^(Calcoli!$B$13-3))/D321,NA())","v":{"$error":"#N/A"}},{"$f":"IF(Calcoli!$B$13=3,(E321+F321*2+G321*3),IF(Calcoli!$B$13=2,(E321+F321*2),E321))","v":1.9999713188966473},2.1787241117836298,{"$f":"(B321-(Calcoli!$B$8/B321))/'Acido - Base forte'!$F$1","v":-5.6234132501257389E-2},{"$f":"(B321-(Calcoli!$B$8/B321))/'Acido - Base forte'!$F$2","v":-5.6234132501257389E-2}]
[{"$f":"IF((I322*'Acido - Base forte'!$F$3*'Acido - Base forte'!$F$1)/'Acido - Base forte'!$F$2>0,IF((I322*'Acido - Base forte'!$F$3*'Acido - Base forte'!$F$1)/'Acido - Base forte'!$F$2<1.8*Calcoli!$B$13*('Acido - Base forte'!$F$1*'Acido - Base forte'!$F$3/'Acido - Base forte'!$F$2),I322*'Acido - Base forte'!$F$3*'Acido - Base forte'!$F$1/'Acido - Base forte'!$F$2,NA()),NA())","v":55.050186238660856},1.5848931924609654E-12,11.80000000000004,{"$f":"IF(Calcoli!$B$13=3,B322^Calcoli!$B$13+Calcoli!$B$9*B322^2+Calcoli!$B$9*Calcoli!$B$10*B322+Calcoli!$B$9*Calcoli!$B$10*Calcoli!$B$11,IF(Calcoli!$B$13=2,B322^Calcoli!$B$13+Calcoli!$B$9*B322+Calcoli!$B$9*Calcoli!$B$10,B322^Calcoli!$B$13+Calcoli!$B$9))","v":4.6501188669894595E-10},{"$f":"(Calcoli!$B$9*B322^(Calcoli!$B$13-1))/D322","v":2.556213998708559E-5},{"$f":"IF(Calcoli!$B$13>=2, (Calcoli!$B$9*Calcoli!$B$10*B322^(Calcoli!$B$13-2))/D322,NA())","v":0.9999744378600075},{"$f":"IF(Calcoli!$B$13>=3,(Calcoli!$B$9*Calcoli!$B$10*Calcoli!$B$11*B322^(Calcoli!$B$13-3))/D322,NA())","v":{"$error":"#N/A"}},{"$f":"IF(Calcoli!$B$13=3,(E322+F322*2+G322*3),IF(Calcoli!$B$13=2,(E322+F322*2),E322))","v":1.9999744378600022},2.2020074495464343,{"$f":"(B322-(Calcoli!$B$8/B322))/'Acido - Base forte'!$F$1","v":-6.3095734432176281E-2},{"$f":"(B322-(Calcoli!$B$8/B322))/'Acido - Base forte'!$F$2","v":-6.3095734432176281E-2}]
[{"$f":"IF((I323*'Acido - Base forte'!$F$3*'Acido - Base forte'!$F$1)/'Acido - Base forte'!$F$2>0,IF((I323*'Acido - Base forte'!$F$3*'Acido - Base forte'!$F$1)/'Acido - Base forte'!$F$2<1.8*Calcoli!$B$13*('Acido - Base forte'!$F$1*'Acido - Base forte'!$F$3/'Acido - Base forte'!$F$2),I323*'Acido - Base forte'!$F$3*'Acido - Base forte'!$F$1/'Acido - Base forte'!$F$2,NA()),NA())","v":55.713509305837597},1.4125375446226181E-12,11.850000000000041,{"$f":"IF(Calcoli!$B$13=3,B323^Calcoli!$B$13+Calcoli!$B$9*B323^2+Calcoli!$B$9*Calcoli!$B$10*B323+Calcoli!$B$9*Calcoli!$B$10*Calcoli!$B$11,IF(Calcoli!$B$13=2,B323^Calcoli!$B$13+Calcoli!$B$9*B323+Calcoli!$B$9*Calcoli!$B$10,B323^Calcoli!$B$13+Calcoli!$B$9))","v":4.6501059403158667E-10},{"$f":"(Calcoli!$B$9*B323^(Calcoli!$B$13-1))/D323","v":2.2782344575895872E-5},{"$f":"IF(Calcoli!$B$13>=2, (Calcoli!$B$9*Calcoli!$B$10*B323^(Calcoli!$B$13-2))/D323,NA())","v":0.9999772176554198},{"$f":"IF(Calcoli!$B$13>=3,(Calcoli!$B$9*Calcoli!$B$10*Calcoli!$B$11*B323^(Calcoli!$B$13-3))/D323,NA())","v":{"$error":"#N/A"}},{"$f":"IF(Calcoli!$B$13=3,(E323+F323*2+G323*3),IF(Calcoli!$B$13=2,(E323+F323*2),E323))","v":1.9999772176554156},2.2285403722335038,{"$f":"(B323-(Calcoli!$B$8/B323))/'Acido - Base forte'!$F$1","v":-7.0794578424295235E-2},{"$f":"(B323-(Calcoli!$B$8/B323))/'Acido - Base forte'!$F$2","v":-7.0794578424295235E-2}]
[{"$f":"IF((I324*'Acido - Base forte'!$F$3*'Acido - Base forte'!$F$1)/'Acido - Base forte'!$F$2>0,IF((I324*'Acido - Base forte'!$F$3*'Acido - Base forte'!$F$1)/'Acido - Base forte'!$F$2<1.8*Calcoli!$B$13*('Acido - Base forte'!$F$1*'Acido - Base forte'!$F$3/'Acido - Base forte'!$F$2),I324*'Acido - Base forte'!$F$3*'Acido - Base forte'!$F$1/'Acido - Base forte'!$F$2,NA()),NA())","v":56.470960827616921},1.2589254117940465E-12,11.900000000000041,{"$f":"IF(Calcoli!$B$13=3,B324^Calcoli!$B$13+Calcoli!$B$9*B324^2+Calcoli!$B$9*Calcoli!$B$10*B324+Calcoli!$B$9*Calcoli!$B$10*Calcoli!$B$11,IF(Calcoli!$B$13=2,B324^Calcoli!$B$13+Calcoli!$B$9*B324+Calcoli!$B$9*Calcoli!$B$10,B324^Calcoli!$B$13+Calcoli!$B$9))","v":4.6500944194059003E-10},{"$f":"(Calcoli!$B$9*B324^(Calcoli!$B$13-1))/D324","v":2.030483628257522E-5},{"$f":"IF(Calcoli!$B$13>=2, (Calcoli!$B$9*Calcoli!$B$10*B324^(Calcoli!$B$13-2))/D324,NA())","v":0.99997969516371399},{"$f":"IF(Calcoli!$B$13>=3,(Calcoli!$B$9*Calcoli!$B$10*Calcoli!$B$11*B324^(Calcoli!$B$13-3))/D324,NA())","v":{"$error":"#N/A"}},{"$f":"IF(Calcoli!$B$13=3,(E324+F324*2+G324*3),IF(Calcoli!$B$13=2,(E324+F324*2),E324))","v":1.9999796951637105},2.2588384331046769,{"$f":"(B324-(Calcoli!$B$8/B324))/'Acido - Base forte'!$F$1","v":-7.9432823459846508E-2},{"$f":"(B324-(Calcoli!$B$8/B324))/'Acido - Base forte'!$F$2","v":-7.9432823459846508E-2}]
[{"$f":"IF((I325*'Acido - Base forte'!$F$3*'Acido - Base forte'!$F$1)/'Acido - Base forte'!$F$2>0,IF((I325*'Acido - Base forte'!$F$3*'Acido - Base forte'!$F$1)/'Acido - Base forte'!$F$2<1.8*Calcoli!$B$13*('Acido - Base forte'!$F$1*'Acido - Base forte'!$F$3/'Acido - Base forte'!$F$2),I325*'Acido - Base forte'!$F$3*'Acido - Base forte'!$F$1/'Acido - Base forte'!$F$2,NA()),NA())","v":57.337922662128705},1.1220184543018523E-12,11.950000000000042,{"$f":"IF(Calcoli!$B$13=3,B325^Calcoli!$B$13+Calcoli!$B$9*B325^2+Calcoli!$B$9*Calcoli!$B$10*B325+Calcoli!$B$9*Calcoli!$B$10*Calcoli!$B$11,IF(Calcoli!$B$13=2,B325^Calcoli!$B$13+Calcoli!$B$9*B325+Calcoli!$B$9*Calcoli!$B$10,B325^Calcoli!$B$13+Calcoli!$B$9))","v":4.6500841513840851E-10},{"$f":"(Calcoli!$B$9*B325^(Calcoli!$B$13-1))/D325","v":1.8096744345495658E-5},{"$f":"IF(Calcoli!$B$13>=2, (Calcoli!$B$9*Calcoli!$B$10*B325^(Calcoli!$B$13-2))/D325,NA())","v":0.99998190325565184},{"$f":"IF(Calcoli!$B$13>=3,(Calcoli!$B$9*Calcoli!$B$10*Calcoli!$B$11*B325^(Calcoli!$B$13-3))/D325,NA())","v":{"$error":"#N/A"}},{"$f":"IF(Calcoli!$B$13=3,(E325+F325*2+G325*3),IF(Calcoli!$B$13=2,(E325+F325*2),E325))","v":1.9999819032556492},2.2935169064851482,{"$f":"(B325-(Calcoli!$B$8/B325))/'Acido - Base forte'!$F$1","v":-8.9125093802163186E-2},{"$f":"(B325-(Calcoli!$B$8/B325))/'Acido - Base forte'!$F$2","v":-8.9125093802163186E-2}]
[{"$f":"IF((I326*'Acido - Base forte'!$F$3*'Acido - Base forte'!$F$1)/'Acido - Base forte'!$F$2>0,IF((I326*'Acido - Base forte'!$F$3*'Acido - Base forte'!$F$1)/'Acido - Base forte'!$F$2<1.8*Calcoli!$B$13*('Acido - Base forte'!$F$1*'Acido - Base forte'!$F$3/'Acido - Base forte'!$F$2),I326*'Acido - Base forte'!$F$3*'Acido - Base forte'!$F$1/'Acido - Base forte'!$F$2,NA()),NA())","v":58.332885310960556},9.99999999999898E-13,12.000000000000043,{"$f":"IF(Calcoli!$B$13=3,B326^Calcoli!$B$13+Calcoli!$B$9*B326^2+Calcoli!$B$9*Calcoli!$B$10*B326+Calcoli!$B$9*Calcoli!$B$10*Calcoli!$B$11,IF(Calcoli!$B$13=2,B326^Calcoli!$B$13+Calcoli!$B$9*B326+Calcoli!$B$9*Calcoli!$B$10,B326^Calcoli!$B$13+Calcoli!$B$9))","v":4.6500750000000099E-10},{"$f":"(Calcoli!$B$9*B326^(Calcoli!$B$13-1))/D326","v":1.6128772116577084E-5},{"$f":"IF(Calcoli!$B$13>=2, (Calcoli!$B$9*Calcoli!$B$10*B326^(Calcoli!$B$13-2))/D326,NA())","v":0.99998387122788124},{"$f":"IF(Calcoli!$B$13>=3,(Calcoli!$B$9*Calcoli!$B$10*Calcoli!$B$11*B326^(Calcoli!$B$13-3))/D326,NA())","v":{"$error":"#N/A"}},{"$f":"IF(Calcoli!$B$13=3,(E326+F326*2+G326*3),IF(Calcoli!$B$13=2,(E326+F326*2),E326))","v":1.999983871227879},2.3333154124384223,{"$f":"(B326-(Calcoli!$B$8/B326))/'Acido - Base forte'!$F$1","v":-9.9999999990010191E-2},{"$f":"(B326-(Calcoli!$B$8/B326))/'Acido - Base forte'!$F$2","v":-9.9999999990010191E-2}]
[{"$f":"IF((I327*'Acido - Base forte'!$F$3*'Acido - Base forte'!$F$1)/'Acido - Base forte'!$F$2>0,IF((I327*'Acido - Base forte'!$F$3*'Acido - Base forte'!$F$1)/'Acido - Base forte'!$F$2<1.8*Calcoli!$B$13*('Acido - Base forte'!$F$1*'Acido - Base forte'!$F$3/'Acido - Base forte'!$F$2),I327*'Acido - Base forte'!$F$3*'Acido - Base forte'!$F$1/'Acido - Base forte'!$F$2,NA()),NA())","v":59.478256958506378},8.9125093813365498E-13,12.050000000000043,{"$f":"IF(Calcoli!$B$13=3,B327^Calcoli!$B$13+Calcoli!$B$9*B327^2+Calcoli!$B$9*Calcoli!$B$10*B327+Calcoli!$B$9*Calcoli!$B$10*Calcoli!$B$11,IF(Calcoli!$B$13=2,B327^Calcoli!$B$13+Calcoli!$B$9*B327+Calcoli!$B$9*Calcoli!$B$10,B327^Calcoli!$B$13+Calcoli!$B$9))","v":4.6500668438203678E-10},{"$f":"(Calcoli!$B$9*B327^(Calcoli!$B$13-1))/D327","v":1.4374808493098364E-5},{"$f":"IF(Calcoli!$B$13>=2, (Calcoli!$B$9*Calcoli!$B$10*B327^(Calcoli!$B$13-2))/D327,NA())","v":0.99998562519150525},{"$f":"IF(Calcoli!$B$13>=3,(Calcoli!$B$9*Calcoli!$B$10*Calcoli!$B$11*B327^(Calcoli!$B$13-3))/D327,NA())","v":{"$error":"#N/A"}},{"$f":"IF(Calcoli!$B$13=3,(E327+F327*2+G327*3),IF(Calcoli!$B$13=2,(E327+F327*2),E327))","v":1.9999856251915036},2.3791302783402553,{"$f":"(B327-(Calcoli!$B$8/B327))/'Acido - Base forte'!$F$1","v":-0.11220184542129523},{"$f":"(B327-(Calcoli!$B$8/B327))/'Acido - Base forte'!$F$2","v":-0.11220184542129523}]
[{"$f":"IF((I328*'Acido - Base forte'!$F$3*'Acido - Base forte'!$F$1)/'Acido - Base forte'!$F$2>0,IF((I328*'Acido - Base forte'!$F$3*'Acido - Base forte'!$F$1)/'Acido - Base forte'!$F$2<1.8*Calcoli!$B$13*('Acido - Base forte'!$F$1*'Acido - Base forte'!$F$3/'Acido - Base forte'!$F$2),I328*'Acido - Base forte'!$F$3*'Acido - Base forte'!$F$1/'Acido - Base forte'!$F$2,NA()),NA())","v":60.801441176323578},7.9432823472419825E-13,12.100000000000044,{"$f":"IF(Calcoli!$B$13=3,B328^Calcoli!$B$13+Calcoli!$B$9*B328^2+Calcoli!$B$9*Calcoli!$B$10*B328+Calcoli!$B$9*Calcoli!$B$10*Calcoli!$B$11,IF(Calcoli!$B$13=2,B328^Calcoli!$B$13+Calcoli!$B$9*B328+Calcoli!$B$9*Calcoli!$B$10,B328^Calcoli!$B$13+Calcoli!$B$9))","v":4.6500595746176106E-10},{"$f":"(Calcoli!$B$9*B328^(Calcoli!$B$13-1))/D328","v":1.2811581582632493E-5},{"$f":"IF(Calcoli!$B$13>=2, (Calcoli!$B$9*Calcoli!$B$10*B328^(Calcoli!$B$13-2))/D328,NA())","v":0.99998718841841605},{"$f":"IF(Calcoli!$B$13>=3,(Calcoli!$B$9*Calcoli!$B$10*Calcoli!$B$11*B328^(Calcoli!$B$13-3))/D328,NA())","v":{"$error":"#N/A"}},{"$f":"IF(Calcoli!$B$13=3,(E328+F328*2+G328*3),IF(Calcoli!$B$13=2,(E328+F328*2),E328))","v":1.9999871884184148},2.4320576470529431,{"$f":"(B328-(Calcoli!$B$8/B328))/'Acido - Base forte'!$F$1","v":-0.12589254117148663},{"$f":"(B328-(Calcoli!$B$8/B328))/'Acido - Base forte'!$F$2","v":-0.12589254117148663}]
[{"$f":"IF((I329*'Acido - Base forte'!$F$3*'Acido - Base forte'!$F$1)/'Acido - Base forte'!$F$2>0,IF((I329*'Acido - Base forte'!$F$3*'Acido - Base forte'!$F$1)/'Acido - Base forte'!$F$2<1.8*Calcoli!$B$13*('Acido - Base forte'!$F$1*'Acido - Base forte'!$F$3/'Acido - Base forte'!$F$2),I329*'Acido - Base forte'!$F$3*'Acido - Base forte'!$F$1/'Acido - Base forte'!$F$2,NA()),NA())","v":62.336293963846963},7.0794578438406417E-13,12.150000000000045,{"$f":"IF(Calcoli!$B$13=3,B329^Calcoli!$B$13+Calcoli!$B$9*B329^2+Calcoli!$B$9*Calcoli!$B$10*B329+Calcoli!$B$9*Calcoli!$B$10*Calcoli!$B$11,IF(Calcoli!$B$13=2,B329^Calcoli!$B$13+Calcoli!$B$9*B329+Calcoli!$B$9*Calcoli!$B$10,B329^Calcoli!$B$13+Calcoli!$B$9))","v":4.6500530959338337E-10},{"$f":"(Calcoli!$B$9*B329^(Calcoli!$B$13-1))/D329","v":1.1418350013085597E-5},{"$f":"IF(Calcoli!$B$13>=2, (Calcoli!$B$9*Calcoli!$B$10*B329^(Calcoli!$B$13-2))/D329,NA())","v":0.99998858164998583},{"$f":"IF(Calcoli!$B$13>=3,(Calcoli!$B$9*Calcoli!$B$10*Calcoli!$B$11*B329^(Calcoli!$B$13-3))/D329,NA())","v":{"$error":"#N/A"}},{"$f":"IF(Calcoli!$B$13=3,(E329+F329*2+G329*3),IF(Calcoli!$B$13=2,(E329+F329*2),E329))","v":1.9999885816499847},2.4934517585538782,{"$f":"(B329-(Calcoli!$B$8/B329))/'Acido - Base forte'!$F$1","v":-0.14125375445521068},{"$f":"(B329-(Calcoli!$B$8/B329))/'Acido - Base forte'!$F$2","v":-0.14125375445521068}]
[{"$f":"IF((I330*'Acido - Base forte'!$F$3*'Acido - Base forte'!$F$1)/'Acido - Base forte'!$F$2>0,IF((I330*'Acido - Base forte'!$F$3*'Acido - Base forte'!$F$1)/'Acido - Base forte'!$F$2<1.8*Calcoli!$B$13*('Acido - Base forte'!$F$1*'Acido - Base forte'!$F$3/'Acido - Base forte'!$F$2),I330*'Acido - Base forte'!$F$3*'Acido - Base forte'!$F$1/'Acido - Base forte'!$F$2,NA()),NA())","v":64.125126155919702},6.3095734448012558E-13,12.200000000000045,{"$f":"IF(Calcoli!$B$13=3,B330^Calcoli!$B$13+Calcoli!$B$9*B330^2+Calcoli!$B$9*Calcoli!$B$10*B330+Calcoli!$B$9*Calcoli!$B$10*Calcoli!$B$11,IF(Calcoli!$B$13=2,B330^Calcoli!$B$13+Calcoli!$B$9*B330+Calcoli!$B$9*Calcoli!$B$10,B330^Calcoli!$B$13+Calcoli!$B$9))","v":4.6500473218008401E-10},{"$f":"(Calcoli!$B$9*B330^(Calcoli!$B$13-1))/D330","v":1.0176627797775385E-5},{"$f":"IF(Calcoli!$B$13>=2, (Calcoli!$B$9*Calcoli!$B$10*B330^(Calcoli!$B$13-2))/D330,NA())","v":0.99998982337220133},{"$f":"IF(Calcoli!$B$13>=3,(Calcoli!$B$9*Calcoli!$B$10*Calcoli!$B$11*B330^(Calcoli!$B$13-3))/D330,NA())","v":{"$error":"#N/A"}},{"$f":"IF(Calcoli!$B$13=3,(E330+F330*2+G330*3),IF(Calcoli!$B$13=2,(E330+F330*2),E330))","v":1.9999898233722004},2.5650050462367879,{"$f":"(B330-(Calcoli!$B$8/B330))/'Acido - Base forte'!$F$1","v":-0.15848931923981877},{"$f":"(B330-(Calcoli!$B$8/B330))/'Acido - Base forte'!$F$2","v":-0.15848931923981877}]
[{"$f":"IF((I331*'Acido - Base forte'!$F$3*'Acido - Base forte'!$F$1)/'Acido - Base forte'!$F$2>0,IF((I331*'Acido - Base forte'!$F$3*'Acido - Base forte'!$F$1)/'Acido - Base forte'!$F$2<1.8*Calcoli!$B$13*('Acido - Base forte'!$F$1*'Acido - Base forte'!$F$3/'Acido - Base forte'!$F$2),I331*'Acido - Base forte'!$F$3*'Acido - Base forte'!$F$1/'Acido - Base forte'!$F$2,NA()),NA())","v":66.221505803283563},5.6234132519028694E-13,12.250000000000046,{"$f":"IF(Calcoli!$B$13=3,B331^Calcoli!$B$13+Calcoli!$B$9*B331^2+Calcoli!$B$9*Calcoli!$B$10*B331+Calcoli!$B$9*Calcoli!$B$10*Calcoli!$B$11,IF(Calcoli!$B$13=2,B331^Calcoli!$B$13+Calcoli!$B$9*B331+Calcoli!$B$9*Calcoli!$B$10,B331^Calcoli!$B$13+Calcoli!$B$9))","v":4.6500421755993923E-10},{"$f":"(Calcoli!$B$9*B331^(Calcoli!$B$13-1))/D331","v":9.0699391094952962E-6},{"$f":"IF(Calcoli!$B$13>=2, (Calcoli!$B$9*Calcoli!$B$10*B331^(Calcoli!$B$13-2))/D331,NA())","v":0.99999093006088979},{"$f":"IF(Calcoli!$B$13>=3,(Calcoli!$B$9*Calcoli!$B$10*Calcoli!$B$11*B331^(Calcoli!$B$13-3))/D331,NA())","v":{"$error":"#N/A"}},{"$f":"IF(Calcoli!$B$13=3,(E331+F331*2+G331*3),IF(Calcoli!$B$13=2,(E331+F331*2),E331))","v":1.9999909300608891},2.6488602321313426,{"$f":"(B331-(Calcoli!$B$8/B331))/'Acido - Base forte'!$F$1","v":-0.1778279409982885},{"$f":"(B331-(Calcoli!$B$8/B331))/'Acido - Base forte'!$F$2","v":-0.1778279409982885}]
[{"$f":"IF((I332*'Acido - Base forte'!$F$3*'Acido - Base forte'!$F$1)/'Acido - Base forte'!$F$2>0,IF((I332*'Acido - Base forte'!$F$3*'Acido - Base forte'!$F$1)/'Acido - Base forte'!$F$2<1.8*Calcoli!$B$13*('Acido - Base forte'!$F$1*'Acido - Base forte'!$F$3/'Acido - Base forte'!$F$2),I332*'Acido - Base forte'!$F$3*'Acido - Base forte'!$F$1/'Acido - Base forte'!$F$2,NA()),NA())","v":68.694260649901651},5.0118723362721724E-13,12.300000000000047,{"$f":"IF(Calcoli!$B$13=3,B332^Calcoli!$B$13+Calcoli!$B$9*B332^2+Calcoli!$B$9*Calcoli!$B$10*B332+Calcoli!$B$9*Calcoli!$B$10*Calcoli!$B$11,IF(Calcoli!$B$13=2,B332^Calcoli!$B$13+Calcoli!$B$9*B332+Calcoli!$B$9*Calcoli!$B$10,B332^Calcoli!$B$13+Calcoli!$B$9))","v":4.6500375890425245E-10},{"$f":"(Calcoli!$B$9*B332^(Calcoli!$B$13-1))/D332","v":8.083599713390949E-6},{"$f":"IF(Calcoli!$B$13>=2, (Calcoli!$B$9*Calcoli!$B$10*B332^(Calcoli!$B$13-2))/D332,NA())","v":0.99999191640028606},{"$f":"IF(Calcoli!$B$13>=3,(Calcoli!$B$9*Calcoli!$B$10*Calcoli!$B$11*B332^(Calcoli!$B$13-3))/D332,NA())","v":{"$error":"#N/A"}},{"$f":"IF(Calcoli!$B$13=3,(E332+F332*2+G332*3),IF(Calcoli!$B$13=2,(E332+F332*2),E332))","v":1.9999919164002855},2.747770425996066,{"$f":"(B332-(Calcoli!$B$8/B332))/'Acido - Base forte'!$F$1","v":-0.19952623149189802},{"$f":"(B332-(Calcoli!$B$8/B332))/'Acido - Base forte'!$F$2","v":-0.19952623149189802}]
[{"$f":"IF((I333*'Acido - Base forte'!$F$3*'Acido - Base forte'!$F$1)/'Acido - Base forte'!$F$2>0,IF((I333*'Acido - Base forte'!$F$3*'Acido - Base forte'!$F$1)/'Acido - Base forte'!$F$2<1.8*Calcoli!$B$13*('Acido - Base forte'!$F$1*'Acido - Base forte'!$F$3/'Acido - Base forte'!$F$2),I333*'Acido - Base forte'!$F$3*'Acido - Base forte'!$F$1/'Acido - Base forte'!$F$2,NA()),NA())","v":71.633327091512498},4.4668359215091268E-13,12.350000000000048,{"$f":"IF(Calcoli!$B$13=3,B333^Calcoli!$B$13+Calcoli!$B$9*B333^2+Calcoli!$B$9*Calcoli!$B$10*B333+Calcoli!$B$9*Calcoli!$B$10*Calcoli!$B$11,IF(Calcoli!$B$13=2,B333^Calcoli!$B$13+Calcoli!$B$9*B333+Calcoli!$B$9*Calcoli!$B$10,B333^Calcoli!$B$13+Calcoli!$B$9))","v":4.6500335012694134E-10},{"$f":"(Calcoli!$B$9*B333^(Calcoli!$B$13-1))/D333","v":7.2045221614366722E-6},{"$f":"IF(Calcoli!$B$13>=2, (Calcoli!$B$9*Calcoli!$B$10*B333^(Calcoli!$B$13-2))/D333,NA())","v":0.99999279547783815},{"$f":"IF(Calcoli!$B$13>=3,(Calcoli!$B$9*Calcoli!$B$10*Calcoli!$B$11*B333^(Calcoli!$B$13-3))/D333,NA())","v":{"$error":"#N/A"}},{"$f":"IF(Calcoli!$B$13=3,(E333+F333*2+G333*3),IF(Calcoli!$B$13=2,(E333+F333*2),E333))","v":1.9999927954778378},2.8653330836605,{"$f":"(B333-(Calcoli!$B$8/B333))/'Acido - Base forte'!$F$1","v":-0.22387211385239239},{"$f":"(B333-(Calcoli!$B$8/B333))/'Acido - Base forte'!$F$2","v":-0.22387211385239239}]
[{"$f":"IF((I334*'Acido - Base forte'!$F$3*'Acido - Base forte'!$F$1)/'Acido - Base forte'!$F$2>0,IF((I334*'Acido - Base forte'!$F$3*'Acido - Base forte'!$F$1)/'Acido - Base forte'!$F$2<1.8*Calcoli!$B$13*('Acido - Base forte'!$F$1*'Acido - Base forte'!$F$3/'Acido - Base forte'!$F$2),I334*'Acido - Base forte'!$F$3*'Acido - Base forte'!$F$1/'Acido - Base forte'!$F$2,NA()),NA())","v":75.158522954493137},3.9810717055345244E-13,12.400000000000048,{"$f":"IF(Calcoli!$B$13=3,B334^Calcoli!$B$13+Calcoli!$B$9*B334^2+Calcoli!$B$9*Calcoli!$B$10*B334+Calcoli!$B$9*Calcoli!$B$10*Calcoli!$B$11,IF(Calcoli!$B$13=2,B334^Calcoli!$B$13+Calcoli!$B$9*B334+Calcoli!$B$9*Calcoli!$B$10,B334^Calcoli!$B$13+Calcoli!$B$9))","v":4.6500298580377932E-10},{"$f":"(Calcoli!$B$9*B334^(Calcoli!$B$13-1))/D334","v":6.4210421659761872E-6},{"$f":"IF(Calcoli!$B$13>=2, (Calcoli!$B$9*Calcoli!$B$10*B334^(Calcoli!$B$13-2))/D334,NA())","v":0.9999935789578337},{"$f":"IF(Calcoli!$B$13>=3,(Calcoli!$B$9*Calcoli!$B$10*Calcoli!$B$11*B334^(Calcoli!$B$13-3))/D334,NA())","v":{"$error":"#N/A"}},{"$f":"IF(Calcoli!$B$13=3,(E334+F334*2+G334*3),IF(Calcoli!$B$13=2,(E334+F334*2),E334))","v":1.9999935789578334},3.0063409181797254,{"$f":"(B334-(Calcoli!$B$8/B334))/'Acido - Base forte'!$F$1","v":-0.25118864314700518},{"$f":"(B334-(Calcoli!$B$8/B334))/'Acido - Base forte'!$F$2","v":-0.25118864314700518}]
[{"$f":"IF((I335*'Acido - Base forte'!$F$3*'Acido - Base forte'!$F$1)/'Acido - Base forte'!$F$2>0,IF((I335*'Acido - Base forte'!$F$3*'Acido - Base forte'!$F$1)/'Acido - Base forte'!$F$2<1.8*Calcoli!$B$13*('Acido - Base forte'!$F$1*'Acido - Base forte'!$F$3/'Acido - Base forte'!$F$2),I335*'Acido - Base forte'!$F$3*'Acido - Base forte'!$F$1/'Acido - Base forte'!$F$2,NA()),NA())","v":79.433104985562338},3.548133892335345E-13,12.450000000000049,{"$f":"IF(Calcoli!$B$13=3,B335^Calcoli!$B$13+Calcoli!$B$9*B335^2+Calcoli!$B$9*Calcoli!$B$10*B335+Calcoli!$B$9*Calcoli!$B$10*Calcoli!$B$11,IF(Calcoli!$B$13=2,B335^Calcoli!$B$13+Calcoli!$B$9*B335+Calcoli!$B$9*Calcoli!$B$10,B335^Calcoli!$B$13+Calcoli!$B$9))","v":4.6500266110041937E-10},{"$f":"(Calcoli!$B$9*B335^(Calcoli!$B$13-1))/D335","v":5.7227638503273694E-6},{"$f":"IF(Calcoli!$B$13>=2, (Calcoli!$B$9*Calcoli!$B$10*B335^(Calcoli!$B$13-2))/D335,NA())","v":0.99999427723614942},{"$f":"IF(Calcoli!$B$13>=3,(Calcoli!$B$9*Calcoli!$B$10*Calcoli!$B$11*B335^(Calcoli!$B$13-3))/D335,NA())","v":{"$error":"#N/A"}},{"$f":"IF(Calcoli!$B$13=3,(E335+F335*2+G335*3),IF(Calcoli!$B$13=2,(E335+F335*2),E335))","v":1.9999942772361492},3.1773241994224937,{"$f":"(B335-(Calcoli!$B$8/B335))/'Acido - Base forte'!$F$1","v":-0.28183829312292974},{"$f":"(B335-(Calcoli!$B$8/B335))/'Acido - Base forte'!$F$2","v":-0.28183829312292974}]
[{"$f":"IF((I336*'Acido - Base forte'!$F$3*'Acido - Base forte'!$F$1)/'Acido - Base forte'!$F$2>0,IF((I336*'Acido - Base forte'!$F$3*'Acido - Base forte'!$F$1)/'Acido - Base forte'!$F$2<1.8*Calcoli!$B$13*('Acido - Base forte'!$F$1*'Acido - Base forte'!$F$3/'Acido - Base forte'!$F$2),I336*'Acido - Base forte'!$F$3*'Acido - Base forte'!$F$1/'Acido - Base forte'!$F$2,NA()),NA())","v":84.685460686545653},3.1622776601680041E-13,12.50000000000005,{"$f":"IF(Calcoli!$B$13=3,B336^Calcoli!$B$13+Calcoli!$B$9*B336^2+Calcoli!$B$9*Calcoli!$B$10*B336+Calcoli!$B$9*Calcoli!$B$10*Calcoli!$B$11,IF(Calcoli!$B$13=2,B336^Calcoli!$B$13+Calcoli!$B$9*B336+Calcoli!$B$9*Calcoli!$B$10,B336^Calcoli!$B$13+Calcoli!$B$9))","v":4.6500237170824523E-10},{"$f":"(Calcoli!$B$9*B336^(Calcoli!$B$13-1))/D336","v":5.1004218245451782E-6},{"$f":"IF(Calcoli!$B$13>=2, (Calcoli!$B$9*Calcoli!$B$10*B336^(Calcoli!$B$13-2))/D336,NA())","v":0.99999489957817522},{"$f":"IF(Calcoli!$B$13>=3,(Calcoli!$B$9*Calcoli!$B$10*Calcoli!$B$11*B336^(Calcoli!$B$13-3))/D336,NA())","v":{"$error":"#N/A"}},{"$f":"IF(Calcoli!$B$13=3,(E336+F336*2+G336*3),IF(Calcoli!$B$13=2,(E336+F336*2),E336))","v":1.9999948995781749},3.3874184274618266,{"$f":"(B336-(Calcoli!$B$8/B336))/'Acido - Base forte'!$F$1","v":-0.31622776601371316},{"$f":"(B336-(Calcoli!$B$8/B336))/'Acido - Base forte'!$F$2","v":-0.31622776601371316}]
[{"$f":"IF((I337*'Acido - Base forte'!$F$3*'Acido - Base forte'!$F$1)/'Acido - Base forte'!$F$2>0,IF((I337*'Acido - Base forte'!$F$3*'Acido - Base forte'!$F$1)/'Acido - Base forte'!$F$2<1.8*Calcoli!$B$13*('Acido - Base forte'!$F$1*'Acido - Base forte'!$F$3/'Acido - Base forte'!$F$2),I337*'Acido - Base forte'!$F$3*'Acido - Base forte'!$F$1/'Acido - Base forte'!$F$2,NA()),NA())","v":{"$error":"#N/A"}},2.8183829312641206E-13,12.55000000000005,{"$f":"IF(Calcoli!$B$13=3,B337^Calcoli!$B$13+Calcoli!$B$9*B337^2+Calcoli!$B$9*Calcoli!$B$10*B337+Calcoli!$B$9*Calcoli!$B$10*Calcoli!$B$11,IF(Calcoli!$B$13=2,B337^Calcoli!$B$13+Calcoli!$B$9*B337+Calcoli!$B$9*Calcoli!$B$10,B337^Calcoli!$B$13+Calcoli!$B$9))","v":4.6500211378719855E-10},{"$f":"(Calcoli!$B$9*B337^(Calcoli!$B$13-1))/D337","v":4.5457582573816733E-6},{"$f":"IF(Calcoli!$B$13>=2, (Calcoli!$B$9*Calcoli!$B$10*B337^(Calcoli!$B$13-2))/D337,NA())","v":0.99999545424174241},{"$f":"IF(Calcoli!$B$13>=3,(Calcoli!$B$9*Calcoli!$B$10*Calcoli!$B$11*B337^(Calcoli!$B$13-3))/D337,NA())","v":{"$error":"#N/A"}},{"$f":"IF(Calcoli!$B$13=3,(E337+F337*2+G337*3),IF(Calcoli!$B$13=2,(E337+F337*2),E337))","v":1.9999954542417422},3.6498104643943301,{"$f":"(B337-(Calcoli!$B$8/B337))/'Acido - Base forte'!$F$1","v":-0.35481338923079903},{"$f":"(B337-(Calcoli!$B$8/B337))/'Acido - Base forte'!$F$2","v":-0.35481338923079903}]
[{"$f":"IF((I338*'Acido - Base forte'!$F$3*'Acido - Base forte'!$F$1)/'Acido - Base forte'!$F$2>0,IF((I338*'Acido - Base forte'!$F$3*'Acido - Base forte'!$F$1)/'Acido - Base forte'!$F$2<1.8*Calcoli!$B$13*('Acido - Base forte'!$F$1*'Acido - Base forte'!$F$3/'Acido - Base forte'!$F$2),I338*'Acido - Base forte'!$F$3*'Acido - Base forte'!$F$1/'Acido - Base forte'!$F$2,NA()),NA())","v":{"$error":"#N/A"}},2.5118864315092756E-13,12.600000000000051,{"$f":"IF(Calcoli!$B$13=3,B338^Calcoli!$B$13+Calcoli!$B$9*B338^2+Calcoli!$B$9*Calcoli!$B$10*B338+Calcoli!$B$9*Calcoli!$B$10*Calcoli!$B$11,IF(Calcoli!$B$13=2,B338^Calcoli!$B$13+Calcoli!$B$9*B338+Calcoli!$B$9*Calcoli!$B$10,B338^Calcoli!$B$13+Calcoli!$B$9))","v":4.6500188391482369E-10},{"$f":"(Calcoli!$B$9*B338^(Calcoli!$B$13-1))/D338","v":4.0514133142244236E-6},{"$f":"IF(Calcoli!$B$13>=2, (Calcoli!$B$9*Calcoli!$B$10*B338^(Calcoli!$B$13-2))/D338,NA())","v":0.99999594858668561},{"$f":"IF(Calcoli!$B$13>=3,(Calcoli!$B$9*Calcoli!$B$10*Calcoli!$B$11*B338^(Calcoli!$B$13-3))/D338,NA())","v":{"$error":"#N/A"}},{"$f":"IF(Calcoli!$B$13=3,(E338+F338*2+G338*3),IF(Calcoli!$B$13=2,(E338+F338*2),E338))","v":1.9999959485866854},3.9842692948064946,{"$f":"(B338-(Calcoli!$B$8/B338))/'Acido - Base forte'!$F$1","v":-0.39810717055103362},{"$f":"(B338-(Calcoli!$B$8/B338))/'Acido - Base forte'!$F$2","v":-0.39810717055103362}]
[{"$f":"IF((I339*'Acido - Base forte'!$F$3*'Acido - Base forte'!$F$1)/'Acido - Base forte'!$F$2>0,IF((I339*'Acido - Base forte'!$F$3*'Acido - Base forte'!$F$1)/'Acido - Base forte'!$F$2<1.8*Calcoli!$B$13*('Acido - Base forte'!$F$1*'Acido - Base forte'!$F$3/'Acido - Base forte'!$F$2),I339*'Acido - Base forte'!$F$3*'Acido - Base forte'!$F$1/'Acido - Base forte'!$F$2,NA()),NA())","v":{"$error":"#N/A"}},2.2387211385680692E-13,12.650000000000052,{"$f":"IF(Calcoli!$B$13=3,B339^Calcoli!$B$13+Calcoli!$B$9*B339^2+Calcoli!$B$9*Calcoli!$B$10*B339+Calcoli!$B$9*Calcoli!$B$10*Calcoli!$B$11,IF(Calcoli!$B$13=2,B339^Calcoli!$B$13+Calcoli!$B$9*B339+Calcoli!$B$9*Calcoli!$B$10,B339^Calcoli!$B$13+Calcoli!$B$9))","v":4.6500167904085398E-10},{"$f":"(Calcoli!$B$9*B339^(Calcoli!$B$13-1))/D339","v":3.6108275079551598E-6},{"$f":"IF(Calcoli!$B$13>=2, (Calcoli!$B$9*Calcoli!$B$10*B339^(Calcoli!$B$13-2))/D339,NA())","v":0.9999963891724919},{"$f":"IF(Calcoli!$B$13>=3,(Calcoli!$B$9*Calcoli!$B$10*Calcoli!$B$11*B339^(Calcoli!$B$13-3))/D339,NA())","v":{"$error":"#N/A"}},{"$f":"IF(Calcoli!$B$13=3,(E339+F339*2+G339*3),IF(Calcoli!$B$13=2,(E339+F339*2),E339))","v":1.9999963891724917},4.4218460660200503,{"$f":"(B339-(Calcoli!$B$8/B339))/'Acido - Base forte'!$F$1","v":-0.44668359214877834},{"$f":"(B339-(Calcoli!$B$8/B339))/'Acido - Base forte'!$F$2","v":-0.44668359214877834}]
[{"$f":"IF((I340*'Acido - Base forte'!$F$3*'Acido - Base forte'!$F$1)/'Acido - Base forte'!$F$2>0,IF((I340*'Acido - Base forte'!$F$3*'Acido - Base forte'!$F$1)/'Acido - Base forte'!$F$2<1.8*Calcoli!$B$13*('Acido - Base forte'!$F$1*'Acido - Base forte'!$F$3/'Acido - Base forte'!$F$2),I340*'Acido - Base forte'!$F$3*'Acido - Base forte'!$F$1/'Acido - Base forte'!$F$2,NA()),NA())","v":{"$error":"#N/A"}},1.9952623149686323E-13,12.700000000000053,{"$f":"IF(Calcoli!$B$13=3,B340^Calcoli!$B$13+Calcoli!$B$9*B340^2+Calcoli!$B$9*Calcoli!$B$10*B340+Calcoli!$B$9*Calcoli!$B$10*Calcoli!$B$11,IF(Calcoli!$B$13=2,B340^Calcoli!$B$13+Calcoli!$B$9*B340+Calcoli!$B$9*Calcoli!$B$10,B340^Calcoli!$B$13+Calcoli!$B$9))","v":4.6500149644673624E-10},{"$f":"(Calcoli!$B$9*B340^(Calcoli!$B$13-1))/D340","v":3.2181546675901617E-6},{"$f":"IF(Calcoli!$B$13>=2, (Calcoli!$B$9*Calcoli!$B$10*B340^(Calcoli!$B$13-2))/D340,NA())","v":0.99999678184533236},{"$f":"IF(Calcoli!$B$13>=3,(Calcoli!$B$9*Calcoli!$B$10*Calcoli!$B$11*B340^(Calcoli!$B$13-3))/D340,NA())","v":{"$error":"#N/A"}},{"$f":"IF(Calcoli!$B$13=3,(E340+F340*2+G340*3),IF(Calcoli!$B$13=2,(E340+F340*2),E340))","v":1.9999967818453324},5.01427426095991,{"$f":"(B340-(Calcoli!$B$8/B340))/'Acido - Base forte'!$F$1","v":-0.50118723362533901},{"$f":"(B340-(Calcoli!$B$8/B340))/'Acido - Base forte'!$F$2","v":-0.50118723362533901}]
[{"$f":"IF((I341*'Acido - Base forte'!$F$3*'Acido - Base forte'!$F$1)/'Acido - Base forte'!$F$2>0,IF((I341*'Acido - Base forte'!$F$3*'Acido - Base forte'!$F$1)/'Acido - Base forte'!$F$2<1.8*Calcoli!$B$13*('Acido - Base forte'!$F$1*'Acido - Base forte'!$F$3/'Acido - Base forte'!$F$2),I341*'Acido - Base forte'!$F$3*'Acido - Base forte'!$F$1/'Acido - Base forte'!$F$2,NA()),NA())","v":{"$error":"#N/A"}},1.7782794100386973E-13,12.750000000000053,{"$f":"IF(Calcoli!$B$13=3,B341^Calcoli!$B$13+Calcoli!$B$9*B341^2+Calcoli!$B$9*Calcoli!$B$10*B341+Calcoli!$B$9*Calcoli!$B$10*Calcoli!$B$11,IF(Calcoli!$B$13=2,B341^Calcoli!$B$13+Calcoli!$B$9*B341+Calcoli!$B$9*Calcoli!$B$10,B341^Calcoli!$B$13+Calcoli!$B$9))","v":4.6500133370955756E-10},{"$f":"(Calcoli!$B$9*B341^(Calcoli!$B$13-1))/D341","v":2.868184370331431E-6},{"$f":"IF(Calcoli!$B$13>=2, (Calcoli!$B$9*Calcoli!$B$10*B341^(Calcoli!$B$13-2))/D341,NA())","v":0.99999713181562966},{"$f":"IF(Calcoli!$B$13>=3,(Calcoli!$B$9*Calcoli!$B$10*Calcoli!$B$11*B341^(Calcoli!$B$13-3))/D341,NA())","v":{"$error":"#N/A"}},{"$f":"IF(Calcoli!$B$13=3,(E341+F341*2+G341*3),IF(Calcoli!$B$13=2,(E341+F341*2),E341))","v":1.9999971318156295},5.854650220537053,{"$f":"(B341-(Calcoli!$B$8/B341))/'Acido - Base forte'!$F$1","v":-0.56234132518864199},{"$f":"(B341-(Calcoli!$B$8/B341))/'Acido - Base forte'!$F$2","v":-0.56234132518864199}]
[{"$f":"IF((I342*'Acido - Base forte'!$F$3*'Acido - Base forte'!$F$1)/'Acido - Base forte'!$F$2>0,IF((I342*'Acido - Base forte'!$F$3*'Acido - Base forte'!$F$1)/'Acido - Base forte'!$F$2<1.8*Calcoli!$B$13*('Acido - Base forte'!$F$1*'Acido - Base forte'!$F$3/'Acido - Base forte'!$F$2),I342*'Acido - Base forte'!$F$3*'Acido - Base forte'!$F$1/'Acido - Base forte'!$F$2,NA()),NA())","v":{"$error":"#N/A"}},1.584893192460913E-13,{"$f":"C341+0.05","v":12.800000000000054},{"$f":"IF(Calcoli!$B$13=3,B342^Calcoli!$B$13+Calcoli!$B$9*B342^2+Calcoli!$B$9*Calcoli!$B$10*B342+Calcoli!$B$9*Calcoli!$B$10*Calcoli!$B$11,IF(Calcoli!$B$13=2,B342^Calcoli!$B$13+Calcoli!$B$9*B342+Calcoli!$B$9*Calcoli!$B$10,B342^Calcoli!$B$13+Calcoli!$B$9))","v":4.6500118866989438E-10},{"$f":"(Calcoli!$B$9*B342^(Calcoli!$B$13-1))/D342","v":2.556272808131518E-6},{"$f":"IF(Calcoli!$B$13>=2, (Calcoli!$B$9*Calcoli!$B$10*B342^(Calcoli!$B$13-2))/D342,NA())","v":0.99999744372719179},{"$f":"IF(Calcoli!$B$13>=3,(Calcoli!$B$9*Calcoli!$B$10*Calcoli!$B$11*B342^(Calcoli!$B$13-3))/D342,NA())","v":{"$error":"#N/A"}},{"$f":"IF(Calcoli!$B$13=3,(E342+F342*2+G342*3),IF(Calcoli!$B$13=2,(E342+F342*2),E342))","v":1.9999974437271917},7.1291346646348464,{"$f":"(B342-(Calcoli!$B$8/B342))/'Acido - Base forte'!$F$1","v":-0.63095734447868823},{"$f":"(B342-(Calcoli!$B$8/B342))/'Acido - Base forte'!$F$2","v":-0.63095734447868823}]
[{"$f":"IF((I343*'Acido - Base forte'!$F$3*'Acido - Base forte'!$F$1)/'Acido - Base forte'!$F$2>0,IF((I343*'Acido - Base forte'!$F$3*'Acido - Base forte'!$F$1)/'Acido - Base forte'!$F$2<1.8*Calcoli!$B$13*('Acido - Base forte'!$F$1*'Acido - Base forte'!$F$3/'Acido - Base forte'!$F$2),I343*'Acido - Base forte'!$F$3*'Acido - Base forte'!$F$1/'Acido - Base forte'!$F$2,NA()),NA())","v":{"$error":"#N/A"}},1.4125375446225714E-13,{"$f":"C342+0.05","v":12.850000000000055},{"$f":"IF(Calcoli!$B$13=3,B343^Calcoli!$B$13+Calcoli!$B$9*B343^2+Calcoli!$B$9*Calcoli!$B$10*B343+Calcoli!$B$9*Calcoli!$B$10*Calcoli!$B$11,IF(Calcoli!$B$13=2,B343^Calcoli!$B$13+Calcoli!$B$9*B343+Calcoli!$B$9*Calcoli!$B$10,B343^Calcoli!$B$13+Calcoli!$B$9))","v":4.6500105940315849E-10},{"$f":"(Calcoli!$B$9*B343^(Calcoli!$B$13-1))/D343","v":2.2782811717175469E-6},{"$f":"IF(Calcoli!$B$13>=2, (Calcoli!$B$9*Calcoli!$B$10*B343^(Calcoli!$B$13-2))/D343,NA())","v":0.99999772171882817},{"$f":"IF(Calcoli!$B$13>=3,(Calcoli!$B$9*Calcoli!$B$10*Calcoli!$B$11*B343^(Calcoli!$B$13-3))/D343,NA())","v":{"$error":"#N/A"}},{"$f":"IF(Calcoli!$B$13=3,(E343+F343*2+G343*3),IF(Calcoli!$B$13=2,(E343+F343*2),E343))","v":1.9999977217188281},9.2720575882771961,{"$f":"(B343-(Calcoli!$B$8/B343))/'Acido - Base forte'!$F$1","v":-0.70794578438281708},{"$f":"(B343-(Calcoli!$B$8/B343))/'Acido - Base forte'!$F$2","v":-0.70794578438281708}]
[{"$f":"IF((I344*'Acido - Base forte'!$F$3*'Acido - Base forte'!$F$1)/'Acido - Base forte'!$F$2>0,IF((I344*'Acido - Base forte'!$F$3*'Acido - Base forte'!$F$1)/'Acido - Base forte'!$F$2<1.8*Calcoli!$B$13*('Acido - Base forte'!$F$1*'Acido - Base forte'!$F$3/'Acido - Base forte'!$F$2),I344*'Acido - Base forte'!$F$3*'Acido - Base forte'!$F$1/'Acido - Base forte'!$F$2,NA()),NA())","v":{"$error":"#N/A"}},1.2589254117940047E-13,12.900000000000055,{"$f":"IF(Calcoli!$B$13=3,B344^Calcoli!$B$13+Calcoli!$B$9*B344^2+Calcoli!$B$9*Calcoli!$B$10*B344+Calcoli!$B$9*Calcoli!$B$10*Calcoli!$B$11,IF(Calcoli!$B$13=2,B344^Calcoli!$B$13+Calcoli!$B$9*B344+Calcoli!$B$9*Calcoli!$B$10,B344^Calcoli!$B$13+Calcoli!$B$9))","v":4.6500094419405887E-10},{"$f":"(Calcoli!$B$9*B344^(Calcoli!$B$13-1))/D344","v":2.0305207347094396E-6},{"$f":"IF(Calcoli!$B$13>=2, (Calcoli!$B$9*Calcoli!$B$10*B344^(Calcoli!$B$13-2))/D344,NA())","v":0.99999796947926523},{"$f":"IF(Calcoli!$B$13>=3,(Calcoli!$B$9*Calcoli!$B$10*Calcoli!$B$11*B344^(Calcoli!$B$13-3))/D344,NA())","v":{"$error":"#N/A"}},{"$f":"IF(Calcoli!$B$13=3,(E344+F344*2+G344*3),IF(Calcoli!$B$13=2,(E344+F344*2),E344))","v":1.9999979694792651},13.586338408875296,{"$f":"(B344-(Calcoli!$B$8/B344))/'Acido - Base forte'!$F$1","v":-0.79432823472312508},{"$f":"(B344-(Calcoli!$B$8/B344))/'Acido - Base forte'!$F$2","v":-0.79432823472312508}]
[{"$f":"IF((I345*'Acido - Base forte'!$F$3*'Acido - Base forte'!$F$1)/'Acido - Base forte'!$F$2>0,IF((I345*'Acido - Base forte'!$F$3*'Acido - Base forte'!$F$1)/'Acido - Base forte'!$F$2<1.8*Calcoli!$B$13*('Acido - Base forte'!$F$1*'Acido - Base forte'!$F$3/'Acido - Base forte'!$F$2),I345*'Acido - Base forte'!$F$3*'Acido - Base forte'!$F$1/'Acido - Base forte'!$F$2,NA()),NA())","v":{"$error":"#N/A"}},1.1220184543018152E-13,12.950000000000056,{"$f":"IF(Calcoli!$B$13=3,B345^Calcoli!$B$13+Calcoli!$B$9*B345^2+Calcoli!$B$9*Calcoli!$B$10*B345+Calcoli!$B$9*Calcoli!$B$10*Calcoli!$B$11,IF(Calcoli!$B$13=2,B345^Calcoli!$B$13+Calcoli!$B$9*B345+Calcoli!$B$9*Calcoli!$B$10,B345^Calcoli!$B$13+Calcoli!$B$9))","v":4.6500084151384073E-10},{"$f":"(Calcoli!$B$9*B345^(Calcoli!$B$13-1))/D345","v":1.8097039093236002E-6},{"$f":"IF(Calcoli!$B$13>=2, (Calcoli!$B$9*Calcoli!$B$10*B345^(Calcoli!$B$13-2))/D345,NA())","v":0.99999819029609072},{"$f":"IF(Calcoli!$B$13>=3,(Calcoli!$B$9*Calcoli!$B$10*Calcoli!$B$11*B345^(Calcoli!$B$13-3))/D345,NA())","v":{"$error":"#N/A"}},{"$f":"IF(Calcoli!$B$13=3,(E345+F345*2+G345*3),IF(Calcoli!$B$13=2,(E345+F345*2),E345))","v":1.9999981902960908},26.586428230139106,{"$f":"(B345-(Calcoli!$B$8/B345))/'Acido - Base forte'!$F$1","v":-0.89125093813274125},{"$f":"(B345-(Calcoli!$B$8/B345))/'Acido - Base forte'!$F$2","v":-0.89125093813274125}]
[{"$f":"IF((I346*'Acido - Base forte'!$F$3*'Acido - Base forte'!$F$1)/'Acido - Base forte'!$F$2>0,IF((I346*'Acido - Base forte'!$F$3*'Acido - Base forte'!$F$1)/'Acido - Base forte'!$F$2<1.8*Calcoli!$B$13*('Acido - Base forte'!$F$1*'Acido - Base forte'!$F$3/'Acido - Base forte'!$F$2),I346*'Acido - Base forte'!$F$3*'Acido - Base forte'!$F$1/'Acido - Base forte'!$F$2,NA()),NA())","v":{"$error":"#N/A"}},9.9999999999986485E-14,13.000000000000057,{"$f":"IF(Calcoli!$B$13=3,B346^Calcoli!$B$13+Calcoli!$B$9*B346^2+Calcoli!$B$9*Calcoli!$B$10*B346+Calcoli!$B$9*Calcoli!$B$10*Calcoli!$B$11,IF(Calcoli!$B$13=2,B346^Calcoli!$B$13+Calcoli!$B$9*B346+Calcoli!$B$9*Calcoli!$B$10,B346^Calcoli!$B$13+Calcoli!$B$9))","v":4.6500075000000003E-10},{"$f":"(Calcoli!$B$9*B346^(Calcoli!$B$13-1))/D346","v":1.6129006243536136E-6},{"$f":"IF(Calcoli!$B$13>=2, (Calcoli!$B$9*Calcoli!$B$10*B346^(Calcoli!$B$13-2))/D346,NA())","v":0.99999838709937561},{"$f":"IF(Calcoli!$B$13>=3,(Calcoli!$B$9*Calcoli!$B$10*Calcoli!$B$11*B346^(Calcoli!$B$13-3))/D346,NA())","v":{"$error":"#N/A"}},{"$f":"IF(Calcoli!$B$13=3,(E346+F346*2+G346*3),IF(Calcoli!$B$13=2,(E346+F346*2),E346))","v":1.9999983870993756},3468307436336.5273,{"$f":"(B346-(Calcoli!$B$8/B346))/'Acido - Base forte'!$F$1","v":-0.99999999999913503},{"$f":"(B346-(Calcoli!$B$8/B346))/'Acido - Base forte'!$F$2","v":-0.99999999999913503}]
[{"$f":"IF((I347*'Acido - Base forte'!$F$3*'Acido - Base forte'!$F$1)/'Acido - Base forte'!$F$2>0,IF((I347*'Acido - Base forte'!$F$3*'Acido - Base forte'!$F$1)/'Acido - Base forte'!$F$2<1.8*Calcoli!$B$13*('Acido - Base forte'!$F$1*'Acido - Base forte'!$F$3/'Acido - Base forte'!$F$2),I347*'Acido - Base forte'!$F$3*'Acido - Base forte'!$F$1/'Acido - Base forte'!$F$2,NA()),NA())","v":{"$error":"#N/A"}},8.9125093813362547E-14,13.050000000000058,{"$f":"IF(Calcoli!$B$13=3,B347^Calcoli!$B$13+Calcoli!$B$9*B347^2+Calcoli!$B$9*Calcoli!$B$10*B347+Calcoli!$B$9*Calcoli!$B$10*Calcoli!$B$11,IF(Calcoli!$B$13=2,B347^Calcoli!$B$13+Calcoli!$B$9*B347+Calcoli!$B$9*Calcoli!$B$10,B347^Calcoli!$B$13+Calcoli!$B$9))","v":4.6500066843820363E-10},{"$f":"(Calcoli!$B$9*B347^(Calcoli!$B$13-1))/D347","v":1.4374994467111209E-6},{"$f":"IF(Calcoli!$B$13>=2, (Calcoli!$B$9*Calcoli!$B$10*B347^(Calcoli!$B$13-2))/D347,NA())","v":0.99999856250055319},{"$f":"IF(Calcoli!$B$13>=3,(Calcoli!$B$9*Calcoli!$B$10*Calcoli!$B$11*B347^(Calcoli!$B$13-3))/D347,NA())","v":{"$error":"#N/A"}},{"$f":"IF(Calcoli!$B$13=3,(E347+F347*2+G347*3),IF(Calcoli!$B$13=2,(E347+F347*2),E347))","v":1.9999985625005532},-25.586433090641744,{"$f":"(B347-(Calcoli!$B$8/B347))/'Acido - Base forte'!$F$1","v":-1.1220184543012233},{"$f":"(B347-(Calcoli!$B$8/B347))/'Acido - Base forte'!$F$2","v":-1.1220184543012233}]
[{"$f":"IF((I348*'Acido - Base forte'!$F$3*'Acido - Base forte'!$F$1)/'Acido - Base forte'!$F$2>0,IF((I348*'Acido - Base forte'!$F$3*'Acido - Base forte'!$F$1)/'Acido - Base forte'!$F$2<1.8*Calcoli!$B$13*('Acido - Base forte'!$F$1*'Acido - Base forte'!$F$3/'Acido - Base forte'!$F$2),I348*'Acido - Base forte'!$F$3*'Acido - Base forte'!$F$1/'Acido - Base forte'!$F$2,NA()),NA())","v":{"$error":"#N/A"}},7.9432823472417203E-14,13.100000000000058,{"$f":"IF(Calcoli!$B$13=3,B348^Calcoli!$B$13+Calcoli!$B$9*B348^2+Calcoli!$B$9*Calcoli!$B$10*B348+Calcoli!$B$9*Calcoli!$B$10*Calcoli!$B$11,IF(Calcoli!$B$13=2,B348^Calcoli!$B$13+Calcoli!$B$9*B348+Calcoli!$B$9*Calcoli!$B$10,B348^Calcoli!$B$13+Calcoli!$B$9))","v":4.6500059574617607E-10},{"$f":"(Calcoli!$B$9*B348^(Calcoli!$B$13-1))/D348","v":1.2811729307295799E-6},{"$f":"IF(Calcoli!$B$13>=2, (Calcoli!$B$9*Calcoli!$B$10*B348^(Calcoli!$B$13-2))/D348,NA())","v":0.99999871882706926},{"$f":"IF(Calcoli!$B$13>=3,(Calcoli!$B$9*Calcoli!$B$10*Calcoli!$B$11*B348^(Calcoli!$B$13-3))/D348,NA())","v":{"$error":"#N/A"}},{"$f":"IF(Calcoli!$B$13=3,(E348+F348*2+G348*3),IF(Calcoli!$B$13=2,(E348+F348*2),E348))","v":1.9999987188270691},-12.586343333574046,{"$f":"(B348-(Calcoli!$B$8/B348))/'Acido - Base forte'!$F$1","v":-1.2589254117935462},{"$f":"(B348-(Calcoli!$B$8/B348))/'Acido - Base forte'!$F$2","v":-1.2589254117935462}]
[{"$f":"IF((I349*'Acido - Base forte'!$F$3*'Acido - Base forte'!$F$1)/'Acido - Base forte'!$F$2>0,IF((I349*'Acido - Base forte'!$F$3*'Acido - Base forte'!$F$1)/'Acido - Base forte'!$F$2<1.8*Calcoli!$B$13*('Acido - Base forte'!$F$1*'Acido - Base forte'!$F$3/'Acido - Base forte'!$F$2),I349*'Acido - Base forte'!$F$3*'Acido - Base forte'!$F$1/'Acido - Base forte'!$F$2,NA()),NA())","v":{"$error":"#N/A"}},7.0794578438404074E-14,13.150000000000059,{"$f":"IF(Calcoli!$B$13=3,B349^Calcoli!$B$13+Calcoli!$B$9*B349^2+Calcoli!$B$9*Calcoli!$B$10*B349+Calcoli!$B$9*Calcoli!$B$10*Calcoli!$B$11,IF(Calcoli!$B$13=2,B349^Calcoli!$B$13+Calcoli!$B$9*B349+Calcoli!$B$9*Calcoli!$B$10,B349^Calcoli!$B$13+Calcoli!$B$9))","v":4.6500053095933831E-10},{"$f":"(Calcoli!$B$9*B349^(Calcoli!$B$13-1))/D349","v":1.1418467355136417E-6},{"$f":"IF(Calcoli!$B$13>=2, (Calcoli!$B$9*Calcoli!$B$10*B349^(Calcoli!$B$13-2))/D349,NA())","v":0.99999885815326439},{"$f":"IF(Calcoli!$B$13>=3,(Calcoli!$B$9*Calcoli!$B$10*Calcoli!$B$11*B349^(Calcoli!$B$13-3))/D349,NA())","v":{"$error":"#N/A"}},{"$f":"IF(Calcoli!$B$13=3,(E349+F349*2+G349*3),IF(Calcoli!$B$13=2,(E349+F349*2),E349))","v":1.9999988581532644},-8.2720626213557313,{"$f":"(B349-(Calcoli!$B$8/B349))/'Acido - Base forte'!$F$1","v":-1.4125375446222401},{"$f":"(B349-(Calcoli!$B$8/B349))/'Acido - Base forte'!$F$2","v":-1.4125375446222401}]
[{"$f":"IF((I350*'Acido - Base forte'!$F$3*'Acido - Base forte'!$F$1)/'Acido - Base forte'!$F$2>0,IF((I350*'Acido - Base forte'!$F$3*'Acido - Base forte'!$F$1)/'Acido - Base forte'!$F$2<1.8*Calcoli!$B$13*('Acido - Base forte'!$F$1*'Acido - Base forte'!$F$3/'Acido - Base forte'!$F$2),I350*'Acido - Base forte'!$F$3*'Acido - Base forte'!$F$1/'Acido - Base forte'!$F$2,NA()),NA())","v":{"$error":"#N/A"}},6.3095734448010468E-14,13.20000000000006,{"$f":"IF(Calcoli!$B$13=3,B350^Calcoli!$B$13+Calcoli!$B$9*B350^2+Calcoli!$B$9*Calcoli!$B$10*B350+Calcoli!$B$9*Calcoli!$B$10*Calcoli!$B$11,IF(Calcoli!$B$13=2,B350^Calcoli!$B$13+Calcoli!$B$9*B350+Calcoli!$B$9*Calcoli!$B$10,B350^Calcoli!$B$13+Calcoli!$B$9))","v":4.6500047321800837E-10},{"$f":"(Calcoli!$B$9*B350^(Calcoli!$B$13-1))/D350","v":1.0176721006006749E-6},{"$f":"IF(Calcoli!$B$13>=2, (Calcoli!$B$9*Calcoli!$B$10*B350^(Calcoli!$B$13-2))/D350,NA())","v":0.99999898232789941},{"$f":"IF(Calcoli!$B$13>=3,(Calcoli!$B$9*Calcoli!$B$10*Calcoli!$B$11*B350^(Calcoli!$B$13-3))/D350,NA())","v":{"$error":"#N/A"}},{"$f":"IF(Calcoli!$B$13=3,(E350+F350*2+G350*3),IF(Calcoli!$B$13=2,(E350+F350*2),E350))","v":1.9999989823278994},-6.1291398515113489,{"$f":"(B350-(Calcoli!$B$8/B350))/'Acido - Base forte'!$F$1","v":-1.584893192460705},{"$f":"(B350-(Calcoli!$B$8/B350))/'Acido - Base forte'!$F$2","v":-1.584893192460705}]
[{"$f":"IF((I351*'Acido - Base forte'!$F$3*'Acido - Base forte'!$F$1)/'Acido - Base forte'!$F$2>0,IF((I351*'Acido - Base forte'!$F$3*'Acido - Base forte'!$F$1)/'Acido - Base forte'!$F$2<1.8*Calcoli!$B$13*('Acido - Base forte'!$F$1*'Acido - Base forte'!$F$3/'Acido - Base forte'!$F$2),I351*'Acido - Base forte'!$F$3*'Acido - Base forte'!$F$1/'Acido - Base forte'!$F$2,NA()),NA())","v":{"$error":"#N/A"}},5.6234132519026847E-14,13.25000000000006,{"$f":"IF(Calcoli!$B$13=3,B351^Calcoli!$B$13+Calcoli!$B$9*B351^2+Calcoli!$B$9*Calcoli!$B$10*B351+Calcoli!$B$9*Calcoli!$B$10*Calcoli!$B$11,IF(Calcoli!$B$13=2,B351^Calcoli!$B$13+Calcoli!$B$9*B351+Calcoli!$B$9*Calcoli!$B$10,B351^Calcoli!$B$13+Calcoli!$B$9))","v":4.6500042175599392E-10},{"$f":"(Calcoli!$B$9*B351^(Calcoli!$B$13-1))/D351","v":9.0700131475152761E-7},{"$f":"IF(Calcoli!$B$13>=2, (Calcoli!$B$9*Calcoli!$B$10*B351^(Calcoli!$B$13-2))/D351,NA())","v":0.99999909299868517},{"$f":"IF(Calcoli!$B$13>=3,(Calcoli!$B$9*Calcoli!$B$10*Calcoli!$B$11*B351^(Calcoli!$B$13-3))/D351,NA())","v":{"$error":"#N/A"}},{"$f":"IF(Calcoli!$B$13=3,(E351+F351*2+G351*3),IF(Calcoli!$B$13=2,(E351+F351*2),E351))","v":1.9999990929986851},-4.8546556086455332,{"$f":"(B351-(Calcoli!$B$8/B351))/'Acido - Base forte'!$F$1","v":-1.7782794100386152},{"$f":"(B351-(Calcoli!$B$8/B351))/'Acido - Base forte'!$F$2","v":-1.7782794100386152}]
[{"$f":"IF((I352*'Acido - Base forte'!$F$3*'Acido - Base forte'!$F$1)/'Acido - Base forte'!$F$2>0,IF((I352*'Acido - Base forte'!$F$3*'Acido - Base forte'!$F$1)/'Acido - Base forte'!$F$2<1.8*Calcoli!$B$13*('Acido - Base forte'!$F$1*'Acido - Base forte'!$F$3/'Acido - Base forte'!$F$2),I352*'Acido - Base forte'!$F$3*'Acido - Base forte'!$F$1/'Acido - Base forte'!$F$2,NA()),NA())","v":{"$error":"#N/A"}},5.0118723362720063E-14,13.300000000000061,{"$f":"IF(Calcoli!$B$13=3,B352^Calcoli!$B$13+Calcoli!$B$9*B352^2+Calcoli!$B$9*Calcoli!$B$10*B352+Calcoli!$B$9*Calcoli!$B$10*Calcoli!$B$11,IF(Calcoli!$B$13=2,B352^Calcoli!$B$13+Calcoli!$B$9*B352+Calcoli!$B$9*Calcoli!$B$10,B352^Calcoli!$B$13+Calcoli!$B$9))","v":4.650003758904252E-10},{"$f":"(Calcoli!$B$9*B352^(Calcoli!$B$13-1))/D352","v":8.0836585239444405E-7},{"$f":"IF(Calcoli!$B$13>=2, (Calcoli!$B$9*Calcoli!$B$10*B352^(Calcoli!$B$13-2))/D352,NA())","v":0.99999919163414763},{"$f":"IF(Calcoli!$B$13>=3,(Calcoli!$B$9*Calcoli!$B$10*Calcoli!$B$11*B352^(Calcoli!$B$13-3))/D352,NA())","v":{"$error":"#N/A"}},{"$f":"IF(Calcoli!$B$13=3,(E352+F352*2+G352*3),IF(Calcoli!$B$13=2,(E352+F352*2),E352))","v":1.9999991916341477},-4.0142799003985248,{"$f":"(B352-(Calcoli!$B$8/B352))/'Acido - Base forte'!$F$1","v":-1.9952623149686635},{"$f":"(B352-(Calcoli!$B$8/B352))/'Acido - Base forte'!$F$2","v":-1.9952623149686635}]
[{"$f":"IF((I353*'Acido - Base forte'!$F$3*'Acido - Base forte'!$F$1)/'Acido - Base forte'!$F$2>0,IF((I353*'Acido - Base forte'!$F$3*'Acido - Base forte'!$F$1)/'Acido - Base forte'!$F$2<1.8*Calcoli!$B$13*('Acido - Base forte'!$F$1*'Acido - Base forte'!$F$3/'Acido - Base forte'!$F$2),I353*'Acido - Base forte'!$F$3*'Acido - Base forte'!$F$1/'Acido - Base forte'!$F$2,NA()),NA())","v":{"$error":"#N/A"}},4.4668359215089791E-14,13.350000000000062,{"$f":"IF(Calcoli!$B$13=3,B353^Calcoli!$B$13+Calcoli!$B$9*B353^2+Calcoli!$B$9*Calcoli!$B$10*B353+Calcoli!$B$9*Calcoli!$B$10*Calcoli!$B$11,IF(Calcoli!$B$13=2,B353^Calcoli!$B$13+Calcoli!$B$9*B353+Calcoli!$B$9*Calcoli!$B$10,B353^Calcoli!$B$13+Calcoli!$B$9))","v":4.6500033501269411E-10},{"$f":"(Calcoli!$B$9*B353^(Calcoli!$B$13-1))/D353","v":7.2045688763649573E-7},{"$f":"IF(Calcoli!$B$13>=2, (Calcoli!$B$9*Calcoli!$B$10*B353^(Calcoli!$B$13-2))/D353,NA())","v":0.99999927954311241},{"$f":"IF(Calcoli!$B$13>=3,(Calcoli!$B$9*Calcoli!$B$10*Calcoli!$B$11*B353^(Calcoli!$B$13-3))/D353,NA())","v":{"$error":"#N/A"}},{"$f":"IF(Calcoli!$B$13=3,(E353+F353*2+G353*3),IF(Calcoli!$B$13=2,(E353+F353*2),E353))","v":1.9999992795431125},-3.4218520102197281,{"$f":"(B353-(Calcoli!$B$8/B353))/'Acido - Base forte'!$F$1","v":-2.2387211385682195},{"$f":"(B353-(Calcoli!$B$8/B353))/'Acido - Base forte'!$F$2","v":-2.2387211385682195}]
[{"$f":"IF((I354*'Acido - Base forte'!$F$3*'Acido - Base forte'!$F$1)/'Acido - Base forte'!$F$2>0,IF((I354*'Acido - Base forte'!$F$3*'Acido - Base forte'!$F$1)/'Acido - Base forte'!$F$2<1.8*Calcoli!$B$13*('Acido - Base forte'!$F$1*'Acido - Base forte'!$F$3/'Acido - Base forte'!$F$2),I354*'Acido - Base forte'!$F$3*'Acido - Base forte'!$F$1/'Acido - Base forte'!$F$2,NA()),NA())","v":{"$error":"#N/A"}},{"$f":"10^-C354","v":3.9810717055343931E-14},13.400000000000063,{"$f":"IF(Calcoli!$B$13=3,B354^Calcoli!$B$13+Calcoli!$B$9*B354^2+Calcoli!$B$9*Calcoli!$B$10*B354+Calcoli!$B$9*Calcoli!$B$10*Calcoli!$B$11,IF(Calcoli!$B$13=2,B354^Calcoli!$B$13+Calcoli!$B$9*B354+Calcoli!$B$9*Calcoli!$B$10,B354^Calcoli!$B$13+Calcoli!$B$9))","v":4.6500029858037789E-10},{"$f":"(Calcoli!$B$9*B354^(Calcoli!$B$13-1))/D354","v":6.421079272994664E-7},{"$f":"IF(Calcoli!$B$13>=2, (Calcoli!$B$9*Calcoli!$B$10*B354^(Calcoli!$B$13-2))/D354,NA())","v":0.99999935789207273},{"$f":"IF(Calcoli!$B$13>=3,(Calcoli!$B$9*Calcoli!$B$10*Calcoli!$B$11*B354^(Calcoli!$B$13-3))/D354,NA())","v":{"$error":"#N/A"}},{"$f":"IF(Calcoli!$B$13=3,(E354+F354*2+G354*3),IF(Calcoli!$B$13=2,(E354+F354*2),E354))","v":1.9999993578920727},{"$f":"(H354-J354)/(1+K354)","v":-2.9842756012412353},{"$f":"(B354-(Calcoli!$B$8/B354))/'Acido - Base forte'!$F$1","v":-2.5118864315095473},{"$f":"(B354-(Calcoli!$B$8/B354))/'Acido - Base forte'!$F$2","v":-2.5118864315095473}]
[{"$f":"IF((I355*'Acido - Base forte'!$F$3*'Acido - Base forte'!$F$1)/'Acido - Base forte'!$F$2>0,IF((I355*'Acido - Base forte'!$F$3*'Acido - Base forte'!$F$1)/'Acido - Base forte'!$F$2<1.8*Calcoli!$B$13*('Acido - Base forte'!$F$1*'Acido - Base forte'!$F$3/'Acido - Base forte'!$F$2),I355*'Acido - Base forte'!$F$3*'Acido - Base forte'!$F$1/'Acido - Base forte'!$F$2,NA()),NA())","v":{"$error":"#N/A"}},3.548133892335227E-14,13.450000000000063,{"$f":"IF(Calcoli!$B$13=3,B355^Calcoli!$B$13+Calcoli!$B$9*B355^2+Calcoli!$B$9*Calcoli!$B$10*B355+Calcoli!$B$9*Calcoli!$B$10*Calcoli!$B$11,IF(Calcoli!$B$13=2,B355^Calcoli!$B$13+Calcoli!$B$9*B355+Calcoli!$B$9*Calcoli!$B$10,B355^Calcoli!$B$13+Calcoli!$B$9))","v":4.6500026611004194E-10},{"$f":"(Calcoli!$B$9*B355^(Calcoli!$B$13-1))/D355","v":5.7227933255024689E-7},{"$f":"IF(Calcoli!$B$13>=2, (Calcoli!$B$9*Calcoli!$B$10*B355^(Calcoli!$B$13-2))/D355,NA())","v":0.99999942772066741},{"$f":"IF(Calcoli!$B$13>=3,(Calcoli!$B$9*Calcoli!$B$10*Calcoli!$B$11*B355^(Calcoli!$B$13-3))/D355,NA())","v":{"$error":"#N/A"}},{"$f":"IF(Calcoli!$B$13=3,(E355+F355*2+G355*3),IF(Calcoli!$B$13=2,(E355+F355*2),E355))","v":1.9999994277206674},-2.6498171953442409,{"$f":"(B355-(Calcoli!$B$8/B355))/'Acido - Base forte'!$F$1","v":-2.8183829312645181},{"$f":"(B355-(Calcoli!$B$8/B355))/'Acido - Base forte'!$F$2","v":-2.8183829312645181}]
[{"$f":"IF((I356*'Acido - Base forte'!$F$3*'Acido - Base forte'!$F$1)/'Acido - Base forte'!$F$2>0,IF((I356*'Acido - Base forte'!$F$3*'Acido - Base forte'!$F$1)/'Acido - Base forte'!$F$2<1.8*Calcoli!$B$13*('Acido - Base forte'!$F$1*'Acido - Base forte'!$F$3/'Acido - Base forte'!$F$2),I356*'Acido - Base forte'!$F$3*'Acido - Base forte'!$F$1/'Acido - Base forte'!$F$2,NA()),NA())","v":{"$error":"#N/A"}},3.1622776601678999E-14,13.500000000000064,{"$f":"IF(Calcoli!$B$13=3,B356^Calcoli!$B$13+Calcoli!$B$9*B356^2+Calcoli!$B$9*Calcoli!$B$10*B356+Calcoli!$B$9*Calcoli!$B$10*Calcoli!$B$11,IF(Calcoli!$B$13=2,B356^Calcoli!$B$13+Calcoli!$B$9*B356+Calcoli!$B$9*Calcoli!$B$10,B356^Calcoli!$B$13+Calcoli!$B$9))","v":4.6500023717082453E-10},{"$f":"(Calcoli!$B$9*B356^(Calcoli!$B$13-1))/D356","v":5.1004452375249944E-7},{"$f":"IF(Calcoli!$B$13>=2, (Calcoli!$B$9*Calcoli!$B$10*B356^(Calcoli!$B$13-2))/D356,NA())","v":0.99999948995547616},{"$f":"IF(Calcoli!$B$13>=3,(Calcoli!$B$9*Calcoli!$B$10*Calcoli!$B$11*B356^(Calcoli!$B$13-3))/D356,NA())","v":{"$error":"#N/A"}},{"$f":"IF(Calcoli!$B$13=3,(E356+F356*2+G356*3),IF(Calcoli!$B$13=2,(E356+F356*2),E356))","v":1.9999994899554761},-2.3874256508396967,{"$f":"(B356-(Calcoli!$B$8/B356))/'Acido - Base forte'!$F$1","v":-3.1622776601685421},{"$f":"(B356-(Calcoli!$B$8/B356))/'Acido - Base forte'!$F$2","v":-3.1622776601685421}]
[{"$f":"IF((I357*'Acido - Base forte'!$F$3*'Acido - Base forte'!$F$1)/'Acido - Base forte'!$F$2>0,IF((I357*'Acido - Base forte'!$F$3*'Acido - Base forte'!$F$1)/'Acido - Base forte'!$F$2<1.8*Calcoli!$B$13*('Acido - Base forte'!$F$1*'Acido - Base forte'!$F$3/'Acido - Base forte'!$F$2),I357*'Acido - Base forte'!$F$3*'Acido - Base forte'!$F$1/'Acido - Base forte'!$F$2,NA()),NA())","v":{"$error":"#N/A"}},2.8183829312640273E-14,13.550000000000065,{"$f":"IF(Calcoli!$B$13=3,B357^Calcoli!$B$13+Calcoli!$B$9*B357^2+Calcoli!$B$9*Calcoli!$B$10*B357+Calcoli!$B$9*Calcoli!$B$10*Calcoli!$B$11,IF(Calcoli!$B$13=2,B357^Calcoli!$B$13+Calcoli!$B$9*B357+Calcoli!$B$9*Calcoli!$B$10,B357^Calcoli!$B$13+Calcoli!$B$9))","v":4.6500021137871983E-10},{"$f":"(Calcoli!$B$9*B357^(Calcoli!$B$13-1))/D357","v":4.5457768549839318E-7},{"$f":"IF(Calcoli!$B$13>=2, (Calcoli!$B$9*Calcoli!$B$10*B357^(Calcoli!$B$13-2))/D357,NA())","v":0.99999954542231451},{"$f":"IF(Calcoli!$B$13>=3,(Calcoli!$B$9*Calcoli!$B$10*Calcoli!$B$11*B357^(Calcoli!$B$13-3))/D357,NA())","v":{"$error":"#N/A"}},{"$f":"IF(Calcoli!$B$13=3,(E357+F357*2+G357*3),IF(Calcoli!$B$13=2,(E357+F357*2),E357))","v":1.9999995454223145},-2.1773319896750229,{"$f":"(B357-(Calcoli!$B$8/B357))/'Acido - Base forte'!$F$1","v":-3.5481338923360095},{"$f":"(B357-(Calcoli!$B$8/B357))/'Acido - Base forte'!$F$2","v":-3.5481338923360095}]
[{"$f":"IF((I358*'Acido - Base forte'!$F$3*'Acido - Base forte'!$F$1)/'Acido - Base forte'!$F$2>0,IF((I358*'Acido - Base forte'!$F$3*'Acido - Base forte'!$F$1)/'Acido - Base forte'!$F$2<1.8*Calcoli!$B$13*('Acido - Base forte'!$F$1*'Acido - Base forte'!$F$3/'Acido - Base forte'!$F$2),I358*'Acido - Base forte'!$F$3*'Acido - Base forte'!$F$1/'Acido - Base forte'!$F$2,NA()),NA())","v":{"$error":"#N/A"}},2.5118864315091926E-14,13.600000000000065,{"$f":"IF(Calcoli!$B$13=3,B358^Calcoli!$B$13+Calcoli!$B$9*B358^2+Calcoli!$B$9*Calcoli!$B$10*B358+Calcoli!$B$9*Calcoli!$B$10*Calcoli!$B$11,IF(Calcoli!$B$13=2,B358^Calcoli!$B$13+Calcoli!$B$9*B358+Calcoli!$B$9*Calcoli!$B$10,B358^Calcoli!$B$13+Calcoli!$B$9))","v":4.6500018839148238E-10},{"$f":"(Calcoli!$B$9*B358^(Calcoli!$B$13-1))/D358","v":4.0514280868330133E-7},{"$f":"IF(Calcoli!$B$13>=2, (Calcoli!$B$9*Calcoli!$B$10*B358^(Calcoli!$B$13-2))/D358,NA())","v":0.99999959485719125},{"$f":"IF(Calcoli!$B$13>=3,(Calcoli!$B$9*Calcoli!$B$10*Calcoli!$B$11*B358^(Calcoli!$B$13-3))/D358,NA())","v":{"$error":"#N/A"}},{"$f":"IF(Calcoli!$B$13=3,(E358+F358*2+G358*3),IF(Calcoli!$B$13=2,(E358+F358*2),E358))","v":1.9999995948571911},-2.0063493572753415,{"$f":"(B358-(Calcoli!$B$8/B358))/'Acido - Base forte'!$F$1","v":-3.9810717055353351},{"$f":"(B358-(Calcoli!$B$8/B358))/'Acido - Base forte'!$F$2","v":-3.9810717055353351}]
[{"$f":"IF((I359*'Acido - Base forte'!$F$3*'Acido - Base forte'!$F$1)/'Acido - Base forte'!$F$2>0,IF((I359*'Acido - Base forte'!$F$3*'Acido - Base forte'!$F$1)/'Acido - Base forte'!$F$2<1.8*Calcoli!$B$13*('Acido - Base forte'!$F$1*'Acido - Base forte'!$F$3/'Acido - Base forte'!$F$2),I359*'Acido - Base forte'!$F$3*'Acido - Base forte'!$F$1/'Acido - Base forte'!$F$2,NA()),NA())","v":{"$error":"#N/A"}},2.2387211385679953E-14,13.650000000000066,{"$f":"IF(Calcoli!$B$13=3,B359^Calcoli!$B$13+Calcoli!$B$9*B359^2+Calcoli!$B$9*Calcoli!$B$10*B359+Calcoli!$B$9*Calcoli!$B$10*Calcoli!$B$11,IF(Calcoli!$B$13=2,B359^Calcoli!$B$13+Calcoli!$B$9*B359+Calcoli!$B$9*Calcoli!$B$10,B359^Calcoli!$B$13+Calcoli!$B$9))","v":4.650001679040854E-10},{"$f":"(Calcoli!$B$9*B359^(Calcoli!$B$13-1))/D359","v":3.6108392422609373E-7},{"$f":"IF(Calcoli!$B$13>=2, (Calcoli!$B$9*Calcoli!$B$10*B359^(Calcoli!$B$13-2))/D359,NA())","v":0.99999963891607579},{"$f":"IF(Calcoli!$B$13>=3,(Calcoli!$B$9*Calcoli!$B$10*Calcoli!$B$11*B359^(Calcoli!$B$13-3))/D359,NA())","v":{"$error":"#N/A"}},{"$f":"IF(Calcoli!$B$13=3,(E359+F359*2+G359*3),IF(Calcoli!$B$13=2,(E359+F359*2),E359))","v":1.9999996389160759},-1.8653422621770135,{"$f":"(B359-(Calcoli!$B$8/B359))/'Acido - Base forte'!$F$1","v":-4.4668359215100946},{"$f":"(B359-(Calcoli!$B$8/B359))/'Acido - Base forte'!$F$2","v":-4.4668359215100946}]
[{"$f":"IF((I360*'Acido - Base forte'!$F$3*'Acido - Base forte'!$F$1)/'Acido - Base forte'!$F$2>0,IF((I360*'Acido - Base forte'!$F$3*'Acido - Base forte'!$F$1)/'Acido - Base forte'!$F$2<1.8*Calcoli!$B$13*('Acido - Base forte'!$F$1*'Acido - Base forte'!$F$3/'Acido - Base forte'!$F$2),I360*'Acido - Base forte'!$F$3*'Acido - Base forte'!$F$1/'Acido - Base forte'!$F$2,NA()),NA())","v":{"$error":"#N/A"}},1.9952623149685666E-14,13.700000000000067,{"$f":"IF(Calcoli!$B$13=3,B360^Calcoli!$B$13+Calcoli!$B$9*B360^2+Calcoli!$B$9*Calcoli!$B$10*B360+Calcoli!$B$9*Calcoli!$B$10*Calcoli!$B$11,IF(Calcoli!$B$13=2,B360^Calcoli!$B$13+Calcoli!$B$9*B360+Calcoli!$B$9*Calcoli!$B$10,B360^Calcoli!$B$13+Calcoli!$B$9))","v":4.650001496446736E-10},{"$f":"(Calcoli!$B$9*B360^(Calcoli!$B$13-1))/D360","v":3.2181639884845704E-7},{"$f":"IF(Calcoli!$B$13>=2, (Calcoli!$B$9*Calcoli!$B$10*B360^(Calcoli!$B$13-2))/D360,NA())","v":0.99999967818360114},{"$f":"IF(Calcoli!$B$13>=3,(Calcoli!$B$9*Calcoli!$B$10*Calcoli!$B$11*B360^(Calcoli!$B$13-3))/D360,NA())","v":{"$error":"#N/A"}},{"$f":"IF(Calcoli!$B$13=3,(E360+F360*2+G360*3),IF(Calcoli!$B$13=2,(E360+F360*2),E360))","v":1.9999996781836011},-1.7477804443225,{"$f":"(B360-(Calcoli!$B$8/B360))/'Acido - Base forte'!$F$1","v":-5.0118723362733082},{"$f":"(B360-(Calcoli!$B$8/B360))/'Acido - Base forte'!$F$2","v":-5.0118723362733082}]
[{"$f":"IF((I361*'Acido - Base forte'!$F$3*'Acido - Base forte'!$F$1)/'Acido - Base forte'!$F$2>0,IF((I361*'Acido - Base forte'!$F$3*'Acido - Base forte'!$F$1)/'Acido - Base forte'!$F$2<1.8*Calcoli!$B$13*('Acido - Base forte'!$F$1*'Acido - Base forte'!$F$3/'Acido - Base forte'!$F$2),I361*'Acido - Base forte'!$F$3*'Acido - Base forte'!$F$1/'Acido - Base forte'!$F$2,NA()),NA())","v":{"$error":"#N/A"}},1.7782794100386384E-14,{"$f":"C360+0.05","v":13.750000000000068},{"$f":"IF(Calcoli!$B$13=3,B361^Calcoli!$B$13+Calcoli!$B$9*B361^2+Calcoli!$B$9*Calcoli!$B$10*B361+Calcoli!$B$9*Calcoli!$B$10*Calcoli!$B$11,IF(Calcoli!$B$13=2,B361^Calcoli!$B$13+Calcoli!$B$9*B361+Calcoli!$B$9*Calcoli!$B$10,B361^Calcoli!$B$13+Calcoli!$B$9))","v":4.6500013337095575E-10},{"$f":"(Calcoli!$B$9*B361^(Calcoli!$B$13-1))/D361","v":2.8681917741838722E-7},{"$f":"IF(Calcoli!$B$13>=2, (Calcoli!$B$9*Calcoli!$B$10*B361^(Calcoli!$B$13-2))/D361,NA())","v":0.99999971318082259},{"$f":"IF(Calcoli!$B$13>=3,(Calcoli!$B$9*Calcoli!$B$10*Calcoli!$B$11*B361^(Calcoli!$B$13-3))/D361,NA())","v":{"$error":"#N/A"}},{"$f":"IF(Calcoli!$B$13=3,(E361+F361*2+G361*3),IF(Calcoli!$B$13=2,(E361+F361*2),E361))","v":1.9999997131808227},-1.648871201799933,{"$f":"(B361-(Calcoli!$B$8/B361))/'Acido - Base forte'!$F$1","v":-5.6234132519042124},{"$f":"(B361-(Calcoli!$B$8/B361))/'Acido - Base forte'!$F$2","v":-5.6234132519042124}]
[{"$f":"IF((I362*'Acido - Base forte'!$F$3*'Acido - Base forte'!$F$1)/'Acido - Base forte'!$F$2>0,IF((I362*'Acido - Base forte'!$F$3*'Acido - Base forte'!$F$1)/'Acido - Base forte'!$F$2<1.8*Calcoli!$B$13*('Acido - Base forte'!$F$1*'Acido - Base forte'!$F$3/'Acido - Base forte'!$F$2),I362*'Acido - Base forte'!$F$3*'Acido - Base forte'!$F$1/'Acido - Base forte'!$F$2,NA()),NA())","v":{"$error":"#N/A"}},1.5848931924608607E-14,13.800000000000068,{"$f":"IF(Calcoli!$B$13=3,B362^Calcoli!$B$13+Calcoli!$B$9*B362^2+Calcoli!$B$9*Calcoli!$B$10*B362+Calcoli!$B$9*Calcoli!$B$10*Calcoli!$B$11,IF(Calcoli!$B$13=2,B362^Calcoli!$B$13+Calcoli!$B$9*B362+Calcoli!$B$9*Calcoli!$B$10,B362^Calcoli!$B$13+Calcoli!$B$9))","v":4.6500011886698943E-10},{"$f":"(Calcoli!$B$9*B362^(Calcoli!$B$13-1))/D362","v":2.5562786892225669E-7},{"$f":"IF(Calcoli!$B$13>=2, (Calcoli!$B$9*Calcoli!$B$10*B362^(Calcoli!$B$13-2))/D362,NA())","v":0.99999974437213113},{"$f":"IF(Calcoli!$B$13>=3,(Calcoli!$B$9*Calcoli!$B$10*Calcoli!$B$11*B362^(Calcoli!$B$13-3))/D362,NA())","v":{"$error":"#N/A"}},{"$f":"IF(Calcoli!$B$13=3,(E362+F362*2+G362*3),IF(Calcoli!$B$13=2,(E362+F362*2),E362))","v":1.9999997443721311},-1.5650170914028227,{"$f":"(B362-(Calcoli!$B$8/B362))/'Acido - Base forte'!$F$1","v":-6.3095734448027789},{"$f":"(B362-(Calcoli!$B$8/B362))/'Acido - Base forte'!$F$2","v":-6.3095734448027789}]
[{"$f":"IF((I363*'Acido - Base forte'!$F$3*'Acido - Base forte'!$F$1)/'Acido - Base forte'!$F$2>0,IF((I363*'Acido - Base forte'!$F$3*'Acido - Base forte'!$F$1)/'Acido - Base forte'!$F$2<1.8*Calcoli!$B$13*('Acido - Base forte'!$F$1*'Acido - Base forte'!$F$3/'Acido - Base forte'!$F$2),I363*'Acido - Base forte'!$F$3*'Acido - Base forte'!$F$1/'Acido - Base forte'!$F$2,NA()),NA())","v":{"$error":"#N/A"}},1.4125375446225247E-14,13.850000000000069,{"$f":"IF(Calcoli!$B$13=3,B363^Calcoli!$B$13+Calcoli!$B$9*B363^2+Calcoli!$B$9*Calcoli!$B$10*B363+Calcoli!$B$9*Calcoli!$B$10*Calcoli!$B$11,IF(Calcoli!$B$13=2,B363^Calcoli!$B$13+Calcoli!$B$9*B363+Calcoli!$B$9*Calcoli!$B$10,B363^Calcoli!$B$13+Calcoli!$B$9))","v":4.6500010594031586E-10},{"$f":"(Calcoli!$B$9*B363^(Calcoli!$B$13-1))/D363","v":2.2782858432356377E-7},{"$f":"IF(Calcoli!$B$13>=2, (Calcoli!$B$9*Calcoli!$B$10*B363^(Calcoli!$B$13-2))/D363,NA())","v":0.99999977217141567},{"$f":"IF(Calcoli!$B$13>=3,(Calcoli!$B$9*Calcoli!$B$10*Calcoli!$B$11*B363^(Calcoli!$B$13-3))/D363,NA())","v":{"$error":"#N/A"}},{"$f":"IF(Calcoli!$B$13=3,(E363+F363*2+G363*3),IF(Calcoli!$B$13=2,(E363+F363*2),E363))","v":1.9999997721714156},-1.4934650176429762,{"$f":"(B363-(Calcoli!$B$8/B363))/'Acido - Base forte'!$F$1","v":-7.0794578438423894},{"$f":"(B363-(Calcoli!$B$8/B363))/'Acido - Base forte'!$F$2","v":-7.0794578438423894}]
[{"$f":"IF((I364*'Acido - Base forte'!$F$3*'Acido - Base forte'!$F$1)/'Acido - Base forte'!$F$2>0,IF((I364*'Acido - Base forte'!$F$3*'Acido - Base forte'!$F$1)/'Acido - Base forte'!$F$2<1.8*Calcoli!$B$13*('Acido - Base forte'!$F$1*'Acido - Base forte'!$F$3/'Acido - Base forte'!$F$2),I364*'Acido - Base forte'!$F$3*'Acido - Base forte'!$F$1/'Acido - Base forte'!$F$2,NA()),NA())","v":{"$error":"#N/A"}},1.2589254117939585E-14,13.90000000000007,{"$f":"IF(Calcoli!$B$13=3,B364^Calcoli!$B$13+Calcoli!$B$9*B364^2+Calcoli!$B$9*Calcoli!$B$10*B364+Calcoli!$B$9*Calcoli!$B$10*Calcoli!$B$11,IF(Calcoli!$B$13=2,B364^Calcoli!$B$13+Calcoli!$B$9*B364+Calcoli!$B$9*Calcoli!$B$10,B364^Calcoli!$B$13+Calcoli!$B$9))","v":4.6500009441940586E-10},{"$f":"(Calcoli!$B$9*B364^(Calcoli!$B$13-1))/D364","v":2.0305244454291551E-7},{"$f":"IF(Calcoli!$B$13>=2, (Calcoli!$B$9*Calcoli!$B$10*B364^(Calcoli!$B$13-2))/D364,NA())","v":0.99999979694755547},{"$f":"IF(Calcoli!$B$13>=3,(Calcoli!$B$9*Calcoli!$B$10*Calcoli!$B$11*B364^(Calcoli!$B$13-3))/D364,NA())","v":{"$error":"#N/A"}},{"$f":"IF(Calcoli!$B$13=3,(E364+F364*2+G364*3),IF(Calcoli!$B$13=2,(E364+F364*2),E364))","v":1.9999997969475556},-1.4320722745976684,{"$f":"(B364-(Calcoli!$B$8/B364))/'Acido - Base forte'!$F$1","v":-7.9432823472440059},{"$f":"(B364-(Calcoli!$B$8/B364))/'Acido - Base forte'!$F$2","v":-7.9432823472440059}]
[{"$f":"IF((I365*'Acido - Base forte'!$F$3*'Acido - Base forte'!$F$1)/'Acido - Base forte'!$F$2>0,IF((I365*'Acido - Base forte'!$F$3*'Acido - Base forte'!$F$1)/'Acido - Base forte'!$F$2<1.8*Calcoli!$B$13*('Acido - Base forte'!$F$1*'Acido - Base forte'!$F$3/'Acido - Base forte'!$F$2),I365*'Acido - Base forte'!$F$3*'Acido - Base forte'!$F$1/'Acido - Base forte'!$F$2,NA()),NA())","v":{"$error":"#N/A"}},1.122018454301778E-14,13.95000000000007,{"$f":"IF(Calcoli!$B$13=3,B365^Calcoli!$B$13+Calcoli!$B$9*B365^2+Calcoli!$B$9*Calcoli!$B$10*B365+Calcoli!$B$9*Calcoli!$B$10*Calcoli!$B$11,IF(Calcoli!$B$13=2,B365^Calcoli!$B$13+Calcoli!$B$9*B365+Calcoli!$B$9*Calcoli!$B$10,B365^Calcoli!$B$13+Calcoli!$B$9))","v":4.6500008415138405E-10},{"$f":"(Calcoli!$B$9*B365^(Calcoli!$B$13-1))/D365","v":1.8097068568537563E-7},{"$f":"IF(Calcoli!$B$13>=2, (Calcoli!$B$9*Calcoli!$B$10*B365^(Calcoli!$B$13-2))/D365,NA())","v":0.99999981902931434},{"$f":"IF(Calcoli!$B$13>=3,(Calcoli!$B$9*Calcoli!$B$10*Calcoli!$B$11*B365^(Calcoli!$B$13-3))/D365,NA())","v":{"$error":"#N/A"}},{"$f":"IF(Calcoli!$B$13=3,(E365+F365*2+G365*3),IF(Calcoli!$B$13=2,(E365+F365*2),E365))","v":1.9999998190293145},-1.3791464470303991,{"$f":"(B365-(Calcoli!$B$8/B365))/'Acido - Base forte'!$F$1","v":-8.9125093813388165},{"$f":"(B365-(Calcoli!$B$8/B365))/'Acido - Base forte'!$F$2","v":-8.9125093813388165}]
[{"$f":"IF((I366*'Acido - Base forte'!$F$3*'Acido - Base forte'!$F$1)/'Acido - Base forte'!$F$2>0,IF((I366*'Acido - Base forte'!$F$3*'Acido - Base forte'!$F$1)/'Acido - Base forte'!$F$2<1.8*Calcoli!$B$13*('Acido - Base forte'!$F$1*'Acido - Base forte'!$F$3/'Acido - Base forte'!$F$2),I366*'Acido - Base forte'!$F$3*'Acido - Base forte'!$F$1/'Acido - Base forte'!$F$2,NA()),NA())","v":{"$error":"#N/A"}},9.9999999999983528E-15,14.000000000000071,{"$f":"IF(Calcoli!$B$13=3,B366^Calcoli!$B$13+Calcoli!$B$9*B366^2+Calcoli!$B$9*Calcoli!$B$10*B366+Calcoli!$B$9*Calcoli!$B$10*Calcoli!$B$11,IF(Calcoli!$B$13=2,B366^Calcoli!$B$13+Calcoli!$B$9*B366+Calcoli!$B$9*Calcoli!$B$10,B366^Calcoli!$B$13+Calcoli!$B$9))","v":4.6500007500000002E-10},{"$f":"(Calcoli!$B$9*B366^(Calcoli!$B$13-1))/D366","v":1.6129029656605462E-7},{"$f":"IF(Calcoli!$B$13>=2, (Calcoli!$B$9*Calcoli!$B$10*B366^(Calcoli!$B$13-2))/D366,NA())","v":0.99999983870970344},{"$f":"IF(Calcoli!$B$13>=3,(Calcoli!$B$9*Calcoli!$B$10*Calcoli!$B$11*B366^(Calcoli!$B$13-3))/D366,NA())","v":{"$error":"#N/A"}},{"$f":"IF(Calcoli!$B$13=3,(E366+F366*2+G366*3),IF(Calcoli!$B$13=2,(E366+F366*2),E366))","v":1.9999998387097035},-1.3333333154121318,{"$f":"(B366-(Calcoli!$B$8/B366))/'Acido - Base forte'!$F$1","v":-10.000000000001547},{"$f":"(B366-(Calcoli!$B$8/B366))/'Acido - Base forte'!$F$2","v":-10.000000000001547}]